BEGIN:VCALENDAR
VERSION:2.0
PRODID:-//Passamaquoddy Lodge - ECPv6.15.17.1//NONSGML v1.0//EN
CALSCALE:GREGORIAN
METHOD:PUBLISH
X-ORIGINAL-URL:https://www.passamaquoddylodge.ca
X-WR-CALDESC:Events for Passamaquoddy Lodge
REFRESH-INTERVAL;VALUE=DURATION:PT1H
X-Robots-Tag:noindex
X-PUBLISHED-TTL:PT1H
BEGIN:VTIMEZONE
TZID:America/Halifax
BEGIN:DAYLIGHT
TZOFFSETFROM:-0400
TZOFFSETTO:-0300
TZNAME:ADT
DTSTART:20230312T060000
END:DAYLIGHT
BEGIN:STANDARD
TZOFFSETFROM:-0300
TZOFFSETTO:-0400
TZNAME:AST
DTSTART:20231105T050000
END:STANDARD
BEGIN:DAYLIGHT
TZOFFSETFROM:-0400
TZOFFSETTO:-0300
TZNAME:ADT
DTSTART:20240310T060000
END:DAYLIGHT
BEGIN:STANDARD
TZOFFSETFROM:-0300
TZOFFSETTO:-0400
TZNAME:AST
DTSTART:20241103T050000
END:STANDARD
BEGIN:DAYLIGHT
TZOFFSETFROM:-0400
TZOFFSETTO:-0300
TZNAME:ADT
DTSTART:20250309T060000
END:DAYLIGHT
BEGIN:STANDARD
TZOFFSETFROM:-0300
TZOFFSETTO:-0400
TZNAME:AST
DTSTART:20251102T050000
END:STANDARD
END:VTIMEZONE
BEGIN:VEVENT
DTSTART;TZID=America/Halifax:20241002T100000
DTEND;TZID=America/Halifax:20241002T110000
DTSTAMP:20260423T220639
CREATED:20240927T145120Z
LAST-MODIFIED:20241205T173813Z
UID:10000419-1727863200-1727866800@www.passamaquoddylodge.ca
SUMMARY:Men's Coffee
DESCRIPTION:
URL:https://www.passamaquoddylodge.ca/event/mens-coffee-bbq/2024-10-02/
CATEGORIES:Activity
END:VEVENT
BEGIN:VEVENT
DTSTART;TZID=America/Halifax:20241002T133000
DTEND;TZID=America/Halifax:20241002T143000
DTSTAMP:20260423T220639
CREATED:20241003T172214Z
LAST-MODIFIED:20241003T172214Z
UID:10001606-1727875800-1727879400@www.passamaquoddylodge.ca
SUMMARY:Thanksgiving Social
DESCRIPTION:
URL:https://www.passamaquoddylodge.ca/event/thanksgiving-social/
END:VEVENT
END:VCALENDAR