BEGIN:VCALENDAR
VERSION:2.0
PRODID:-//Passamaquoddy Lodge - ECPv6.15.17.1//NONSGML v1.0//EN
CALSCALE:GREGORIAN
METHOD:PUBLISH
X-WR-CALNAME:Passamaquoddy Lodge
X-ORIGINAL-URL:https://www.passamaquoddylodge.ca
X-WR-CALDESC:Events for Passamaquoddy Lodge
REFRESH-INTERVAL;VALUE=DURATION:PT1H
X-Robots-Tag:noindex
X-PUBLISHED-TTL:PT1H
BEGIN:VTIMEZONE
TZID:America/Halifax
BEGIN:DAYLIGHT
TZOFFSETFROM:-0400
TZOFFSETTO:-0300
TZNAME:ADT
DTSTART:20230312T060000
END:DAYLIGHT
BEGIN:STANDARD
TZOFFSETFROM:-0300
TZOFFSETTO:-0400
TZNAME:AST
DTSTART:20231105T050000
END:STANDARD
BEGIN:DAYLIGHT
TZOFFSETFROM:-0400
TZOFFSETTO:-0300
TZNAME:ADT
DTSTART:20240310T060000
END:DAYLIGHT
BEGIN:STANDARD
TZOFFSETFROM:-0300
TZOFFSETTO:-0400
TZNAME:AST
DTSTART:20241103T050000
END:STANDARD
BEGIN:DAYLIGHT
TZOFFSETFROM:-0400
TZOFFSETTO:-0300
TZNAME:ADT
DTSTART:20250309T060000
END:DAYLIGHT
BEGIN:STANDARD
TZOFFSETFROM:-0300
TZOFFSETTO:-0400
TZNAME:AST
DTSTART:20251102T050000
END:STANDARD
END:VTIMEZONE
BEGIN:VEVENT
DTSTART;VALUE=DATE:20241007
DTEND;VALUE=DATE:20241008
DTSTAMP:20260425T125022
CREATED:20241003T172639Z
LAST-MODIFIED:20241003T172656Z
UID:10001668-1728259200-1728345599@www.passamaquoddylodge.ca
SUMMARY:Happy Birthday Doreen Garrish!
DESCRIPTION:
URL:https://www.passamaquoddylodge.ca/event/happy-birthday-dorren-garrish/
END:VEVENT
BEGIN:VEVENT
DTSTART;TZID=America/Halifax:20241007T100000
DTEND;TZID=America/Halifax:20241007T110000
DTSTAMP:20260425T125022
CREATED:20240929T121925Z
LAST-MODIFIED:20250402T230833Z
UID:10000026-1728295200-1728298800@www.passamaquoddylodge.ca
SUMMARY:Bingo
DESCRIPTION:
URL:https://www.passamaquoddylodge.ca/event/bingo/2024-10-07/
CATEGORIES:Activity
END:VEVENT
BEGIN:VEVENT
DTSTART;TZID=America/Halifax:20241007T110000
DTEND;TZID=America/Halifax:20241007T120000
DTSTAMP:20260425T125022
CREATED:20240929T122617Z
LAST-MODIFIED:20240929T130455Z
UID:10000286-1728298800-1728302400@www.passamaquoddylodge.ca
SUMMARY:Fitness Class
DESCRIPTION:
URL:https://www.passamaquoddylodge.ca/event/fitness-class/2024-10-07/
CATEGORIES:Activity
END:VEVENT
BEGIN:VEVENT
DTSTART;TZID=America/Halifax:20241007T133000
DTEND;TZID=America/Halifax:20241007T143000
DTSTAMP:20260425T125022
CREATED:20241003T172939Z
LAST-MODIFIED:20241003T172939Z
UID:10001669-1728307800-1728311400@www.passamaquoddylodge.ca
SUMMARY:Room Visit
DESCRIPTION:
URL:https://www.passamaquoddylodge.ca/event/room-visit/
END:VEVENT
END:VCALENDAR