BEGIN:VCALENDAR
VERSION:2.0
PRODID:-//Passamaquoddy Lodge - ECPv6.15.17.1//NONSGML v1.0//EN
CALSCALE:GREGORIAN
METHOD:PUBLISH
X-WR-CALNAME:Passamaquoddy Lodge
X-ORIGINAL-URL:https://www.passamaquoddylodge.ca
X-WR-CALDESC:Events for Passamaquoddy Lodge
REFRESH-INTERVAL;VALUE=DURATION:PT1H
X-Robots-Tag:noindex
X-PUBLISHED-TTL:PT1H
BEGIN:VTIMEZONE
TZID:America/Halifax
BEGIN:DAYLIGHT
TZOFFSETFROM:-0400
TZOFFSETTO:-0300
TZNAME:ADT
DTSTART:20230312T060000
END:DAYLIGHT
BEGIN:STANDARD
TZOFFSETFROM:-0300
TZOFFSETTO:-0400
TZNAME:AST
DTSTART:20231105T050000
END:STANDARD
BEGIN:DAYLIGHT
TZOFFSETFROM:-0400
TZOFFSETTO:-0300
TZNAME:ADT
DTSTART:20240310T060000
END:DAYLIGHT
BEGIN:STANDARD
TZOFFSETFROM:-0300
TZOFFSETTO:-0400
TZNAME:AST
DTSTART:20241103T050000
END:STANDARD
BEGIN:DAYLIGHT
TZOFFSETFROM:-0400
TZOFFSETTO:-0300
TZNAME:ADT
DTSTART:20250309T060000
END:DAYLIGHT
BEGIN:STANDARD
TZOFFSETFROM:-0300
TZOFFSETTO:-0400
TZNAME:AST
DTSTART:20251102T050000
END:STANDARD
END:VTIMEZONE
BEGIN:VEVENT
DTSTART;TZID=America/Halifax:20241008T103000
DTEND;TZID=America/Halifax:20241008T113000
DTSTAMP:20260425T125559
CREATED:20241003T170050Z
LAST-MODIFIED:20250107T151900Z
UID:10000744-1728383400-1728387000@www.passamaquoddylodge.ca
SUMMARY:Java Time
DESCRIPTION:
URL:https://www.passamaquoddylodge.ca/event/java-memory-2/2024-10-08/
CATEGORIES:Activity
END:VEVENT
BEGIN:VEVENT
DTSTART;TZID=America/Halifax:20241008T133000
DTEND;TZID=America/Halifax:20241008T143000
DTSTAMP:20260425T125559
CREATED:20241003T173627Z
LAST-MODIFIED:20241003T173627Z
UID:10001674-1728394200-1728397800@www.passamaquoddylodge.ca
SUMMARY:Homemade Pizza
DESCRIPTION:
URL:https://www.passamaquoddylodge.ca/event/homemade-pizza/
END:VEVENT
END:VCALENDAR