BEGIN:VCALENDAR
VERSION:2.0
PRODID:-//Passamaquoddy Lodge - ECPv6.15.17.1//NONSGML v1.0//EN
CALSCALE:GREGORIAN
METHOD:PUBLISH
X-WR-CALNAME:Passamaquoddy Lodge
X-ORIGINAL-URL:https://www.passamaquoddylodge.ca
X-WR-CALDESC:Events for Passamaquoddy Lodge
REFRESH-INTERVAL;VALUE=DURATION:PT1H
X-Robots-Tag:noindex
X-PUBLISHED-TTL:PT1H
BEGIN:VTIMEZONE
TZID:America/Halifax
BEGIN:DAYLIGHT
TZOFFSETFROM:-0400
TZOFFSETTO:-0300
TZNAME:ADT
DTSTART:20230312T060000
END:DAYLIGHT
BEGIN:STANDARD
TZOFFSETFROM:-0300
TZOFFSETTO:-0400
TZNAME:AST
DTSTART:20231105T050000
END:STANDARD
BEGIN:DAYLIGHT
TZOFFSETFROM:-0400
TZOFFSETTO:-0300
TZNAME:ADT
DTSTART:20240310T060000
END:DAYLIGHT
BEGIN:STANDARD
TZOFFSETFROM:-0300
TZOFFSETTO:-0400
TZNAME:AST
DTSTART:20241103T050000
END:STANDARD
BEGIN:DAYLIGHT
TZOFFSETFROM:-0400
TZOFFSETTO:-0300
TZNAME:ADT
DTSTART:20250309T060000
END:DAYLIGHT
BEGIN:STANDARD
TZOFFSETFROM:-0300
TZOFFSETTO:-0400
TZNAME:AST
DTSTART:20251102T050000
END:STANDARD
END:VTIMEZONE
BEGIN:VEVENT
DTSTART;TZID=America/Halifax:20241122T100000
DTEND;TZID=America/Halifax:20241122T230000
DTSTAMP:20260423T133023
CREATED:20240929T121111Z
LAST-MODIFIED:20241205T181146Z
UID:10001014-1732269600-1732316400@www.passamaquoddylodge.ca
SUMMARY:Baking
DESCRIPTION:
URL:https://www.passamaquoddylodge.ca/event/baking/2024-11-22/
CATEGORIES:Activity
END:VEVENT
BEGIN:VEVENT
DTSTART;TZID=America/Halifax:20241122T133000
DTEND;TZID=America/Halifax:20241122T143000
DTSTAMP:20260423T133023
CREATED:20241003T180013Z
LAST-MODIFIED:20241102T160557Z
UID:10002636-1732282200-1732285800@www.passamaquoddylodge.ca
SUMMARY:HaPpY HoUr CaRt!
DESCRIPTION:
URL:https://www.passamaquoddylodge.ca/event/happy-hour-cart/2024-11-22/
END:VEVENT
END:VCALENDAR