BEGIN:VCALENDAR
VERSION:2.0
PRODID:-//Passamaquoddy Lodge - ECPv6.15.17.1//NONSGML v1.0//EN
CALSCALE:GREGORIAN
METHOD:PUBLISH
X-ORIGINAL-URL:https://www.passamaquoddylodge.ca
X-WR-CALDESC:Events for Passamaquoddy Lodge
REFRESH-INTERVAL;VALUE=DURATION:PT1H
X-Robots-Tag:noindex
X-PUBLISHED-TTL:PT1H
BEGIN:VTIMEZONE
TZID:America/Halifax
BEGIN:DAYLIGHT
TZOFFSETFROM:-0400
TZOFFSETTO:-0300
TZNAME:ADT
DTSTART:20230312T060000
END:DAYLIGHT
BEGIN:STANDARD
TZOFFSETFROM:-0300
TZOFFSETTO:-0400
TZNAME:AST
DTSTART:20231105T050000
END:STANDARD
BEGIN:DAYLIGHT
TZOFFSETFROM:-0400
TZOFFSETTO:-0300
TZNAME:ADT
DTSTART:20240310T060000
END:DAYLIGHT
BEGIN:STANDARD
TZOFFSETFROM:-0300
TZOFFSETTO:-0400
TZNAME:AST
DTSTART:20241103T050000
END:STANDARD
BEGIN:DAYLIGHT
TZOFFSETFROM:-0400
TZOFFSETTO:-0300
TZNAME:ADT
DTSTART:20250309T060000
END:DAYLIGHT
BEGIN:STANDARD
TZOFFSETFROM:-0300
TZOFFSETTO:-0400
TZNAME:AST
DTSTART:20251102T050000
END:STANDARD
END:VTIMEZONE
BEGIN:VEVENT
DTSTART;TZID=America/Halifax:20241202T100000
DTEND;TZID=America/Halifax:20241202T110000
DTSTAMP:20260425T160510
CREATED:20240929T121925Z
LAST-MODIFIED:20250402T230833Z
UID:10000033-1733133600-1733137200@www.passamaquoddylodge.ca
SUMMARY:Bingo
DESCRIPTION:
URL:https://www.passamaquoddylodge.ca/event/bingo/2024-12-02/
CATEGORIES:Activity
END:VEVENT
BEGIN:VEVENT
DTSTART;TZID=America/Halifax:20241202T110000
DTEND;TZID=America/Halifax:20241202T120000
DTSTAMP:20260425T160510
CREATED:20241205T153855Z
LAST-MODIFIED:20241205T153855Z
UID:10003042-1733137200-1733140800@www.passamaquoddylodge.ca
SUMMARY:Tai Chi
DESCRIPTION:
URL:https://www.passamaquoddylodge.ca/event/tai-chi-4/
END:VEVENT
BEGIN:VEVENT
DTSTART;TZID=America/Halifax:20241202T133000
DTEND;TZID=America/Halifax:20241202T143000
DTSTAMP:20260425T160510
CREATED:20241205T154000Z
LAST-MODIFIED:20241205T154000Z
UID:10003044-1733146200-1733149800@www.passamaquoddylodge.ca
SUMMARY:Easy Sew
DESCRIPTION:
URL:https://www.passamaquoddylodge.ca/event/easy-sew-3/2024-12-02/
END:VEVENT
BEGIN:VEVENT
DTSTART;TZID=America/Halifax:20241202T150000
DTEND;TZID=America/Halifax:20241202T170000
DTSTAMP:20260425T160510
CREATED:20241205T154104Z
LAST-MODIFIED:20241205T154104Z
UID:10003046-1733151600-1733158800@www.passamaquoddylodge.ca
SUMMARY:Christmas Movie
DESCRIPTION:
URL:https://www.passamaquoddylodge.ca/event/christmas-movie/2024-12-02/
END:VEVENT
END:VCALENDAR