BEGIN:VCALENDAR
VERSION:2.0
PRODID:-//Passamaquoddy Lodge - ECPv6.15.17.1//NONSGML v1.0//EN
CALSCALE:GREGORIAN
METHOD:PUBLISH
X-ORIGINAL-URL:https://www.passamaquoddylodge.ca
X-WR-CALDESC:Events for Passamaquoddy Lodge
REFRESH-INTERVAL;VALUE=DURATION:PT1H
X-Robots-Tag:noindex
X-PUBLISHED-TTL:PT1H
BEGIN:VTIMEZONE
TZID:America/Halifax
BEGIN:DAYLIGHT
TZOFFSETFROM:-0400
TZOFFSETTO:-0300
TZNAME:ADT
DTSTART:20230312T060000
END:DAYLIGHT
BEGIN:STANDARD
TZOFFSETFROM:-0300
TZOFFSETTO:-0400
TZNAME:AST
DTSTART:20231105T050000
END:STANDARD
BEGIN:DAYLIGHT
TZOFFSETFROM:-0400
TZOFFSETTO:-0300
TZNAME:ADT
DTSTART:20240310T060000
END:DAYLIGHT
BEGIN:STANDARD
TZOFFSETFROM:-0300
TZOFFSETTO:-0400
TZNAME:AST
DTSTART:20241103T050000
END:STANDARD
BEGIN:DAYLIGHT
TZOFFSETFROM:-0400
TZOFFSETTO:-0300
TZNAME:ADT
DTSTART:20250309T060000
END:DAYLIGHT
BEGIN:STANDARD
TZOFFSETFROM:-0300
TZOFFSETTO:-0400
TZNAME:AST
DTSTART:20251102T050000
END:STANDARD
END:VTIMEZONE
BEGIN:VEVENT
DTSTART;TZID=America/Halifax:20241209T100000
DTEND;TZID=America/Halifax:20241209T110000
DTSTAMP:20260423T233428
CREATED:20240929T121925Z
LAST-MODIFIED:20250402T230833Z
UID:10000034-1733738400-1733742000@www.passamaquoddylodge.ca
SUMMARY:Bingo
DESCRIPTION:
URL:https://www.passamaquoddylodge.ca/event/bingo/2024-12-09/
CATEGORIES:Activity
END:VEVENT
BEGIN:VEVENT
DTSTART;TZID=America/Halifax:20241209T110000
DTEND;TZID=America/Halifax:20241209T120000
DTSTAMP:20260423T233428
CREATED:20241205T153533Z
LAST-MODIFIED:20241205T153626Z
UID:10002646-1733742000-1733745600@www.passamaquoddylodge.ca
SUMMARY:Fitness Class
DESCRIPTION:
URL:https://www.passamaquoddylodge.ca/event/fitness-class-3/
CATEGORIES:Activity
END:VEVENT
BEGIN:VEVENT
DTSTART;TZID=America/Halifax:20241209T133000
DTEND;TZID=America/Halifax:20241209T143000
DTSTAMP:20260423T233428
CREATED:20241205T171433Z
LAST-MODIFIED:20241205T171433Z
UID:10003050-1733751000-1733754600@www.passamaquoddylodge.ca
SUMMARY:Music with Laurie
DESCRIPTION:
URL:https://www.passamaquoddylodge.ca/event/music-with-laurie-3/
END:VEVENT
BEGIN:VEVENT
DTSTART;TZID=America/Halifax:20241209T150000
DTEND;TZID=America/Halifax:20241209T170000
DTSTAMP:20260423T233428
CREATED:20241205T154104Z
LAST-MODIFIED:20241205T154104Z
UID:10003047-1733756400-1733763600@www.passamaquoddylodge.ca
SUMMARY:Christmas Movie
DESCRIPTION:
URL:https://www.passamaquoddylodge.ca/event/christmas-movie/2024-12-09/
END:VEVENT
END:VCALENDAR