BEGIN:VCALENDAR
VERSION:2.0
PRODID:-//Passamaquoddy Lodge - ECPv6.15.17.1//NONSGML v1.0//EN
CALSCALE:GREGORIAN
METHOD:PUBLISH
X-ORIGINAL-URL:https://www.passamaquoddylodge.ca
X-WR-CALDESC:Events for Passamaquoddy Lodge
REFRESH-INTERVAL;VALUE=DURATION:PT1H
X-Robots-Tag:noindex
X-PUBLISHED-TTL:PT1H
BEGIN:VTIMEZONE
TZID:America/Halifax
BEGIN:DAYLIGHT
TZOFFSETFROM:-0400
TZOFFSETTO:-0300
TZNAME:ADT
DTSTART:20230312T060000
END:DAYLIGHT
BEGIN:STANDARD
TZOFFSETFROM:-0300
TZOFFSETTO:-0400
TZNAME:AST
DTSTART:20231105T050000
END:STANDARD
BEGIN:DAYLIGHT
TZOFFSETFROM:-0400
TZOFFSETTO:-0300
TZNAME:ADT
DTSTART:20240310T060000
END:DAYLIGHT
BEGIN:STANDARD
TZOFFSETFROM:-0300
TZOFFSETTO:-0400
TZNAME:AST
DTSTART:20241103T050000
END:STANDARD
BEGIN:DAYLIGHT
TZOFFSETFROM:-0400
TZOFFSETTO:-0300
TZNAME:ADT
DTSTART:20250309T060000
END:DAYLIGHT
BEGIN:STANDARD
TZOFFSETFROM:-0300
TZOFFSETTO:-0400
TZNAME:AST
DTSTART:20251102T050000
END:STANDARD
END:VTIMEZONE
BEGIN:VEVENT
DTSTART;VALUE=DATE:20241210
DTEND;VALUE=DATE:20241211
DTSTAMP:20260423T192935
CREATED:20241205T173340Z
LAST-MODIFIED:20241205T173340Z
UID:10003059-1733788800-1733875199@www.passamaquoddylodge.ca
SUMMARY:Getting ready for Christmas Market
DESCRIPTION:
URL:https://www.passamaquoddylodge.ca/event/getting-ready-for-christmas-market/
END:VEVENT
BEGIN:VEVENT
DTSTART;TZID=America/Halifax:20241210T103000
DTEND;TZID=America/Halifax:20241210T113000
DTSTAMP:20260423T192935
CREATED:20241003T170050Z
LAST-MODIFIED:20250107T151900Z
UID:10000753-1733826600-1733830200@www.passamaquoddylodge.ca
SUMMARY:Java Time
DESCRIPTION:
URL:https://www.passamaquoddylodge.ca/event/java-memory-2/2024-12-10/
CATEGORIES:Activity
END:VEVENT
END:VCALENDAR