BEGIN:VCALENDAR
VERSION:2.0
PRODID:-//Passamaquoddy Lodge - ECPv6.15.17.1//NONSGML v1.0//EN
CALSCALE:GREGORIAN
METHOD:PUBLISH
X-ORIGINAL-URL:https://www.passamaquoddylodge.ca
X-WR-CALDESC:Events for Passamaquoddy Lodge
REFRESH-INTERVAL;VALUE=DURATION:PT1H
X-Robots-Tag:noindex
X-PUBLISHED-TTL:PT1H
BEGIN:VTIMEZONE
TZID:America/Halifax
BEGIN:DAYLIGHT
TZOFFSETFROM:-0400
TZOFFSETTO:-0300
TZNAME:ADT
DTSTART:20230312T060000
END:DAYLIGHT
BEGIN:STANDARD
TZOFFSETFROM:-0300
TZOFFSETTO:-0400
TZNAME:AST
DTSTART:20231105T050000
END:STANDARD
BEGIN:DAYLIGHT
TZOFFSETFROM:-0400
TZOFFSETTO:-0300
TZNAME:ADT
DTSTART:20240310T060000
END:DAYLIGHT
BEGIN:STANDARD
TZOFFSETFROM:-0300
TZOFFSETTO:-0400
TZNAME:AST
DTSTART:20241103T050000
END:STANDARD
BEGIN:DAYLIGHT
TZOFFSETFROM:-0400
TZOFFSETTO:-0300
TZNAME:ADT
DTSTART:20250309T060000
END:DAYLIGHT
BEGIN:STANDARD
TZOFFSETFROM:-0300
TZOFFSETTO:-0400
TZNAME:AST
DTSTART:20251102T050000
END:STANDARD
END:VTIMEZONE
BEGIN:VEVENT
DTSTART;VALUE=DATE:20241216
DTEND;VALUE=DATE:20241217
DTSTAMP:20260422T192336
CREATED:20241205T171805Z
LAST-MODIFIED:20241205T171805Z
UID:10003054-1734307200-1734393599@www.passamaquoddylodge.ca
SUMMARY:Happy Birthday Agnes
DESCRIPTION:
URL:https://www.passamaquoddylodge.ca/event/happy-birthday-agnes/
END:VEVENT
BEGIN:VEVENT
DTSTART;TZID=America/Halifax:20241216T100000
DTEND;TZID=America/Halifax:20241216T110000
DTSTAMP:20260422T192336
CREATED:20240929T121925Z
LAST-MODIFIED:20250402T230833Z
UID:10000035-1734343200-1734346800@www.passamaquoddylodge.ca
SUMMARY:Bingo
DESCRIPTION:
URL:https://www.passamaquoddylodge.ca/event/bingo/2024-12-16/
CATEGORIES:Activity
END:VEVENT
BEGIN:VEVENT
DTSTART;TZID=America/Halifax:20241216T110000
DTEND;TZID=America/Halifax:20241216T120000
DTSTAMP:20260422T192336
CREATED:20241205T171609Z
LAST-MODIFIED:20241205T171609Z
UID:10003051-1734346800-1734350400@www.passamaquoddylodge.ca
SUMMARY:Fitness
DESCRIPTION:
URL:https://www.passamaquoddylodge.ca/event/fitness/2024-12-16/
END:VEVENT
BEGIN:VEVENT
DTSTART;TZID=America/Halifax:20241216T133000
DTEND;TZID=America/Halifax:20241216T143000
DTSTAMP:20260422T192336
CREATED:20241205T171721Z
LAST-MODIFIED:20241205T171721Z
UID:10003053-1734355800-1734359400@www.passamaquoddylodge.ca
SUMMARY:Easy Sew
DESCRIPTION:
URL:https://www.passamaquoddylodge.ca/event/easy-sew-4/
END:VEVENT
BEGIN:VEVENT
DTSTART;TZID=America/Halifax:20241216T150000
DTEND;TZID=America/Halifax:20241216T170000
DTSTAMP:20260422T192336
CREATED:20241205T154104Z
LAST-MODIFIED:20241205T154104Z
UID:10003048-1734361200-1734368400@www.passamaquoddylodge.ca
SUMMARY:Christmas Movie
DESCRIPTION:
URL:https://www.passamaquoddylodge.ca/event/christmas-movie/2024-12-16/
END:VEVENT
END:VCALENDAR