BEGIN:VCALENDAR
VERSION:2.0
PRODID:-//Passamaquoddy Lodge - ECPv6.15.17.1//NONSGML v1.0//EN
CALSCALE:GREGORIAN
METHOD:PUBLISH
X-ORIGINAL-URL:https://www.passamaquoddylodge.ca
X-WR-CALDESC:Events for Passamaquoddy Lodge
REFRESH-INTERVAL;VALUE=DURATION:PT1H
X-Robots-Tag:noindex
X-PUBLISHED-TTL:PT1H
BEGIN:VTIMEZONE
TZID:America/Halifax
BEGIN:DAYLIGHT
TZOFFSETFROM:-0400
TZOFFSETTO:-0300
TZNAME:ADT
DTSTART:20240310T060000
END:DAYLIGHT
BEGIN:STANDARD
TZOFFSETFROM:-0300
TZOFFSETTO:-0400
TZNAME:AST
DTSTART:20241103T050000
END:STANDARD
BEGIN:DAYLIGHT
TZOFFSETFROM:-0400
TZOFFSETTO:-0300
TZNAME:ADT
DTSTART:20250309T060000
END:DAYLIGHT
BEGIN:STANDARD
TZOFFSETFROM:-0300
TZOFFSETTO:-0400
TZNAME:AST
DTSTART:20251102T050000
END:STANDARD
BEGIN:DAYLIGHT
TZOFFSETFROM:-0400
TZOFFSETTO:-0300
TZNAME:ADT
DTSTART:20260308T060000
END:DAYLIGHT
BEGIN:STANDARD
TZOFFSETFROM:-0300
TZOFFSETTO:-0400
TZNAME:AST
DTSTART:20261101T050000
END:STANDARD
END:VTIMEZONE
BEGIN:VEVENT
DTSTART;TZID=America/Halifax:20250121T103000
DTEND;TZID=America/Halifax:20250121T113000
DTSTAMP:20260421T025855
CREATED:20241003T170050Z
LAST-MODIFIED:20250107T151900Z
UID:10000759-1737455400-1737459000@www.passamaquoddylodge.ca
SUMMARY:Java Time
DESCRIPTION:
URL:https://www.passamaquoddylodge.ca/event/java-memory-2/2025-01-21/
CATEGORIES:Activity
END:VEVENT
BEGIN:VEVENT
DTSTART;TZID=America/Halifax:20250121T133000
DTEND;TZID=America/Halifax:20250121T143000
DTSTAMP:20260421T025855
CREATED:20250107T151958Z
LAST-MODIFIED:20250107T151958Z
UID:10003126-1737466200-1737469800@www.passamaquoddylodge.ca
SUMMARY:Homemade Pizza
DESCRIPTION:
URL:https://www.passamaquoddylodge.ca/event/homemade-pizza-3/
END:VEVENT
END:VCALENDAR