BEGIN:VCALENDAR
VERSION:2.0
PRODID:-//Passamaquoddy Lodge - ECPv6.15.17.1//NONSGML v1.0//EN
CALSCALE:GREGORIAN
METHOD:PUBLISH
X-ORIGINAL-URL:https://www.passamaquoddylodge.ca
X-WR-CALDESC:Events for Passamaquoddy Lodge
REFRESH-INTERVAL;VALUE=DURATION:PT1H
X-Robots-Tag:noindex
X-PUBLISHED-TTL:PT1H
BEGIN:VTIMEZONE
TZID:America/Halifax
BEGIN:DAYLIGHT
TZOFFSETFROM:-0400
TZOFFSETTO:-0300
TZNAME:ADT
DTSTART:20240310T060000
END:DAYLIGHT
BEGIN:STANDARD
TZOFFSETFROM:-0300
TZOFFSETTO:-0400
TZNAME:AST
DTSTART:20241103T050000
END:STANDARD
BEGIN:DAYLIGHT
TZOFFSETFROM:-0400
TZOFFSETTO:-0300
TZNAME:ADT
DTSTART:20250309T060000
END:DAYLIGHT
BEGIN:STANDARD
TZOFFSETFROM:-0300
TZOFFSETTO:-0400
TZNAME:AST
DTSTART:20251102T050000
END:STANDARD
BEGIN:DAYLIGHT
TZOFFSETFROM:-0400
TZOFFSETTO:-0300
TZNAME:ADT
DTSTART:20260308T060000
END:DAYLIGHT
BEGIN:STANDARD
TZOFFSETFROM:-0300
TZOFFSETTO:-0400
TZNAME:AST
DTSTART:20261101T050000
END:STANDARD
END:VTIMEZONE
BEGIN:VEVENT
DTSTART;TZID=America/Halifax:20250225T103000
DTEND;TZID=America/Halifax:20250225T113000
DTSTAMP:20260423T054948
CREATED:20250201T201514Z
LAST-MODIFIED:20250201T201515Z
UID:10000764-1740479400-1740483000@www.passamaquoddylodge.ca
SUMMARY:Java Social
DESCRIPTION:
URL:https://www.passamaquoddylodge.ca/event/java-memory-2-2/2025-02-25/
CATEGORIES:Activity
END:VEVENT
BEGIN:VEVENT
DTSTART;TZID=America/Halifax:20250225T130000
DTEND;TZID=America/Halifax:20250225T140000
DTSTAMP:20260423T054948
CREATED:20250201T201701Z
LAST-MODIFIED:20250201T201701Z
UID:10004084-1740488400-1740492000@www.passamaquoddylodge.ca
SUMMARY:Resident Council
DESCRIPTION:
URL:https://www.passamaquoddylodge.ca/event/resident-council-4/
END:VEVENT
BEGIN:VEVENT
DTSTART;TZID=America/Halifax:20250225T140000
DTEND;TZID=America/Halifax:20250225T150000
DTSTAMP:20260423T054948
CREATED:20250201T201728Z
LAST-MODIFIED:20250201T201728Z
UID:10004085-1740492000-1740495600@www.passamaquoddylodge.ca
SUMMARY:Bowling
DESCRIPTION:
URL:https://www.passamaquoddylodge.ca/event/bowling-3/
END:VEVENT
END:VCALENDAR