BEGIN:VCALENDAR
VERSION:2.0
PRODID:-//Passamaquoddy Lodge - ECPv6.15.17.1//NONSGML v1.0//EN
CALSCALE:GREGORIAN
METHOD:PUBLISH
X-WR-CALNAME:Passamaquoddy Lodge
X-ORIGINAL-URL:https://www.passamaquoddylodge.ca
X-WR-CALDESC:Events for Passamaquoddy Lodge
REFRESH-INTERVAL;VALUE=DURATION:PT1H
X-Robots-Tag:noindex
X-PUBLISHED-TTL:PT1H
BEGIN:VTIMEZONE
TZID:America/Halifax
BEGIN:DAYLIGHT
TZOFFSETFROM:-0400
TZOFFSETTO:-0300
TZNAME:ADT
DTSTART:20240310T060000
END:DAYLIGHT
BEGIN:STANDARD
TZOFFSETFROM:-0300
TZOFFSETTO:-0400
TZNAME:AST
DTSTART:20241103T050000
END:STANDARD
BEGIN:DAYLIGHT
TZOFFSETFROM:-0400
TZOFFSETTO:-0300
TZNAME:ADT
DTSTART:20250309T060000
END:DAYLIGHT
BEGIN:STANDARD
TZOFFSETFROM:-0300
TZOFFSETTO:-0400
TZNAME:AST
DTSTART:20251102T050000
END:STANDARD
BEGIN:DAYLIGHT
TZOFFSETFROM:-0400
TZOFFSETTO:-0300
TZNAME:ADT
DTSTART:20260308T060000
END:DAYLIGHT
BEGIN:STANDARD
TZOFFSETFROM:-0300
TZOFFSETTO:-0400
TZNAME:AST
DTSTART:20261101T050000
END:STANDARD
END:VTIMEZONE
BEGIN:VEVENT
DTSTART;TZID=America/Halifax:20250403T100000
DTEND;TZID=America/Halifax:20250403T110000
DTSTAMP:20260421T021347
CREATED:20250402T232146Z
LAST-MODIFIED:20250402T232146Z
UID:10004420-1743674400-1743678000@www.passamaquoddylodge.ca
SUMMARY:Coffee & Catching Up
DESCRIPTION:
URL:https://www.passamaquoddylodge.ca/event/coffee-catching-up-3/
END:VEVENT
BEGIN:VEVENT
DTSTART;TZID=America/Halifax:20250403T130000
DTEND;TZID=America/Halifax:20250403T134500
DTSTAMP:20260421T021347
CREATED:20250402T232247Z
LAST-MODIFIED:20250402T232247Z
UID:10004421-1743685200-1743687900@www.passamaquoddylodge.ca
SUMMARY:Reading Buddies
DESCRIPTION:
URL:https://www.passamaquoddylodge.ca/event/reading-buddies-6/2025-04-03/
END:VEVENT
BEGIN:VEVENT
DTSTART;TZID=America/Halifax:20250403T140000
DTEND;TZID=America/Halifax:20250403T144500
DTSTAMP:20260421T021347
CREATED:20250402T232339Z
LAST-MODIFIED:20250402T232339Z
UID:10004424-1743688800-1743691500@www.passamaquoddylodge.ca
SUMMARY:Ball Exercise
DESCRIPTION:
URL:https://www.passamaquoddylodge.ca/event/ball-exercise-2/
END:VEVENT
END:VCALENDAR