BEGIN:VCALENDAR
VERSION:2.0
PRODID:-//Passamaquoddy Lodge - ECPv6.15.17.1//NONSGML v1.0//EN
CALSCALE:GREGORIAN
METHOD:PUBLISH
X-ORIGINAL-URL:https://www.passamaquoddylodge.ca
X-WR-CALDESC:Events for Passamaquoddy Lodge
REFRESH-INTERVAL;VALUE=DURATION:PT1H
X-Robots-Tag:noindex
X-PUBLISHED-TTL:PT1H
BEGIN:VTIMEZONE
TZID:America/Halifax
BEGIN:DAYLIGHT
TZOFFSETFROM:-0400
TZOFFSETTO:-0300
TZNAME:ADT
DTSTART:20240310T060000
END:DAYLIGHT
BEGIN:STANDARD
TZOFFSETFROM:-0300
TZOFFSETTO:-0400
TZNAME:AST
DTSTART:20241103T050000
END:STANDARD
BEGIN:DAYLIGHT
TZOFFSETFROM:-0400
TZOFFSETTO:-0300
TZNAME:ADT
DTSTART:20250309T060000
END:DAYLIGHT
BEGIN:STANDARD
TZOFFSETFROM:-0300
TZOFFSETTO:-0400
TZNAME:AST
DTSTART:20251102T050000
END:STANDARD
BEGIN:DAYLIGHT
TZOFFSETFROM:-0400
TZOFFSETTO:-0300
TZNAME:ADT
DTSTART:20260308T060000
END:DAYLIGHT
BEGIN:STANDARD
TZOFFSETFROM:-0300
TZOFFSETTO:-0400
TZNAME:AST
DTSTART:20261101T050000
END:STANDARD
END:VTIMEZONE
BEGIN:VEVENT
DTSTART;TZID=America/Halifax:20250410T100000
DTEND;TZID=America/Halifax:20250410T110000
DTSTAMP:20260420T021520
CREATED:20240929T141506Z
LAST-MODIFIED:20241003T175359Z
UID:10001689-1744279200-1744282800@www.passamaquoddylodge.ca
SUMMARY:United Church
DESCRIPTION:
URL:https://www.passamaquoddylodge.ca/event/united-church/2025-04-10/
CATEGORIES:Activity
END:VEVENT
BEGIN:VEVENT
DTSTART;TZID=America/Halifax:20250410T130000
DTEND;TZID=America/Halifax:20250410T134500
DTSTAMP:20260420T021520
CREATED:20250402T233047Z
LAST-MODIFIED:20250402T233113Z
UID:10004422-1744290000-1744292700@www.passamaquoddylodge.ca
SUMMARY:Reading Buddies
DESCRIPTION:
URL:https://www.passamaquoddylodge.ca/event/reading-buddies-6-2/2025-04-10/
END:VEVENT
BEGIN:VEVENT
DTSTART;TZID=America/Halifax:20250410T140000
DTEND;TZID=America/Halifax:20250410T144500
DTSTAMP:20260420T021520
CREATED:20250402T232431Z
LAST-MODIFIED:20250402T232431Z
UID:10001419-1744293600-1744296300@www.passamaquoddylodge.ca
SUMMARY:Exercising to the Oldies
DESCRIPTION:
URL:https://www.passamaquoddylodge.ca/event/exercising-to-the-oldies-2-2/2025-04-10/
CATEGORIES:Activity
END:VEVENT
END:VCALENDAR