BEGIN:VCALENDAR
VERSION:2.0
PRODID:-//Passamaquoddy Lodge - ECPv6.15.17.1//NONSGML v1.0//EN
CALSCALE:GREGORIAN
METHOD:PUBLISH
X-ORIGINAL-URL:https://www.passamaquoddylodge.ca
X-WR-CALDESC:Events for Passamaquoddy Lodge
REFRESH-INTERVAL;VALUE=DURATION:PT1H
X-Robots-Tag:noindex
X-PUBLISHED-TTL:PT1H
BEGIN:VTIMEZONE
TZID:America/Halifax
BEGIN:DAYLIGHT
TZOFFSETFROM:-0400
TZOFFSETTO:-0300
TZNAME:ADT
DTSTART:20240310T060000
END:DAYLIGHT
BEGIN:STANDARD
TZOFFSETFROM:-0300
TZOFFSETTO:-0400
TZNAME:AST
DTSTART:20241103T050000
END:STANDARD
BEGIN:DAYLIGHT
TZOFFSETFROM:-0400
TZOFFSETTO:-0300
TZNAME:ADT
DTSTART:20250309T060000
END:DAYLIGHT
BEGIN:STANDARD
TZOFFSETFROM:-0300
TZOFFSETTO:-0400
TZNAME:AST
DTSTART:20251102T050000
END:STANDARD
BEGIN:DAYLIGHT
TZOFFSETFROM:-0400
TZOFFSETTO:-0300
TZNAME:ADT
DTSTART:20260308T060000
END:DAYLIGHT
BEGIN:STANDARD
TZOFFSETFROM:-0300
TZOFFSETTO:-0400
TZNAME:AST
DTSTART:20261101T050000
END:STANDARD
END:VTIMEZONE
BEGIN:VEVENT
DTSTART;TZID=America/Halifax:20250425T100000
DTEND;TZID=America/Halifax:20250425T110000
DTSTAMP:20260420T171906
CREATED:20250107T153226Z
LAST-MODIFIED:20250402T233152Z
UID:10003426-1745575200-1745578800@www.passamaquoddylodge.ca
SUMMARY:Baking
DESCRIPTION:
URL:https://www.passamaquoddylodge.ca/event/baking-2/2025-04-25/
END:VEVENT
BEGIN:VEVENT
DTSTART;TZID=America/Halifax:20250425T130000
DTEND;TZID=America/Halifax:20250425T140000
DTSTAMP:20260420T171906
CREATED:20250402T233354Z
LAST-MODIFIED:20250402T233641Z
UID:10004817-1745586000-1745589600@www.passamaquoddylodge.ca
SUMMARY:Board & Card Games
DESCRIPTION:
URL:https://www.passamaquoddylodge.ca/event/board-card-games/
END:VEVENT
END:VCALENDAR