BEGIN:VCALENDAR
VERSION:2.0
PRODID:-//Passamaquoddy Lodge - ECPv6.15.17.1//NONSGML v1.0//EN
CALSCALE:GREGORIAN
METHOD:PUBLISH
X-WR-CALNAME:Passamaquoddy Lodge
X-ORIGINAL-URL:https://www.passamaquoddylodge.ca
X-WR-CALDESC:Events for Passamaquoddy Lodge
REFRESH-INTERVAL;VALUE=DURATION:PT1H
X-Robots-Tag:noindex
X-PUBLISHED-TTL:PT1H
BEGIN:VTIMEZONE
TZID:America/Halifax
BEGIN:DAYLIGHT
TZOFFSETFROM:-0400
TZOFFSETTO:-0300
TZNAME:ADT
DTSTART:20240310T060000
END:DAYLIGHT
BEGIN:STANDARD
TZOFFSETFROM:-0300
TZOFFSETTO:-0400
TZNAME:AST
DTSTART:20241103T050000
END:STANDARD
BEGIN:DAYLIGHT
TZOFFSETFROM:-0400
TZOFFSETTO:-0300
TZNAME:ADT
DTSTART:20250309T060000
END:DAYLIGHT
BEGIN:STANDARD
TZOFFSETFROM:-0300
TZOFFSETTO:-0400
TZNAME:AST
DTSTART:20251102T050000
END:STANDARD
BEGIN:DAYLIGHT
TZOFFSETFROM:-0400
TZOFFSETTO:-0300
TZNAME:ADT
DTSTART:20260308T060000
END:DAYLIGHT
BEGIN:STANDARD
TZOFFSETFROM:-0300
TZOFFSETTO:-0400
TZNAME:AST
DTSTART:20261101T050000
END:STANDARD
END:VTIMEZONE
BEGIN:VEVENT
DTSTART;TZID=America/Halifax:20250501T100000
DTEND;TZID=America/Halifax:20250501T110000
DTSTAMP:20260420T123200
CREATED:20250501T195715Z
LAST-MODIFIED:20250501T195715Z
UID:10004825-1746093600-1746097200@www.passamaquoddylodge.ca
SUMMARY:Coffee and Catch Up
DESCRIPTION:
URL:https://www.passamaquoddylodge.ca/event/coffee-and-catch-up/
END:VEVENT
BEGIN:VEVENT
DTSTART;TZID=America/Halifax:20250501T133000
DTEND;TZID=America/Halifax:20250501T143000
DTSTAMP:20260420T123200
CREATED:20250501T195733Z
LAST-MODIFIED:20250501T195733Z
UID:10004826-1746106200-1746109800@www.passamaquoddylodge.ca
SUMMARY:Room Visit
DESCRIPTION:
URL:https://www.passamaquoddylodge.ca/event/room-visit-2/
END:VEVENT
END:VCALENDAR