BEGIN:VCALENDAR
VERSION:2.0
PRODID:-//Passamaquoddy Lodge - ECPv6.15.17.1//NONSGML v1.0//EN
CALSCALE:GREGORIAN
METHOD:PUBLISH
X-WR-CALNAME:Passamaquoddy Lodge
X-ORIGINAL-URL:https://www.passamaquoddylodge.ca
X-WR-CALDESC:Events for Passamaquoddy Lodge
REFRESH-INTERVAL;VALUE=DURATION:PT1H
X-Robots-Tag:noindex
X-PUBLISHED-TTL:PT1H
BEGIN:VTIMEZONE
TZID:America/Halifax
BEGIN:DAYLIGHT
TZOFFSETFROM:-0400
TZOFFSETTO:-0300
TZNAME:ADT
DTSTART:20240310T060000
END:DAYLIGHT
BEGIN:STANDARD
TZOFFSETFROM:-0300
TZOFFSETTO:-0400
TZNAME:AST
DTSTART:20241103T050000
END:STANDARD
BEGIN:DAYLIGHT
TZOFFSETFROM:-0400
TZOFFSETTO:-0300
TZNAME:ADT
DTSTART:20250309T060000
END:DAYLIGHT
BEGIN:STANDARD
TZOFFSETFROM:-0300
TZOFFSETTO:-0400
TZNAME:AST
DTSTART:20251102T050000
END:STANDARD
BEGIN:DAYLIGHT
TZOFFSETFROM:-0400
TZOFFSETTO:-0300
TZNAME:ADT
DTSTART:20260308T060000
END:DAYLIGHT
BEGIN:STANDARD
TZOFFSETFROM:-0300
TZOFFSETTO:-0400
TZNAME:AST
DTSTART:20261101T050000
END:STANDARD
END:VTIMEZONE
BEGIN:VEVENT
DTSTART;TZID=America/Halifax:20250524T100000
DTEND;TZID=America/Halifax:20250524T110000
DTSTAMP:20260421T000330
CREATED:20250501T195334Z
LAST-MODIFIED:20250501T195334Z
UID:10004818-1748080800-1748084400@www.passamaquoddylodge.ca
SUMMARY:Coffee Time and Catch Up
DESCRIPTION:
URL:https://www.passamaquoddylodge.ca/event/coffee-time-and-catch-up/
END:VEVENT
BEGIN:VEVENT
DTSTART;TZID=America/Halifax:20250524T133000
DTEND;TZID=America/Halifax:20250524T150000
DTSTAMP:20260421T000330
CREATED:20250501T195356Z
LAST-MODIFIED:20250501T195356Z
UID:10004819-1748093400-1748098800@www.passamaquoddylodge.ca
SUMMARY:Sunshine Time
DESCRIPTION:
URL:https://www.passamaquoddylodge.ca/event/sunshine-time-2/
END:VEVENT
END:VCALENDAR