BEGIN:VCALENDAR
VERSION:2.0
PRODID:-//Passamaquoddy Lodge - ECPv6.15.17.1//NONSGML v1.0//EN
CALSCALE:GREGORIAN
METHOD:PUBLISH
X-WR-CALNAME:Passamaquoddy Lodge
X-ORIGINAL-URL:https://www.passamaquoddylodge.ca
X-WR-CALDESC:Events for Passamaquoddy Lodge
REFRESH-INTERVAL;VALUE=DURATION:PT1H
X-Robots-Tag:noindex
X-PUBLISHED-TTL:PT1H
BEGIN:VTIMEZONE
TZID:America/Halifax
BEGIN:DAYLIGHT
TZOFFSETFROM:-0400
TZOFFSETTO:-0300
TZNAME:ADT
DTSTART:20240310T060000
END:DAYLIGHT
BEGIN:STANDARD
TZOFFSETFROM:-0300
TZOFFSETTO:-0400
TZNAME:AST
DTSTART:20241103T050000
END:STANDARD
BEGIN:DAYLIGHT
TZOFFSETFROM:-0400
TZOFFSETTO:-0300
TZNAME:ADT
DTSTART:20250309T060000
END:DAYLIGHT
BEGIN:STANDARD
TZOFFSETFROM:-0300
TZOFFSETTO:-0400
TZNAME:AST
DTSTART:20251102T050000
END:STANDARD
BEGIN:DAYLIGHT
TZOFFSETFROM:-0400
TZOFFSETTO:-0300
TZNAME:ADT
DTSTART:20260308T060000
END:DAYLIGHT
BEGIN:STANDARD
TZOFFSETFROM:-0300
TZOFFSETTO:-0400
TZNAME:AST
DTSTART:20261101T050000
END:STANDARD
END:VTIMEZONE
BEGIN:VEVENT
DTSTART;TZID=America/Halifax:20250527T103000
DTEND;TZID=America/Halifax:20250527T113000
DTSTAMP:20260419T232351
CREATED:20250501T205221Z
LAST-MODIFIED:20250501T205221Z
UID:10000777-1748341800-1748345400@www.passamaquoddylodge.ca
SUMMARY:Java Circle
DESCRIPTION:
URL:https://www.passamaquoddylodge.ca/event/java-memory-2-2-2/2025-05-27/
CATEGORIES:Activity
END:VEVENT
BEGIN:VEVENT
DTSTART;TZID=America/Halifax:20250527T130000
DTEND;TZID=America/Halifax:20250527T140000
DTSTAMP:20260419T232351
CREATED:20250501T205403Z
LAST-MODIFIED:20250501T205403Z
UID:10004862-1748350800-1748354400@www.passamaquoddylodge.ca
SUMMARY:Resident Council
DESCRIPTION:
URL:https://www.passamaquoddylodge.ca/event/resident-council-7/
END:VEVENT
BEGIN:VEVENT
DTSTART;TZID=America/Halifax:20250527T143000
DTEND;TZID=America/Halifax:20250527T153000
DTSTAMP:20260419T232351
CREATED:20250501T205424Z
LAST-MODIFIED:20250501T205424Z
UID:10004863-1748356200-1748359800@www.passamaquoddylodge.ca
SUMMARY:Music with Shawn Richard
DESCRIPTION:
URL:https://www.passamaquoddylodge.ca/event/music-with-shawn-richard-7/
END:VEVENT
END:VCALENDAR