BEGIN:VCALENDAR
VERSION:2.0
PRODID:-//Passamaquoddy Lodge - ECPv6.15.17.1//NONSGML v1.0//EN
CALSCALE:GREGORIAN
METHOD:PUBLISH
X-ORIGINAL-URL:https://www.passamaquoddylodge.ca
X-WR-CALDESC:Events for Passamaquoddy Lodge
REFRESH-INTERVAL;VALUE=DURATION:PT1H
X-Robots-Tag:noindex
X-PUBLISHED-TTL:PT1H
BEGIN:VTIMEZONE
TZID:America/Halifax
BEGIN:DAYLIGHT
TZOFFSETFROM:-0400
TZOFFSETTO:-0300
TZNAME:ADT
DTSTART:20240310T060000
END:DAYLIGHT
BEGIN:STANDARD
TZOFFSETFROM:-0300
TZOFFSETTO:-0400
TZNAME:AST
DTSTART:20241103T050000
END:STANDARD
BEGIN:DAYLIGHT
TZOFFSETFROM:-0400
TZOFFSETTO:-0300
TZNAME:ADT
DTSTART:20250309T060000
END:DAYLIGHT
BEGIN:STANDARD
TZOFFSETFROM:-0300
TZOFFSETTO:-0400
TZNAME:AST
DTSTART:20251102T050000
END:STANDARD
BEGIN:DAYLIGHT
TZOFFSETFROM:-0400
TZOFFSETTO:-0300
TZNAME:ADT
DTSTART:20260308T060000
END:DAYLIGHT
BEGIN:STANDARD
TZOFFSETFROM:-0300
TZOFFSETTO:-0400
TZNAME:AST
DTSTART:20261101T050000
END:STANDARD
END:VTIMEZONE
BEGIN:VEVENT
DTSTART;TZID=America/Halifax:20250602T100000
DTEND;TZID=America/Halifax:20250602T110000
DTSTAMP:20260419T195616
CREATED:20240929T121925Z
LAST-MODIFIED:20250402T230833Z
UID:10000059-1748858400-1748862000@www.passamaquoddylodge.ca
SUMMARY:Bingo
DESCRIPTION:
URL:https://www.passamaquoddylodge.ca/event/bingo/2025-06-02/
CATEGORIES:Activity
END:VEVENT
BEGIN:VEVENT
DTSTART;TZID=America/Halifax:20250602T110000
DTEND;TZID=America/Halifax:20250602T113000
DTSTAMP:20260419T195616
CREATED:20250201T200839Z
LAST-MODIFIED:20250402T230852Z
UID:10003947-1748862000-1748863800@www.passamaquoddylodge.ca
SUMMARY:Fitness Class
DESCRIPTION:
URL:https://www.passamaquoddylodge.ca/event/fitness-class-7/2025-06-02/
END:VEVENT
BEGIN:VEVENT
DTSTART;TZID=America/Halifax:20250602T131500
DTEND;TZID=America/Halifax:20250602T141500
DTSTAMP:20260419T195616
CREATED:20250603T110715Z
LAST-MODIFIED:20250603T110715Z
UID:10005197-1748870100-1748873700@www.passamaquoddylodge.ca
SUMMARY:Valley Gospel Singers
DESCRIPTION:
URL:https://www.passamaquoddylodge.ca/event/valley-gospel-singers/
END:VEVENT
BEGIN:VEVENT
DTSTART;TZID=America/Halifax:20250602T150000
DTEND;TZID=America/Halifax:20250602T153000
DTSTAMP:20260419T195616
CREATED:20250603T110823Z
LAST-MODIFIED:20250603T110823Z
UID:10005198-1748876400-1748878200@www.passamaquoddylodge.ca
SUMMARY:Sensory Table
DESCRIPTION:
URL:https://www.passamaquoddylodge.ca/event/sensory-table-3/2025-06-02/
END:VEVENT
END:VCALENDAR