BEGIN:VCALENDAR
VERSION:2.0
PRODID:-//Passamaquoddy Lodge - ECPv6.15.17.1//NONSGML v1.0//EN
CALSCALE:GREGORIAN
METHOD:PUBLISH
X-ORIGINAL-URL:https://www.passamaquoddylodge.ca
X-WR-CALDESC:Events for Passamaquoddy Lodge
REFRESH-INTERVAL;VALUE=DURATION:PT1H
X-Robots-Tag:noindex
X-PUBLISHED-TTL:PT1H
BEGIN:VTIMEZONE
TZID:America/Halifax
BEGIN:DAYLIGHT
TZOFFSETFROM:-0400
TZOFFSETTO:-0300
TZNAME:ADT
DTSTART:20240310T060000
END:DAYLIGHT
BEGIN:STANDARD
TZOFFSETFROM:-0300
TZOFFSETTO:-0400
TZNAME:AST
DTSTART:20241103T050000
END:STANDARD
BEGIN:DAYLIGHT
TZOFFSETFROM:-0400
TZOFFSETTO:-0300
TZNAME:ADT
DTSTART:20250309T060000
END:DAYLIGHT
BEGIN:STANDARD
TZOFFSETFROM:-0300
TZOFFSETTO:-0400
TZNAME:AST
DTSTART:20251102T050000
END:STANDARD
BEGIN:DAYLIGHT
TZOFFSETFROM:-0400
TZOFFSETTO:-0300
TZNAME:ADT
DTSTART:20260308T060000
END:DAYLIGHT
BEGIN:STANDARD
TZOFFSETFROM:-0300
TZOFFSETTO:-0400
TZNAME:AST
DTSTART:20261101T050000
END:STANDARD
END:VTIMEZONE
BEGIN:VEVENT
DTSTART;VALUE=DATE:20250611
DTEND;VALUE=DATE:20250612
DTSTAMP:20260420T022106
CREATED:20250603T105640Z
LAST-MODIFIED:20250603T110033Z
UID:10005158-1749600000-1749686399@www.passamaquoddylodge.ca
SUMMARY:BBQ Day!
DESCRIPTION:
URL:https://www.passamaquoddylodge.ca/event/bbq-day/2025-06-11/
END:VEVENT
BEGIN:VEVENT
DTSTART;TZID=America/Halifax:20250611T100000
DTEND;TZID=America/Halifax:20250611T110000
DTSTAMP:20260420T022106
CREATED:20250501T205531Z
LAST-MODIFIED:20250501T205531Z
UID:10004869-1749636000-1749639600@www.passamaquoddylodge.ca
SUMMARY:Men's Coffee
DESCRIPTION:
URL:https://www.passamaquoddylodge.ca/event/mens-coffee-3/2025-06-11/
END:VEVENT
BEGIN:VEVENT
DTSTART;TZID=America/Halifax:20250611T130000
DTEND;TZID=America/Halifax:20250611T140000
DTSTAMP:20260420T022106
CREATED:20250603T105817Z
LAST-MODIFIED:20250603T105817Z
UID:10005152-1749646800-1749650400@www.passamaquoddylodge.ca
SUMMARY:Eddie Maillet
DESCRIPTION:
URL:https://www.passamaquoddylodge.ca/event/eddie-maillet-3/
END:VEVENT
BEGIN:VEVENT
DTSTART;TZID=America/Halifax:20250611T153000
DTEND;TZID=America/Halifax:20250611T163000
DTSTAMP:20260420T022106
CREATED:20241003T174241Z
LAST-MODIFIED:20241102T160029Z
UID:10002580-1749655800-1749659400@www.passamaquoddylodge.ca
SUMMARY:Holy Communion
DESCRIPTION:
URL:https://www.passamaquoddylodge.ca/event/holy-communion/2025-06-11/
END:VEVENT
END:VCALENDAR