BEGIN:VCALENDAR
VERSION:2.0
PRODID:-//Passamaquoddy Lodge - ECPv6.15.17.1//NONSGML v1.0//EN
CALSCALE:GREGORIAN
METHOD:PUBLISH
X-ORIGINAL-URL:https://www.passamaquoddylodge.ca
X-WR-CALDESC:Events for Passamaquoddy Lodge
REFRESH-INTERVAL;VALUE=DURATION:PT1H
X-Robots-Tag:noindex
X-PUBLISHED-TTL:PT1H
BEGIN:VTIMEZONE
TZID:America/Halifax
BEGIN:DAYLIGHT
TZOFFSETFROM:-0400
TZOFFSETTO:-0300
TZNAME:ADT
DTSTART:20240310T060000
END:DAYLIGHT
BEGIN:STANDARD
TZOFFSETFROM:-0300
TZOFFSETTO:-0400
TZNAME:AST
DTSTART:20241103T050000
END:STANDARD
BEGIN:DAYLIGHT
TZOFFSETFROM:-0400
TZOFFSETTO:-0300
TZNAME:ADT
DTSTART:20250309T060000
END:DAYLIGHT
BEGIN:STANDARD
TZOFFSETFROM:-0300
TZOFFSETTO:-0400
TZNAME:AST
DTSTART:20251102T050000
END:STANDARD
BEGIN:DAYLIGHT
TZOFFSETFROM:-0400
TZOFFSETTO:-0300
TZNAME:ADT
DTSTART:20260308T060000
END:DAYLIGHT
BEGIN:STANDARD
TZOFFSETFROM:-0300
TZOFFSETTO:-0400
TZNAME:AST
DTSTART:20261101T050000
END:STANDARD
END:VTIMEZONE
BEGIN:VEVENT
DTSTART;VALUE=DATE:20250624
DTEND;VALUE=DATE:20250625
DTSTAMP:20260420T152124
CREATED:20250603T110203Z
LAST-MODIFIED:20250801T095206Z
UID:10005173-1750723200-1750809599@www.passamaquoddylodge.ca
SUMMARY:Kingsbrae Tours
DESCRIPTION:
URL:https://www.passamaquoddylodge.ca/event/kingsbrae-tours/2025-06-24/
END:VEVENT
BEGIN:VEVENT
DTSTART;TZID=America/Halifax:20250624T103000
DTEND;TZID=America/Halifax:20250624T113000
DTSTAMP:20260420T152124
CREATED:20250501T205221Z
LAST-MODIFIED:20250501T205221Z
UID:10000781-1750761000-1750764600@www.passamaquoddylodge.ca
SUMMARY:Java Circle
DESCRIPTION:
URL:https://www.passamaquoddylodge.ca/event/java-memory-2-2-2/2025-06-24/
CATEGORIES:Activity
END:VEVENT
BEGIN:VEVENT
DTSTART;TZID=America/Halifax:20250624T130000
DTEND;TZID=America/Halifax:20250624T140000
DTSTAMP:20260420T152124
CREATED:20250603T110336Z
LAST-MODIFIED:20250603T110336Z
UID:10005186-1750770000-1750773600@www.passamaquoddylodge.ca
SUMMARY:Resident Council
DESCRIPTION:
URL:https://www.passamaquoddylodge.ca/event/resident-council-8/
END:VEVENT
BEGIN:VEVENT
DTSTART;TZID=America/Halifax:20250624T143000
DTEND;TZID=America/Halifax:20250624T153000
DTSTAMP:20260420T152124
CREATED:20250603T110506Z
LAST-MODIFIED:20250603T110506Z
UID:10005187-1750775400-1750779000@www.passamaquoddylodge.ca
SUMMARY:Music with Shawn Richard
DESCRIPTION:
URL:https://www.passamaquoddylodge.ca/event/music-with-shawn-richard-8/
END:VEVENT
END:VCALENDAR