BEGIN:VCALENDAR
VERSION:2.0
PRODID:-//Passamaquoddy Lodge - ECPv6.15.17.1//NONSGML v1.0//EN
CALSCALE:GREGORIAN
METHOD:PUBLISH
X-WR-CALNAME:Passamaquoddy Lodge
X-ORIGINAL-URL:https://www.passamaquoddylodge.ca
X-WR-CALDESC:Events for Passamaquoddy Lodge
REFRESH-INTERVAL;VALUE=DURATION:PT1H
X-Robots-Tag:noindex
X-PUBLISHED-TTL:PT1H
BEGIN:VTIMEZONE
TZID:America/Halifax
BEGIN:DAYLIGHT
TZOFFSETFROM:-0400
TZOFFSETTO:-0300
TZNAME:ADT
DTSTART:20250309T060000
END:DAYLIGHT
BEGIN:STANDARD
TZOFFSETFROM:-0300
TZOFFSETTO:-0400
TZNAME:AST
DTSTART:20251102T050000
END:STANDARD
BEGIN:DAYLIGHT
TZOFFSETFROM:-0400
TZOFFSETTO:-0300
TZNAME:ADT
DTSTART:20260308T060000
END:DAYLIGHT
BEGIN:STANDARD
TZOFFSETFROM:-0300
TZOFFSETTO:-0400
TZNAME:AST
DTSTART:20261101T050000
END:STANDARD
BEGIN:DAYLIGHT
TZOFFSETFROM:-0400
TZOFFSETTO:-0300
TZNAME:ADT
DTSTART:20270314T060000
END:DAYLIGHT
BEGIN:STANDARD
TZOFFSETFROM:-0300
TZOFFSETTO:-0400
TZNAME:AST
DTSTART:20271107T050000
END:STANDARD
END:VTIMEZONE
BEGIN:VEVENT
DTSTART;TZID=America/Halifax:20260121T100000
DTEND;TZID=America/Halifax:20260121T110000
DTSTAMP:20260422T193127
CREATED:20250501T205531Z
LAST-MODIFIED:20250501T205531Z
UID:10004901-1768989600-1768993200@www.passamaquoddylodge.ca
SUMMARY:Men's Coffee
DESCRIPTION:
URL:https://www.passamaquoddylodge.ca/event/mens-coffee-3/2026-01-21/
END:VEVENT
BEGIN:VEVENT
DTSTART;TZID=America/Halifax:20260121T133000
DTEND;TZID=America/Halifax:20260121T143000
DTSTAMP:20260422T193127
CREATED:20260101T113552Z
LAST-MODIFIED:20260101T113552Z
UID:10006519-1769002200-1769005800@www.passamaquoddylodge.ca
SUMMARY:Tai Chi
DESCRIPTION:
URL:https://www.passamaquoddylodge.ca/event/tai-chi-8/
END:VEVENT
BEGIN:VEVENT
DTSTART;TZID=America/Halifax:20260122T103000
DTEND;TZID=America/Halifax:20260122T113000
DTSTAMP:20260422T193127
CREATED:20250402T232822Z
LAST-MODIFIED:20250402T232823Z
UID:10004623-1769077800-1769081400@www.passamaquoddylodge.ca
SUMMARY:Anglican Church
DESCRIPTION:
URL:https://www.passamaquoddylodge.ca/event/anglican-church-2/2026-01-22/
CATEGORIES:Activity
END:VEVENT
BEGIN:VEVENT
DTSTART;TZID=America/Halifax:20260122T130000
DTEND;TZID=America/Halifax:20260122T134500
DTSTAMP:20260422T193127
CREATED:20260101T113621Z
LAST-MODIFIED:20260101T113621Z
UID:10006520-1769086800-1769089500@www.passamaquoddylodge.ca
SUMMARY:Reading Buddies
DESCRIPTION:
URL:https://www.passamaquoddylodge.ca/event/reading-buddies-11/
END:VEVENT
BEGIN:VEVENT
DTSTART;TZID=America/Halifax:20260123T100000
DTEND;TZID=America/Halifax:20260123T110000
DTSTAMP:20260422T193127
CREATED:20250107T153226Z
LAST-MODIFIED:20250402T233152Z
UID:10003465-1769162400-1769166000@www.passamaquoddylodge.ca
SUMMARY:Baking
DESCRIPTION:
URL:https://www.passamaquoddylodge.ca/event/baking-2/2026-01-23/
END:VEVENT
BEGIN:VEVENT
DTSTART;TZID=America/Halifax:20260123T133000
DTEND;TZID=America/Halifax:20260123T144500
DTSTAMP:20260422T193127
CREATED:20260101T114245Z
LAST-MODIFIED:20260101T114245Z
UID:10006521-1769175000-1769179500@www.passamaquoddylodge.ca
SUMMARY:Happy Hour Cart!
DESCRIPTION:
URL:https://www.passamaquoddylodge.ca/event/happy-hour-cart-6/
END:VEVENT
BEGIN:VEVENT
DTSTART;TZID=America/Halifax:20260126T100000
DTEND;TZID=America/Halifax:20260126T110000
DTSTAMP:20260422T193127
CREATED:20240929T121925Z
LAST-MODIFIED:20250402T230833Z
UID:10000093-1769421600-1769425200@www.passamaquoddylodge.ca
SUMMARY:Bingo
DESCRIPTION:
URL:https://www.passamaquoddylodge.ca/event/bingo/2026-01-26/
CATEGORIES:Activity
END:VEVENT
BEGIN:VEVENT
DTSTART;TZID=America/Halifax:20260126T110000
DTEND;TZID=America/Halifax:20260126T113000
DTSTAMP:20260422T193127
CREATED:20251031T232949Z
LAST-MODIFIED:20251031T232950Z
UID:10003964-1769425200-1769427000@www.passamaquoddylodge.ca
SUMMARY:Fitness Class
DESCRIPTION:
URL:https://www.passamaquoddylodge.ca/event/fitness-class-7-2/2026-01-26/
END:VEVENT
BEGIN:VEVENT
DTSTART;TZID=America/Halifax:20260126T133000
DTEND;TZID=America/Halifax:20260126T144500
DTSTAMP:20260422T193127
CREATED:20260101T114345Z
LAST-MODIFIED:20260101T114345Z
UID:10006524-1769434200-1769438700@www.passamaquoddylodge.ca
SUMMARY:Crafts
DESCRIPTION:
URL:https://www.passamaquoddylodge.ca/event/crafts-8/
END:VEVENT
BEGIN:VEVENT
DTSTART;TZID=America/Halifax:20260127T103000
DTEND;TZID=America/Halifax:20260127T113000
DTSTAMP:20260422T193127
CREATED:20250501T205221Z
LAST-MODIFIED:20250501T205221Z
UID:10000812-1769509800-1769513400@www.passamaquoddylodge.ca
SUMMARY:Java Circle
DESCRIPTION:
URL:https://www.passamaquoddylodge.ca/event/java-memory-2-2-2/2026-01-27/
CATEGORIES:Activity
END:VEVENT
BEGIN:VEVENT
DTSTART;TZID=America/Halifax:20260127T133000
DTEND;TZID=America/Halifax:20260127T143000
DTSTAMP:20260422T193127
CREATED:20260101T113520Z
LAST-MODIFIED:20260202T183320Z
UID:10006518-1769520600-1769524200@www.passamaquoddylodge.ca
SUMMARY:Easy Sew
DESCRIPTION:
URL:https://www.passamaquoddylodge.ca/event/easy-sew-11/2026-01-27/
END:VEVENT
BEGIN:VEVENT
DTSTART;TZID=America/Halifax:20260128T100000
DTEND;TZID=America/Halifax:20260128T110000
DTSTAMP:20260422T193127
CREATED:20250501T205531Z
LAST-MODIFIED:20250501T205531Z
UID:10004902-1769594400-1769598000@www.passamaquoddylodge.ca
SUMMARY:Men's Coffee
DESCRIPTION:
URL:https://www.passamaquoddylodge.ca/event/mens-coffee-3/2026-01-28/
END:VEVENT
BEGIN:VEVENT
DTSTART;TZID=America/Halifax:20260128T140000
DTEND;TZID=America/Halifax:20260128T150000
DTSTAMP:20260422T193127
CREATED:20260101T114646Z
LAST-MODIFIED:20260101T114646Z
UID:10006525-1769608800-1769612400@www.passamaquoddylodge.ca
SUMMARY:Resident Council
DESCRIPTION:
URL:https://www.passamaquoddylodge.ca/event/resident-council-14/
END:VEVENT
BEGIN:VEVENT
DTSTART;TZID=America/Halifax:20260128T143000
DTEND;TZID=America/Halifax:20260128T153000
DTSTAMP:20260422T193127
CREATED:20260101T114721Z
LAST-MODIFIED:20260101T114721Z
UID:10006526-1769610600-1769614200@www.passamaquoddylodge.ca
SUMMARY:Music with Shawn Richard
DESCRIPTION:
URL:https://www.passamaquoddylodge.ca/event/music-with-shawn-richard-11/
END:VEVENT
BEGIN:VEVENT
DTSTART;TZID=America/Halifax:20260129T100000
DTEND;TZID=America/Halifax:20260129T110000
DTSTAMP:20260422T193127
CREATED:20260101T114753Z
LAST-MODIFIED:20260202T184242Z
UID:10006527-1769680800-1769684400@www.passamaquoddylodge.ca
SUMMARY:Coffee & Crossword
DESCRIPTION:
URL:https://www.passamaquoddylodge.ca/event/coffee-crossword/2026-01-29/
END:VEVENT
BEGIN:VEVENT
DTSTART;TZID=America/Halifax:20260129T130000
DTEND;TZID=America/Halifax:20260129T134500
DTSTAMP:20260422T193127
CREATED:20260202T183905Z
LAST-MODIFIED:20260202T183905Z
UID:10007092-1769691600-1769694300@www.passamaquoddylodge.ca
SUMMARY:Reading Buddies
DESCRIPTION:
URL:https://www.passamaquoddylodge.ca/event/reading-buddies-12/2026-01-29/
END:VEVENT
BEGIN:VEVENT
DTSTART;TZID=America/Halifax:20260130T100000
DTEND;TZID=America/Halifax:20260130T110000
DTSTAMP:20260422T193127
CREATED:20250107T153226Z
LAST-MODIFIED:20250402T233152Z
UID:10003466-1769767200-1769770800@www.passamaquoddylodge.ca
SUMMARY:Baking
DESCRIPTION:
URL:https://www.passamaquoddylodge.ca/event/baking-2/2026-01-30/
END:VEVENT
BEGIN:VEVENT
DTSTART;TZID=America/Halifax:20260130T133000
DTEND;TZID=America/Halifax:20260130T143000
DTSTAMP:20260422T193127
CREATED:20260101T114821Z
LAST-MODIFIED:20260101T114821Z
UID:10006528-1769779800-1769783400@www.passamaquoddylodge.ca
SUMMARY:Parachute Game
DESCRIPTION:
URL:https://www.passamaquoddylodge.ca/event/parachute-game/
END:VEVENT
BEGIN:VEVENT
DTSTART;TZID=America/Halifax:20260202T100000
DTEND;TZID=America/Halifax:20260202T110000
DTSTAMP:20260422T193127
CREATED:20240929T121925Z
LAST-MODIFIED:20250402T230833Z
UID:10000094-1770026400-1770030000@www.passamaquoddylodge.ca
SUMMARY:Bingo
DESCRIPTION:
URL:https://www.passamaquoddylodge.ca/event/bingo/2026-02-02/
CATEGORIES:Activity
END:VEVENT
BEGIN:VEVENT
DTSTART;TZID=America/Halifax:20260202T110000
DTEND;TZID=America/Halifax:20260202T113000
DTSTAMP:20260422T193127
CREATED:20251031T232949Z
LAST-MODIFIED:20251031T232950Z
UID:10005881-1770030000-1770031800@www.passamaquoddylodge.ca
SUMMARY:Fitness Class
DESCRIPTION:
URL:https://www.passamaquoddylodge.ca/event/fitness-class-7-2/2026-02-02/
END:VEVENT
BEGIN:VEVENT
DTSTART;TZID=America/Halifax:20260202T133000
DTEND;TZID=America/Halifax:20260202T143000
DTSTAMP:20260422T193127
CREATED:20260202T182719Z
LAST-MODIFIED:20260202T182946Z
UID:10006539-1770039000-1770042600@www.passamaquoddylodge.ca
SUMMARY:Crafts
DESCRIPTION:
URL:https://www.passamaquoddylodge.ca/event/crafts-9/2026-02-02/
END:VEVENT
BEGIN:VEVENT
DTSTART;TZID=America/Halifax:20260203T103000
DTEND;TZID=America/Halifax:20260203T113000
DTSTAMP:20260422T193127
CREATED:20250501T205221Z
LAST-MODIFIED:20250501T205221Z
UID:10000813-1770114600-1770118200@www.passamaquoddylodge.ca
SUMMARY:Java Circle
DESCRIPTION:
URL:https://www.passamaquoddylodge.ca/event/java-memory-2-2-2/2026-02-03/
CATEGORIES:Activity
END:VEVENT
BEGIN:VEVENT
DTSTART;TZID=America/Halifax:20260203T133000
DTEND;TZID=America/Halifax:20260203T143000
DTSTAMP:20260422T193127
CREATED:20260101T113520Z
LAST-MODIFIED:20260202T183320Z
UID:10006815-1770125400-1770129000@www.passamaquoddylodge.ca
SUMMARY:Easy Sew
DESCRIPTION:
URL:https://www.passamaquoddylodge.ca/event/easy-sew-11/2026-02-03/
END:VEVENT
BEGIN:VEVENT
DTSTART;TZID=America/Halifax:20260204T100000
DTEND;TZID=America/Halifax:20260204T110000
DTSTAMP:20260422T193127
CREATED:20250501T205531Z
LAST-MODIFIED:20250501T205531Z
UID:10004903-1770199200-1770202800@www.passamaquoddylodge.ca
SUMMARY:Men's Coffee
DESCRIPTION:
URL:https://www.passamaquoddylodge.ca/event/mens-coffee-3/2026-02-04/
END:VEVENT
BEGIN:VEVENT
DTSTART;TZID=America/Halifax:20260204T133000
DTEND;TZID=America/Halifax:20260204T143000
DTSTAMP:20260422T193127
CREATED:20260202T183415Z
LAST-MODIFIED:20260202T183415Z
UID:10007076-1770211800-1770215400@www.passamaquoddylodge.ca
SUMMARY:Indoor Beach Party with Jane
DESCRIPTION:
URL:https://www.passamaquoddylodge.ca/event/indoor-beach-party-with-jane/
END:VEVENT
BEGIN:VEVENT
DTSTART;TZID=America/Halifax:20260205T100000
DTEND;TZID=America/Halifax:20260205T110000
DTSTAMP:20260422T193127
CREATED:20260101T114753Z
LAST-MODIFIED:20260202T184242Z
UID:10007224-1770285600-1770289200@www.passamaquoddylodge.ca
SUMMARY:Coffee & Crossword
DESCRIPTION:
URL:https://www.passamaquoddylodge.ca/event/coffee-crossword/2026-02-05/
END:VEVENT
BEGIN:VEVENT
DTSTART;TZID=America/Halifax:20260205T130000
DTEND;TZID=America/Halifax:20260205T134500
DTSTAMP:20260422T193127
CREATED:20260202T184321Z
LAST-MODIFIED:20260202T184322Z
UID:10004695-1770296400-1770299100@www.passamaquoddylodge.ca
SUMMARY:Reading Buddies
DESCRIPTION:
URL:https://www.passamaquoddylodge.ca/event/reading-buddies-6-2-2/2026-02-05/
END:VEVENT
BEGIN:VEVENT
DTSTART;TZID=America/Halifax:20260206T100000
DTEND;TZID=America/Halifax:20260206T110000
DTSTAMP:20260422T193127
CREATED:20250107T153226Z
LAST-MODIFIED:20250402T233152Z
UID:10003467-1770372000-1770375600@www.passamaquoddylodge.ca
SUMMARY:Baking
DESCRIPTION:
URL:https://www.passamaquoddylodge.ca/event/baking-2/2026-02-06/
END:VEVENT
BEGIN:VEVENT
DTSTART;TZID=America/Halifax:20260206T133000
DTEND;TZID=America/Halifax:20260206T143000
DTSTAMP:20260422T193127
CREATED:20260202T184512Z
LAST-MODIFIED:20260202T184512Z
UID:10007357-1770384600-1770388200@www.passamaquoddylodge.ca
SUMMARY:Valentine's Pictures
DESCRIPTION:
URL:https://www.passamaquoddylodge.ca/event/valentines-pictures/
END:VEVENT
BEGIN:VEVENT
DTSTART;VALUE=DATE:20260208
DTEND;VALUE=DATE:20260209
DTSTAMP:20260422T193127
CREATED:20251002T132230Z
LAST-MODIFIED:20251002T132230Z
UID:10005421-1770508800-1770595199@www.passamaquoddylodge.ca
SUMMARY:Creative Class with Mariah
DESCRIPTION:
URL:https://www.passamaquoddylodge.ca/event/creative-class-with-mariah-3/2026-02-08/
END:VEVENT
END:VCALENDAR