BEGIN:VCALENDAR
VERSION:2.0
PRODID:-//Passamaquoddy Lodge - ECPv6.15.17.1//NONSGML v1.0//EN
CALSCALE:GREGORIAN
METHOD:PUBLISH
X-WR-CALNAME:Passamaquoddy Lodge
X-ORIGINAL-URL:https://www.passamaquoddylodge.ca
X-WR-CALDESC:Events for Passamaquoddy Lodge
REFRESH-INTERVAL;VALUE=DURATION:PT1H
X-Robots-Tag:noindex
X-PUBLISHED-TTL:PT1H
BEGIN:VTIMEZONE
TZID:America/Halifax
BEGIN:DAYLIGHT
TZOFFSETFROM:-0400
TZOFFSETTO:-0300
TZNAME:ADT
DTSTART:20270314T060000
END:DAYLIGHT
BEGIN:STANDARD
TZOFFSETFROM:-0300
TZOFFSETTO:-0400
TZNAME:AST
DTSTART:20271107T050000
END:STANDARD
BEGIN:DAYLIGHT
TZOFFSETFROM:-0400
TZOFFSETTO:-0300
TZNAME:ADT
DTSTART:20280312T060000
END:DAYLIGHT
BEGIN:STANDARD
TZOFFSETFROM:-0300
TZOFFSETTO:-0400
TZNAME:AST
DTSTART:20281105T050000
END:STANDARD
BEGIN:DAYLIGHT
TZOFFSETFROM:-0400
TZOFFSETTO:-0300
TZNAME:ADT
DTSTART:20290311T060000
END:DAYLIGHT
BEGIN:STANDARD
TZOFFSETFROM:-0300
TZOFFSETTO:-0400
TZNAME:AST
DTSTART:20291104T050000
END:STANDARD
END:VTIMEZONE
BEGIN:VEVENT
DTSTART;TZID=America/Halifax:20280204T100000
DTEND;TZID=America/Halifax:20280204T110000
DTSTAMP:20260421T091243
CREATED:20250107T153226Z
LAST-MODIFIED:20250402T233152Z
UID:10003571-1833271200-1833274800@www.passamaquoddylodge.ca
SUMMARY:Baking
DESCRIPTION:
URL:https://www.passamaquoddylodge.ca/event/baking-2/2028-02-04/
END:VEVENT
BEGIN:VEVENT
DTSTART;VALUE=DATE:20280206
DTEND;VALUE=DATE:20280207
DTSTAMP:20260421T091243
CREATED:20251002T132230Z
LAST-MODIFIED:20251002T132230Z
UID:10005473-1833408000-1833494399@www.passamaquoddylodge.ca
SUMMARY:Creative Class with Mariah
DESCRIPTION:
URL:https://www.passamaquoddylodge.ca/event/creative-class-with-mariah-3/2028-02-06/
END:VEVENT
BEGIN:VEVENT
DTSTART;TZID=America/Halifax:20280207T100000
DTEND;TZID=America/Halifax:20280207T110000
DTSTAMP:20260421T091243
CREATED:20240929T121925Z
LAST-MODIFIED:20250402T230833Z
UID:10000199-1833530400-1833534000@www.passamaquoddylodge.ca
SUMMARY:Bingo
DESCRIPTION:
URL:https://www.passamaquoddylodge.ca/event/bingo/2028-02-07/
CATEGORIES:Activity
END:VEVENT
BEGIN:VEVENT
DTSTART;TZID=America/Halifax:20280207T110000
DTEND;TZID=America/Halifax:20280207T113000
DTSTAMP:20260421T091243
CREATED:20251031T232949Z
LAST-MODIFIED:20251031T232950Z
UID:10004017-1833534000-1833535800@www.passamaquoddylodge.ca
SUMMARY:Fitness Class
DESCRIPTION:
URL:https://www.passamaquoddylodge.ca/event/fitness-class-7-2/2028-02-07/
END:VEVENT
BEGIN:VEVENT
DTSTART;TZID=America/Halifax:20280207T133000
DTEND;TZID=America/Halifax:20280207T143000
DTSTAMP:20260421T091243
CREATED:20251002T132703Z
LAST-MODIFIED:20251002T132703Z
UID:10005695-1833543000-1833546600@www.passamaquoddylodge.ca
SUMMARY:Let's Make Music
DESCRIPTION:
URL:https://www.passamaquoddylodge.ca/event/lets-make-music-2/2028-02-07/
END:VEVENT
BEGIN:VEVENT
DTSTART;TZID=America/Halifax:20280207T133000
DTEND;TZID=America/Halifax:20280207T143000
DTSTAMP:20260421T091243
CREATED:20260202T182719Z
LAST-MODIFIED:20260202T182946Z
UID:10006722-1833543000-1833546600@www.passamaquoddylodge.ca
SUMMARY:Crafts
DESCRIPTION:
URL:https://www.passamaquoddylodge.ca/event/crafts-9/2028-02-07/
END:VEVENT
BEGIN:VEVENT
DTSTART;TZID=America/Halifax:20280207T133000
DTEND;TZID=America/Halifax:20280207T144500
DTSTAMP:20260421T091243
CREATED:20250201T200743Z
LAST-MODIFIED:20250402T230911Z
UID:10003835-1833543000-1833547500@www.passamaquoddylodge.ca
SUMMARY:Easy Sew
DESCRIPTION:
URL:https://www.passamaquoddylodge.ca/event/easy-sew-6/2028-02-07/
END:VEVENT
BEGIN:VEVENT
DTSTART;TZID=America/Halifax:20280208T103000
DTEND;TZID=America/Halifax:20280208T113000
DTSTAMP:20260421T091243
CREATED:20250501T205221Z
LAST-MODIFIED:20250501T205221Z
UID:10000918-1833618600-1833622200@www.passamaquoddylodge.ca
SUMMARY:Java Circle
DESCRIPTION:
URL:https://www.passamaquoddylodge.ca/event/java-memory-2-2-2/2028-02-08/
CATEGORIES:Activity
END:VEVENT
BEGIN:VEVENT
DTSTART;TZID=America/Halifax:20280208T133000
DTEND;TZID=America/Halifax:20280208T143000
DTSTAMP:20260421T091243
CREATED:20260402T115345Z
LAST-MODIFIED:20260402T115346Z
UID:10006920-1833629400-1833633000@www.passamaquoddylodge.ca
SUMMARY:Easy Sew/Knitting
DESCRIPTION:
URL:https://www.passamaquoddylodge.ca/event/easy-sew-11-2/2028-02-08/
END:VEVENT
BEGIN:VEVENT
DTSTART;TZID=America/Halifax:20280209T100000
DTEND;TZID=America/Halifax:20280209T110000
DTSTAMP:20260421T091243
CREATED:20250501T205531Z
LAST-MODIFIED:20250501T205531Z
UID:10005008-1833703200-1833706800@www.passamaquoddylodge.ca
SUMMARY:Men's Coffee
DESCRIPTION:
URL:https://www.passamaquoddylodge.ca/event/mens-coffee-3/2028-02-09/
END:VEVENT
BEGIN:VEVENT
DTSTART;TZID=America/Halifax:20280209T153000
DTEND;TZID=America/Halifax:20280209T163000
DTSTAMP:20260421T091243
CREATED:20241003T174241Z
LAST-MODIFIED:20241102T160029Z
UID:10002612-1833723000-1833726600@www.passamaquoddylodge.ca
SUMMARY:Holy Communion
DESCRIPTION:
URL:https://www.passamaquoddylodge.ca/event/holy-communion/2028-02-09/
END:VEVENT
BEGIN:VEVENT
DTSTART;TZID=America/Halifax:20280210T100000
DTEND;TZID=America/Halifax:20280210T110000
DTSTAMP:20260421T091243
CREATED:20240929T141506Z
LAST-MODIFIED:20241003T175359Z
UID:10001723-1833789600-1833793200@www.passamaquoddylodge.ca
SUMMARY:United Church
DESCRIPTION:
URL:https://www.passamaquoddylodge.ca/event/united-church/2028-02-10/
CATEGORIES:Activity
END:VEVENT
BEGIN:VEVENT
DTSTART;TZID=America/Halifax:20280210T130000
DTEND;TZID=America/Halifax:20280210T134500
DTSTAMP:20260421T091243
CREATED:20260202T183905Z
LAST-MODIFIED:20260202T183905Z
UID:10007145-1833800400-1833803100@www.passamaquoddylodge.ca
SUMMARY:Reading Buddies
DESCRIPTION:
URL:https://www.passamaquoddylodge.ca/event/reading-buddies-12/2028-02-10/
END:VEVENT
BEGIN:VEVENT
DTSTART;TZID=America/Halifax:20280210T140000
DTEND;TZID=America/Halifax:20280210T144500
DTSTAMP:20260421T091243
CREATED:20250402T232431Z
LAST-MODIFIED:20250402T232431Z
UID:10004498-1833804000-1833806700@www.passamaquoddylodge.ca
SUMMARY:Exercising to the Oldies
DESCRIPTION:
URL:https://www.passamaquoddylodge.ca/event/exercising-to-the-oldies-2-2/2028-02-10/
CATEGORIES:Activity
END:VEVENT
BEGIN:VEVENT
DTSTART;TZID=America/Halifax:20280211T100000
DTEND;TZID=America/Halifax:20280211T110000
DTSTAMP:20260421T091243
CREATED:20250107T153226Z
LAST-MODIFIED:20250402T233152Z
UID:10003572-1833876000-1833879600@www.passamaquoddylodge.ca
SUMMARY:Baking
DESCRIPTION:
URL:https://www.passamaquoddylodge.ca/event/baking-2/2028-02-11/
END:VEVENT
BEGIN:VEVENT
DTSTART;TZID=America/Halifax:20280214T100000
DTEND;TZID=America/Halifax:20280214T110000
DTSTAMP:20260421T091243
CREATED:20240929T121925Z
LAST-MODIFIED:20250402T230833Z
UID:10000200-1834135200-1834138800@www.passamaquoddylodge.ca
SUMMARY:Bingo
DESCRIPTION:
URL:https://www.passamaquoddylodge.ca/event/bingo/2028-02-14/
CATEGORIES:Activity
END:VEVENT
BEGIN:VEVENT
DTSTART;TZID=America/Halifax:20280214T110000
DTEND;TZID=America/Halifax:20280214T113000
DTSTAMP:20260421T091243
CREATED:20250228T152005Z
LAST-MODIFIED:20250228T152005Z
UID:10004249-1834138800-1834140600@www.passamaquoddylodge.ca
SUMMARY:Tai Chi
DESCRIPTION:
URL:https://www.passamaquoddylodge.ca/event/tai-chi-6/2028-02-14/
END:VEVENT
BEGIN:VEVENT
DTSTART;TZID=America/Halifax:20280214T110000
DTEND;TZID=America/Halifax:20280214T113000
DTSTAMP:20260421T091243
CREATED:20251031T232949Z
LAST-MODIFIED:20251031T232950Z
UID:10005934-1834138800-1834140600@www.passamaquoddylodge.ca
SUMMARY:Fitness Class
DESCRIPTION:
URL:https://www.passamaquoddylodge.ca/event/fitness-class-7-2/2028-02-14/
END:VEVENT
BEGIN:VEVENT
DTSTART;TZID=America/Halifax:20280214T133000
DTEND;TZID=America/Halifax:20280214T143000
DTSTAMP:20260421T091243
CREATED:20251002T132703Z
LAST-MODIFIED:20251002T132703Z
UID:10005696-1834147800-1834151400@www.passamaquoddylodge.ca
SUMMARY:Let's Make Music
DESCRIPTION:
URL:https://www.passamaquoddylodge.ca/event/lets-make-music-2/2028-02-14/
END:VEVENT
BEGIN:VEVENT
DTSTART;TZID=America/Halifax:20280214T133000
DTEND;TZID=America/Halifax:20280214T143000
DTSTAMP:20260421T091243
CREATED:20260202T182719Z
LAST-MODIFIED:20260202T182946Z
UID:10006592-1834147800-1834151400@www.passamaquoddylodge.ca
SUMMARY:Crafts
DESCRIPTION:
URL:https://www.passamaquoddylodge.ca/event/crafts-9/2028-02-14/
END:VEVENT
BEGIN:VEVENT
DTSTART;TZID=America/Halifax:20280214T133000
DTEND;TZID=America/Halifax:20280214T144500
DTSTAMP:20260421T091243
CREATED:20250201T200743Z
LAST-MODIFIED:20250402T230911Z
UID:10003836-1834147800-1834152300@www.passamaquoddylodge.ca
SUMMARY:Easy Sew
DESCRIPTION:
URL:https://www.passamaquoddylodge.ca/event/easy-sew-6/2028-02-14/
END:VEVENT
BEGIN:VEVENT
DTSTART;TZID=America/Halifax:20280215T103000
DTEND;TZID=America/Halifax:20280215T113000
DTSTAMP:20260421T091243
CREATED:20250501T205221Z
LAST-MODIFIED:20250501T205221Z
UID:10000919-1834223400-1834227000@www.passamaquoddylodge.ca
SUMMARY:Java Circle
DESCRIPTION:
URL:https://www.passamaquoddylodge.ca/event/java-memory-2-2-2/2028-02-15/
CATEGORIES:Activity
END:VEVENT
BEGIN:VEVENT
DTSTART;TZID=America/Halifax:20280215T133000
DTEND;TZID=America/Halifax:20280215T143000
DTSTAMP:20260421T091243
CREATED:20260402T115345Z
LAST-MODIFIED:20260402T115346Z
UID:10006921-1834234200-1834237800@www.passamaquoddylodge.ca
SUMMARY:Easy Sew/Knitting
DESCRIPTION:
URL:https://www.passamaquoddylodge.ca/event/easy-sew-11-2/2028-02-15/
END:VEVENT
BEGIN:VEVENT
DTSTART;TZID=America/Halifax:20280216T100000
DTEND;TZID=America/Halifax:20280216T110000
DTSTAMP:20260421T091243
CREATED:20250501T205531Z
LAST-MODIFIED:20250501T205531Z
UID:10005009-1834308000-1834311600@www.passamaquoddylodge.ca
SUMMARY:Men's Coffee
DESCRIPTION:
URL:https://www.passamaquoddylodge.ca/event/mens-coffee-3/2028-02-16/
END:VEVENT
BEGIN:VEVENT
DTSTART;TZID=America/Halifax:20280217T103000
DTEND;TZID=America/Halifax:20280217T113000
DTSTAMP:20260421T091243
CREATED:20250402T232753Z
LAST-MODIFIED:20250402T232753Z
UID:10004589-1834396200-1834399800@www.passamaquoddylodge.ca
SUMMARY:Baptist Church
DESCRIPTION:
URL:https://www.passamaquoddylodge.ca/event/baptist-church-2/2028-02-17/
CATEGORIES:Activity
END:VEVENT
BEGIN:VEVENT
DTSTART;TZID=America/Halifax:20280217T130000
DTEND;TZID=America/Halifax:20280217T134500
DTSTAMP:20260421T091243
CREATED:20260202T184321Z
LAST-MODIFIED:20260202T184322Z
UID:10007277-1834405200-1834407900@www.passamaquoddylodge.ca
SUMMARY:Reading Buddies
DESCRIPTION:
URL:https://www.passamaquoddylodge.ca/event/reading-buddies-6-2-2/2028-02-17/
END:VEVENT
BEGIN:VEVENT
DTSTART;TZID=America/Halifax:20280217T140000
DTEND;TZID=America/Halifax:20280217T150000
DTSTAMP:20260421T091243
CREATED:20250201T202604Z
LAST-MODIFIED:20250201T202604Z
UID:10004140-1834408800-1834412400@www.passamaquoddylodge.ca
SUMMARY:Drums
DESCRIPTION:
URL:https://www.passamaquoddylodge.ca/event/drums-5/2028-02-17/
END:VEVENT
BEGIN:VEVENT
DTSTART;TZID=America/Halifax:20280218T100000
DTEND;TZID=America/Halifax:20280218T110000
DTSTAMP:20260421T091243
CREATED:20250107T153226Z
LAST-MODIFIED:20250402T233152Z
UID:10003573-1834480800-1834484400@www.passamaquoddylodge.ca
SUMMARY:Baking
DESCRIPTION:
URL:https://www.passamaquoddylodge.ca/event/baking-2/2028-02-18/
END:VEVENT
BEGIN:VEVENT
DTSTART;TZID=America/Halifax:20280218T133000
DTEND;TZID=America/Halifax:20280218T143000
DTSTAMP:20260421T091243
CREATED:20240929T142438Z
LAST-MODIFIED:20241003T180048Z
UID:10002035-1834493400-1834497000@www.passamaquoddylodge.ca
SUMMARY:Music Makers
DESCRIPTION:
URL:https://www.passamaquoddylodge.ca/event/music-makers/2028-02-18/
CATEGORIES:Activity
END:VEVENT
BEGIN:VEVENT
DTSTART;VALUE=DATE:20280220
DTEND;VALUE=DATE:20280221
DTSTAMP:20260421T091243
CREATED:20251002T132230Z
LAST-MODIFIED:20251002T132230Z
UID:10005474-1834617600-1834703999@www.passamaquoddylodge.ca
SUMMARY:Creative Class with Mariah
DESCRIPTION:
URL:https://www.passamaquoddylodge.ca/event/creative-class-with-mariah-3/2028-02-20/
END:VEVENT
END:VCALENDAR