BEGIN:VCALENDAR
VERSION:2.0
PRODID:-//Passamaquoddy Lodge - ECPv6.15.17.1//NONSGML v1.0//EN
CALSCALE:GREGORIAN
METHOD:PUBLISH
X-ORIGINAL-URL:https://www.passamaquoddylodge.ca
X-WR-CALDESC:Events for Passamaquoddy Lodge
REFRESH-INTERVAL;VALUE=DURATION:PT1H
X-Robots-Tag:noindex
X-PUBLISHED-TTL:PT1H
BEGIN:VTIMEZONE
TZID:America/Halifax
BEGIN:DAYLIGHT
TZOFFSETFROM:-0400
TZOFFSETTO:-0300
TZNAME:ADT
DTSTART:20270314T060000
END:DAYLIGHT
BEGIN:STANDARD
TZOFFSETFROM:-0300
TZOFFSETTO:-0400
TZNAME:AST
DTSTART:20271107T050000
END:STANDARD
BEGIN:DAYLIGHT
TZOFFSETFROM:-0400
TZOFFSETTO:-0300
TZNAME:ADT
DTSTART:20280312T060000
END:DAYLIGHT
BEGIN:STANDARD
TZOFFSETFROM:-0300
TZOFFSETTO:-0400
TZNAME:AST
DTSTART:20281105T050000
END:STANDARD
BEGIN:DAYLIGHT
TZOFFSETFROM:-0400
TZOFFSETTO:-0300
TZNAME:ADT
DTSTART:20290311T060000
END:DAYLIGHT
BEGIN:STANDARD
TZOFFSETFROM:-0300
TZOFFSETTO:-0400
TZNAME:AST
DTSTART:20291104T050000
END:STANDARD
END:VTIMEZONE
BEGIN:VEVENT
DTSTART;TZID=America/Halifax:20280214T110000
DTEND;TZID=America/Halifax:20280214T113000
DTSTAMP:20260423T123914
CREATED:20250228T152005Z
LAST-MODIFIED:20250228T152005Z
UID:10004249-1834138800-1834140600@www.passamaquoddylodge.ca
SUMMARY:Tai Chi
DESCRIPTION:
URL:https://www.passamaquoddylodge.ca/event/tai-chi-6/2028-02-14/
END:VEVENT
BEGIN:VEVENT
DTSTART;TZID=America/Halifax:20280214T110000
DTEND;TZID=America/Halifax:20280214T113000
DTSTAMP:20260423T123914
CREATED:20251031T232949Z
LAST-MODIFIED:20251031T232950Z
UID:10005934-1834138800-1834140600@www.passamaquoddylodge.ca
SUMMARY:Fitness Class
DESCRIPTION:
URL:https://www.passamaquoddylodge.ca/event/fitness-class-7-2/2028-02-14/
END:VEVENT
BEGIN:VEVENT
DTSTART;TZID=America/Halifax:20280214T133000
DTEND;TZID=America/Halifax:20280214T143000
DTSTAMP:20260423T123914
CREATED:20251002T132703Z
LAST-MODIFIED:20251002T132703Z
UID:10005696-1834147800-1834151400@www.passamaquoddylodge.ca
SUMMARY:Let's Make Music
DESCRIPTION:
URL:https://www.passamaquoddylodge.ca/event/lets-make-music-2/2028-02-14/
END:VEVENT
BEGIN:VEVENT
DTSTART;TZID=America/Halifax:20280214T133000
DTEND;TZID=America/Halifax:20280214T143000
DTSTAMP:20260423T123914
CREATED:20260202T182719Z
LAST-MODIFIED:20260202T182946Z
UID:10006592-1834147800-1834151400@www.passamaquoddylodge.ca
SUMMARY:Crafts
DESCRIPTION:
URL:https://www.passamaquoddylodge.ca/event/crafts-9/2028-02-14/
END:VEVENT
BEGIN:VEVENT
DTSTART;TZID=America/Halifax:20280214T133000
DTEND;TZID=America/Halifax:20280214T144500
DTSTAMP:20260423T123914
CREATED:20250201T200743Z
LAST-MODIFIED:20250402T230911Z
UID:10003836-1834147800-1834152300@www.passamaquoddylodge.ca
SUMMARY:Easy Sew
DESCRIPTION:
URL:https://www.passamaquoddylodge.ca/event/easy-sew-6/2028-02-14/
END:VEVENT
BEGIN:VEVENT
DTSTART;TZID=America/Halifax:20280215T103000
DTEND;TZID=America/Halifax:20280215T113000
DTSTAMP:20260423T123914
CREATED:20250501T205221Z
LAST-MODIFIED:20250501T205221Z
UID:10000919-1834223400-1834227000@www.passamaquoddylodge.ca
SUMMARY:Java Circle
DESCRIPTION:
URL:https://www.passamaquoddylodge.ca/event/java-memory-2-2-2/2028-02-15/
CATEGORIES:Activity
END:VEVENT
BEGIN:VEVENT
DTSTART;TZID=America/Halifax:20280215T133000
DTEND;TZID=America/Halifax:20280215T143000
DTSTAMP:20260423T123914
CREATED:20260402T115345Z
LAST-MODIFIED:20260402T115346Z
UID:10006921-1834234200-1834237800@www.passamaquoddylodge.ca
SUMMARY:Easy Sew/Knitting
DESCRIPTION:
URL:https://www.passamaquoddylodge.ca/event/easy-sew-11-2/2028-02-15/
END:VEVENT
BEGIN:VEVENT
DTSTART;TZID=America/Halifax:20280216T100000
DTEND;TZID=America/Halifax:20280216T110000
DTSTAMP:20260423T123914
CREATED:20250501T205531Z
LAST-MODIFIED:20250501T205531Z
UID:10005009-1834308000-1834311600@www.passamaquoddylodge.ca
SUMMARY:Men's Coffee
DESCRIPTION:
URL:https://www.passamaquoddylodge.ca/event/mens-coffee-3/2028-02-16/
END:VEVENT
BEGIN:VEVENT
DTSTART;TZID=America/Halifax:20280217T103000
DTEND;TZID=America/Halifax:20280217T113000
DTSTAMP:20260423T123914
CREATED:20250402T232753Z
LAST-MODIFIED:20250402T232753Z
UID:10004589-1834396200-1834399800@www.passamaquoddylodge.ca
SUMMARY:Baptist Church
DESCRIPTION:
URL:https://www.passamaquoddylodge.ca/event/baptist-church-2/2028-02-17/
CATEGORIES:Activity
END:VEVENT
BEGIN:VEVENT
DTSTART;TZID=America/Halifax:20280217T130000
DTEND;TZID=America/Halifax:20280217T134500
DTSTAMP:20260423T123914
CREATED:20260202T184321Z
LAST-MODIFIED:20260202T184322Z
UID:10007277-1834405200-1834407900@www.passamaquoddylodge.ca
SUMMARY:Reading Buddies
DESCRIPTION:
URL:https://www.passamaquoddylodge.ca/event/reading-buddies-6-2-2/2028-02-17/
END:VEVENT
BEGIN:VEVENT
DTSTART;TZID=America/Halifax:20280217T140000
DTEND;TZID=America/Halifax:20280217T150000
DTSTAMP:20260423T123914
CREATED:20250201T202604Z
LAST-MODIFIED:20250201T202604Z
UID:10004140-1834408800-1834412400@www.passamaquoddylodge.ca
SUMMARY:Drums
DESCRIPTION:
URL:https://www.passamaquoddylodge.ca/event/drums-5/2028-02-17/
END:VEVENT
BEGIN:VEVENT
DTSTART;TZID=America/Halifax:20280218T100000
DTEND;TZID=America/Halifax:20280218T110000
DTSTAMP:20260423T123914
CREATED:20250107T153226Z
LAST-MODIFIED:20250402T233152Z
UID:10003573-1834480800-1834484400@www.passamaquoddylodge.ca
SUMMARY:Baking
DESCRIPTION:
URL:https://www.passamaquoddylodge.ca/event/baking-2/2028-02-18/
END:VEVENT
BEGIN:VEVENT
DTSTART;TZID=America/Halifax:20280218T133000
DTEND;TZID=America/Halifax:20280218T143000
DTSTAMP:20260423T123914
CREATED:20240929T142438Z
LAST-MODIFIED:20241003T180048Z
UID:10002035-1834493400-1834497000@www.passamaquoddylodge.ca
SUMMARY:Music Makers
DESCRIPTION:
URL:https://www.passamaquoddylodge.ca/event/music-makers/2028-02-18/
CATEGORIES:Activity
END:VEVENT
BEGIN:VEVENT
DTSTART;VALUE=DATE:20280220
DTEND;VALUE=DATE:20280221
DTSTAMP:20260423T123914
CREATED:20251002T132230Z
LAST-MODIFIED:20251002T132230Z
UID:10005474-1834617600-1834703999@www.passamaquoddylodge.ca
SUMMARY:Creative Class with Mariah
DESCRIPTION:
URL:https://www.passamaquoddylodge.ca/event/creative-class-with-mariah-3/2028-02-20/
END:VEVENT
BEGIN:VEVENT
DTSTART;VALUE=DATE:20280221
DTEND;VALUE=DATE:20280222
DTSTAMP:20260423T123914
CREATED:20260202T183131Z
LAST-MODIFIED:20260202T183131Z
UID:10006810-1834704000-1834790399@www.passamaquoddylodge.ca
SUMMARY:Family Day!
DESCRIPTION:
URL:https://www.passamaquoddylodge.ca/event/family-day/2028-02-21/
END:VEVENT
BEGIN:VEVENT
DTSTART;TZID=America/Halifax:20280221T100000
DTEND;TZID=America/Halifax:20280221T110000
DTSTAMP:20260423T123914
CREATED:20240929T121925Z
LAST-MODIFIED:20250402T230833Z
UID:10000201-1834740000-1834743600@www.passamaquoddylodge.ca
SUMMARY:Bingo
DESCRIPTION:
URL:https://www.passamaquoddylodge.ca/event/bingo/2028-02-21/
CATEGORIES:Activity
END:VEVENT
BEGIN:VEVENT
DTSTART;TZID=America/Halifax:20280221T110000
DTEND;TZID=America/Halifax:20280221T113000
DTSTAMP:20260423T123914
CREATED:20251031T232949Z
LAST-MODIFIED:20251031T232950Z
UID:10004018-1834743600-1834745400@www.passamaquoddylodge.ca
SUMMARY:Fitness Class
DESCRIPTION:
URL:https://www.passamaquoddylodge.ca/event/fitness-class-7-2/2028-02-21/
END:VEVENT
BEGIN:VEVENT
DTSTART;TZID=America/Halifax:20280221T133000
DTEND;TZID=America/Halifax:20280221T143000
DTSTAMP:20260423T123914
CREATED:20251002T132703Z
LAST-MODIFIED:20251002T132703Z
UID:10005697-1834752600-1834756200@www.passamaquoddylodge.ca
SUMMARY:Let's Make Music
DESCRIPTION:
URL:https://www.passamaquoddylodge.ca/event/lets-make-music-2/2028-02-21/
END:VEVENT
BEGIN:VEVENT
DTSTART;TZID=America/Halifax:20280221T133000
DTEND;TZID=America/Halifax:20280221T143000
DTSTAMP:20260423T123914
CREATED:20260202T182719Z
LAST-MODIFIED:20260202T182946Z
UID:10006723-1834752600-1834756200@www.passamaquoddylodge.ca
SUMMARY:Crafts
DESCRIPTION:
URL:https://www.passamaquoddylodge.ca/event/crafts-9/2028-02-21/
END:VEVENT
BEGIN:VEVENT
DTSTART;TZID=America/Halifax:20280221T133000
DTEND;TZID=America/Halifax:20280221T144500
DTSTAMP:20260423T123914
CREATED:20250201T200743Z
LAST-MODIFIED:20250402T230911Z
UID:10003837-1834752600-1834757100@www.passamaquoddylodge.ca
SUMMARY:Easy Sew
DESCRIPTION:
URL:https://www.passamaquoddylodge.ca/event/easy-sew-6/2028-02-21/
END:VEVENT
BEGIN:VEVENT
DTSTART;TZID=America/Halifax:20280222T103000
DTEND;TZID=America/Halifax:20280222T113000
DTSTAMP:20260423T123914
CREATED:20250501T205221Z
LAST-MODIFIED:20250501T205221Z
UID:10000920-1834828200-1834831800@www.passamaquoddylodge.ca
SUMMARY:Java Circle
DESCRIPTION:
URL:https://www.passamaquoddylodge.ca/event/java-memory-2-2-2/2028-02-22/
CATEGORIES:Activity
END:VEVENT
BEGIN:VEVENT
DTSTART;TZID=America/Halifax:20280222T133000
DTEND;TZID=America/Halifax:20280222T143000
DTSTAMP:20260423T123914
CREATED:20260402T115345Z
LAST-MODIFIED:20260402T115346Z
UID:10006922-1834839000-1834842600@www.passamaquoddylodge.ca
SUMMARY:Easy Sew/Knitting
DESCRIPTION:
URL:https://www.passamaquoddylodge.ca/event/easy-sew-11-2/2028-02-22/
END:VEVENT
BEGIN:VEVENT
DTSTART;TZID=America/Halifax:20280223T100000
DTEND;TZID=America/Halifax:20280223T110000
DTSTAMP:20260423T123914
CREATED:20250501T205531Z
LAST-MODIFIED:20250501T205531Z
UID:10005010-1834912800-1834916400@www.passamaquoddylodge.ca
SUMMARY:Men's Coffee
DESCRIPTION:
URL:https://www.passamaquoddylodge.ca/event/mens-coffee-3/2028-02-23/
END:VEVENT
BEGIN:VEVENT
DTSTART;TZID=America/Halifax:20280224T103000
DTEND;TZID=America/Halifax:20280224T113000
DTSTAMP:20260423T123914
CREATED:20250402T232822Z
LAST-MODIFIED:20250402T232823Z
UID:10004648-1835001000-1835004600@www.passamaquoddylodge.ca
SUMMARY:Anglican Church
DESCRIPTION:
URL:https://www.passamaquoddylodge.ca/event/anglican-church-2/2028-02-24/
CATEGORIES:Activity
END:VEVENT
BEGIN:VEVENT
DTSTART;TZID=America/Halifax:20280224T130000
DTEND;TZID=America/Halifax:20280224T134500
DTSTAMP:20260423T123914
CREATED:20260202T183905Z
LAST-MODIFIED:20260202T183905Z
UID:10007146-1835010000-1835012700@www.passamaquoddylodge.ca
SUMMARY:Reading Buddies
DESCRIPTION:
URL:https://www.passamaquoddylodge.ca/event/reading-buddies-12/2028-02-24/
END:VEVENT
BEGIN:VEVENT
DTSTART;TZID=America/Halifax:20280224T140000
DTEND;TZID=America/Halifax:20280224T144500
DTSTAMP:20260423T123914
CREATED:20250402T232431Z
LAST-MODIFIED:20250402T232431Z
UID:10004499-1835013600-1835016300@www.passamaquoddylodge.ca
SUMMARY:Exercising to the Oldies
DESCRIPTION:
URL:https://www.passamaquoddylodge.ca/event/exercising-to-the-oldies-2-2/2028-02-24/
CATEGORIES:Activity
END:VEVENT
BEGIN:VEVENT
DTSTART;TZID=America/Halifax:20280225T100000
DTEND;TZID=America/Halifax:20280225T110000
DTSTAMP:20260423T123914
CREATED:20250107T153226Z
LAST-MODIFIED:20250402T233152Z
UID:10003574-1835085600-1835089200@www.passamaquoddylodge.ca
SUMMARY:Baking
DESCRIPTION:
URL:https://www.passamaquoddylodge.ca/event/baking-2/2028-02-25/
END:VEVENT
BEGIN:VEVENT
DTSTART;TZID=America/Halifax:20280228T100000
DTEND;TZID=America/Halifax:20280228T110000
DTSTAMP:20260423T123914
CREATED:20240929T121925Z
LAST-MODIFIED:20250402T230833Z
UID:10000202-1835344800-1835348400@www.passamaquoddylodge.ca
SUMMARY:Bingo
DESCRIPTION:
URL:https://www.passamaquoddylodge.ca/event/bingo/2028-02-28/
CATEGORIES:Activity
END:VEVENT
BEGIN:VEVENT
DTSTART;TZID=America/Halifax:20280228T110000
DTEND;TZID=America/Halifax:20280228T113000
DTSTAMP:20260423T123914
CREATED:20250228T152005Z
LAST-MODIFIED:20250228T152005Z
UID:10004250-1835348400-1835350200@www.passamaquoddylodge.ca
SUMMARY:Tai Chi
DESCRIPTION:
URL:https://www.passamaquoddylodge.ca/event/tai-chi-6/2028-02-28/
END:VEVENT
BEGIN:VEVENT
DTSTART;TZID=America/Halifax:20280228T110000
DTEND;TZID=America/Halifax:20280228T113000
DTSTAMP:20260423T123914
CREATED:20251031T232949Z
LAST-MODIFIED:20251031T232950Z
UID:10005935-1835348400-1835350200@www.passamaquoddylodge.ca
SUMMARY:Fitness Class
DESCRIPTION:
URL:https://www.passamaquoddylodge.ca/event/fitness-class-7-2/2028-02-28/
END:VEVENT
END:VCALENDAR