BEGIN:VCALENDAR
VERSION:2.0
PRODID:-//Passamaquoddy Lodge - ECPv6.15.17.1//NONSGML v1.0//EN
CALSCALE:GREGORIAN
METHOD:PUBLISH
X-WR-CALNAME:Passamaquoddy Lodge
X-ORIGINAL-URL:https://www.passamaquoddylodge.ca
X-WR-CALDESC:Events for Passamaquoddy Lodge
REFRESH-INTERVAL;VALUE=DURATION:PT1H
X-Robots-Tag:noindex
X-PUBLISHED-TTL:PT1H
BEGIN:VTIMEZONE
TZID:America/Halifax
BEGIN:DAYLIGHT
TZOFFSETFROM:-0400
TZOFFSETTO:-0300
TZNAME:ADT
DTSTART:20240310T060000
END:DAYLIGHT
BEGIN:STANDARD
TZOFFSETFROM:-0300
TZOFFSETTO:-0400
TZNAME:AST
DTSTART:20241103T050000
END:STANDARD
BEGIN:DAYLIGHT
TZOFFSETFROM:-0400
TZOFFSETTO:-0300
TZNAME:ADT
DTSTART:20250309T060000
END:DAYLIGHT
BEGIN:STANDARD
TZOFFSETFROM:-0300
TZOFFSETTO:-0400
TZNAME:AST
DTSTART:20251102T050000
END:STANDARD
BEGIN:DAYLIGHT
TZOFFSETFROM:-0400
TZOFFSETTO:-0300
TZNAME:ADT
DTSTART:20260308T060000
END:DAYLIGHT
BEGIN:STANDARD
TZOFFSETFROM:-0300
TZOFFSETTO:-0400
TZNAME:AST
DTSTART:20261101T050000
END:STANDARD
END:VTIMEZONE
BEGIN:VEVENT
DTSTART;VALUE=DATE:20250722
DTEND;VALUE=DATE:20250723
DTSTAMP:20260419T203842
CREATED:20250603T110203Z
LAST-MODIFIED:20250801T095206Z
UID:10005177-1753142400-1753228799@www.passamaquoddylodge.ca
SUMMARY:Kingsbrae Tours
DESCRIPTION:
URL:https://www.passamaquoddylodge.ca/event/kingsbrae-tours/2025-07-22/
END:VEVENT
BEGIN:VEVENT
DTSTART;TZID=America/Halifax:20250721T133000
DTEND;TZID=America/Halifax:20250721T144500
DTSTAMP:20260419T203842
CREATED:20250201T200743Z
LAST-MODIFIED:20250402T230911Z
UID:10003702-1753104600-1753109100@www.passamaquoddylodge.ca
SUMMARY:Easy Sew
DESCRIPTION:
URL:https://www.passamaquoddylodge.ca/event/easy-sew-6/2025-07-21/
END:VEVENT
BEGIN:VEVENT
DTSTART;TZID=America/Halifax:20250721T110000
DTEND;TZID=America/Halifax:20250721T113000
DTSTAMP:20260419T203842
CREATED:20250228T152005Z
LAST-MODIFIED:20250228T152005Z
UID:10004182-1753095600-1753097400@www.passamaquoddylodge.ca
SUMMARY:Tai Chi
DESCRIPTION:
URL:https://www.passamaquoddylodge.ca/event/tai-chi-6/2025-07-21/
END:VEVENT
BEGIN:VEVENT
DTSTART;TZID=America/Halifax:20250721T100000
DTEND;TZID=America/Halifax:20250721T110000
DTSTAMP:20260419T203842
CREATED:20240929T121925Z
LAST-MODIFIED:20250402T230833Z
UID:10000066-1753092000-1753095600@www.passamaquoddylodge.ca
SUMMARY:Bingo
DESCRIPTION:
URL:https://www.passamaquoddylodge.ca/event/bingo/2025-07-21/
CATEGORIES:Activity
END:VEVENT
BEGIN:VEVENT
DTSTART;VALUE=DATE:20250720
DTEND;VALUE=DATE:20250721
DTSTAMP:20260419T203842
CREATED:20250630T153256Z
LAST-MODIFIED:20250630T153256Z
UID:10005256-1752969600-1753055999@www.passamaquoddylodge.ca
SUMMARY:Fun with Lauren
DESCRIPTION:
URL:https://www.passamaquoddylodge.ca/event/fun-with-lauren-2/2025-07-20/
END:VEVENT
BEGIN:VEVENT
DTSTART;VALUE=DATE:20250719
DTEND;VALUE=DATE:20250720
DTSTAMP:20260419T203842
CREATED:20250630T153208Z
LAST-MODIFIED:20250630T153208Z
UID:10005254-1752883200-1752969599@www.passamaquoddylodge.ca
SUMMARY:Fun with Lauren
DESCRIPTION:
URL:https://www.passamaquoddylodge.ca/event/fun-with-lauren/2025-07-19/
END:VEVENT
BEGIN:VEVENT
DTSTART;TZID=America/Halifax:20250718T133000
DTEND;TZID=America/Halifax:20250718T143000
DTSTAMP:20260419T203842
CREATED:20240929T142438Z
LAST-MODIFIED:20241003T180048Z
UID:10002004-1752845400-1752849000@www.passamaquoddylodge.ca
SUMMARY:Music Makers
DESCRIPTION:
URL:https://www.passamaquoddylodge.ca/event/music-makers/2025-07-18/
CATEGORIES:Activity
END:VEVENT
BEGIN:VEVENT
DTSTART;TZID=America/Halifax:20250718T100000
DTEND;TZID=America/Halifax:20250718T110000
DTSTAMP:20260419T203842
CREATED:20250107T153226Z
LAST-MODIFIED:20250402T233152Z
UID:10003438-1752832800-1752836400@www.passamaquoddylodge.ca
SUMMARY:Baking
DESCRIPTION:
URL:https://www.passamaquoddylodge.ca/event/baking-2/2025-07-18/
END:VEVENT
BEGIN:VEVENT
DTSTART;TZID=America/Halifax:20250717T140000
DTEND;TZID=America/Halifax:20250717T150000
DTSTAMP:20260419T203842
CREATED:20250630T154141Z
LAST-MODIFIED:20250630T154141Z
UID:10005275-1752760800-1752764400@www.passamaquoddylodge.ca
SUMMARY:Music
DESCRIPTION:
URL:https://www.passamaquoddylodge.ca/event/music/
END:VEVENT
BEGIN:VEVENT
DTSTART;TZID=America/Halifax:20250717T100000
DTEND;TZID=America/Halifax:20250717T110000
DTSTAMP:20260419T203842
CREATED:20250630T154114Z
LAST-MODIFIED:20250630T154114Z
UID:10005274-1752746400-1752750000@www.passamaquoddylodge.ca
SUMMARY:Get Fit
DESCRIPTION:
URL:https://www.passamaquoddylodge.ca/event/get-fit/
END:VEVENT
BEGIN:VEVENT
DTSTART;TZID=America/Halifax:20250716T130000
DTEND;TZID=America/Halifax:20250716T140000
DTSTAMP:20260419T203842
CREATED:20250630T153837Z
LAST-MODIFIED:20250630T153837Z
UID:10005269-1752670800-1752674400@www.passamaquoddylodge.ca
SUMMARY:Music with Eddie
DESCRIPTION:
URL:https://www.passamaquoddylodge.ca/event/music-with-eddie/
END:VEVENT
BEGIN:VEVENT
DTSTART;TZID=America/Halifax:20250716T100000
DTEND;TZID=America/Halifax:20250716T110000
DTSTAMP:20260419T203842
CREATED:20250501T205531Z
LAST-MODIFIED:20250501T205531Z
UID:10004874-1752660000-1752663600@www.passamaquoddylodge.ca
SUMMARY:Men's Coffee
DESCRIPTION:
URL:https://www.passamaquoddylodge.ca/event/mens-coffee-3/2025-07-16/
END:VEVENT
BEGIN:VEVENT
DTSTART;VALUE=DATE:20250716
DTEND;VALUE=DATE:20250717
DTSTAMP:20260419T203842
CREATED:20250603T105640Z
LAST-MODIFIED:20250603T110033Z
UID:10005163-1752624000-1752710399@www.passamaquoddylodge.ca
SUMMARY:BBQ Day!
DESCRIPTION:
URL:https://www.passamaquoddylodge.ca/event/bbq-day/2025-07-16/
END:VEVENT
BEGIN:VEVENT
DTSTART;TZID=America/Halifax:20250715T103000
DTEND;TZID=America/Halifax:20250715T113000
DTSTAMP:20260419T203842
CREATED:20250501T205221Z
LAST-MODIFIED:20250501T205221Z
UID:10000784-1752575400-1752579000@www.passamaquoddylodge.ca
SUMMARY:Java Circle
DESCRIPTION:
URL:https://www.passamaquoddylodge.ca/event/java-memory-2-2-2/2025-07-15/
CATEGORIES:Activity
END:VEVENT
BEGIN:VEVENT
DTSTART;VALUE=DATE:20250715
DTEND;VALUE=DATE:20250716
DTSTAMP:20260419T203842
CREATED:20250603T110203Z
LAST-MODIFIED:20250801T095206Z
UID:10005176-1752537600-1752623999@www.passamaquoddylodge.ca
SUMMARY:Kingsbrae Tours
DESCRIPTION:
URL:https://www.passamaquoddylodge.ca/event/kingsbrae-tours/2025-07-15/
END:VEVENT
BEGIN:VEVENT
DTSTART;TZID=America/Halifax:20250714T133000
DTEND;TZID=America/Halifax:20250714T144500
DTSTAMP:20260419T203842
CREATED:20250201T200743Z
LAST-MODIFIED:20250402T230911Z
UID:10003701-1752499800-1752504300@www.passamaquoddylodge.ca
SUMMARY:Easy Sew
DESCRIPTION:
URL:https://www.passamaquoddylodge.ca/event/easy-sew-6/2025-07-14/
END:VEVENT
BEGIN:VEVENT
DTSTART;TZID=America/Halifax:20250714T110000
DTEND;TZID=America/Halifax:20250714T113000
DTSTAMP:20260419T203842
CREATED:20250201T200839Z
LAST-MODIFIED:20250402T230852Z
UID:10003950-1752490800-1752492600@www.passamaquoddylodge.ca
SUMMARY:Fitness Class
DESCRIPTION:
URL:https://www.passamaquoddylodge.ca/event/fitness-class-7/2025-07-14/
END:VEVENT
BEGIN:VEVENT
DTSTART;TZID=America/Halifax:20250714T100000
DTEND;TZID=America/Halifax:20250714T110000
DTSTAMP:20260419T203842
CREATED:20240929T121925Z
LAST-MODIFIED:20250402T230833Z
UID:10000065-1752487200-1752490800@www.passamaquoddylodge.ca
SUMMARY:Bingo
DESCRIPTION:
URL:https://www.passamaquoddylodge.ca/event/bingo/2025-07-14/
CATEGORIES:Activity
END:VEVENT
BEGIN:VEVENT
DTSTART;VALUE=DATE:20250713
DTEND;VALUE=DATE:20250714
DTSTAMP:20260419T203842
CREATED:20250630T151841Z
LAST-MODIFIED:20250630T151842Z
UID:10001290-1752364800-1752451199@www.passamaquoddylodge.ca
SUMMARY:Fun with Mariah
DESCRIPTION:
URL:https://www.passamaquoddylodge.ca/event/fun-with-mariah-2-2-2/2025-07-13/
CATEGORIES:Activity
END:VEVENT
BEGIN:VEVENT
DTSTART;VALUE=DATE:20250711
DTEND;VALUE=DATE:20250712
DTSTAMP:20260419T203842
CREATED:20250630T154411Z
LAST-MODIFIED:20250630T154411Z
UID:10005279-1752192000-1752278399@www.passamaquoddylodge.ca
SUMMARY:Carnival
DESCRIPTION:
URL:https://www.passamaquoddylodge.ca/event/carnival/
END:VEVENT
BEGIN:VEVENT
DTSTART;TZID=America/Halifax:20250710T100000
DTEND;TZID=America/Halifax:20250710T110000
DTSTAMP:20260419T203842
CREATED:20240929T141506Z
LAST-MODIFIED:20241003T175359Z
UID:10001692-1752141600-1752145200@www.passamaquoddylodge.ca
SUMMARY:United Church
DESCRIPTION:
URL:https://www.passamaquoddylodge.ca/event/united-church/2025-07-10/
CATEGORIES:Activity
END:VEVENT
BEGIN:VEVENT
DTSTART;VALUE=DATE:20250710
DTEND;VALUE=DATE:20250711
DTSTAMP:20260419T203842
CREATED:20250630T154045Z
LAST-MODIFIED:20250630T154045Z
UID:10005273-1752105600-1752191999@www.passamaquoddylodge.ca
SUMMARY:Setup for Carnival
DESCRIPTION:
URL:https://www.passamaquoddylodge.ca/event/setup-for-carnival/
END:VEVENT
BEGIN:VEVENT
DTSTART;TZID=America/Halifax:20250709T100000
DTEND;TZID=America/Halifax:20250709T110000
DTSTAMP:20260419T203842
CREATED:20250501T205531Z
LAST-MODIFIED:20250501T205531Z
UID:10004873-1752055200-1752058800@www.passamaquoddylodge.ca
SUMMARY:Men's Coffee
DESCRIPTION:
URL:https://www.passamaquoddylodge.ca/event/mens-coffee-3/2025-07-09/
END:VEVENT
BEGIN:VEVENT
DTSTART;VALUE=DATE:20250709
DTEND;VALUE=DATE:20250710
DTSTAMP:20260419T203842
CREATED:20250630T153800Z
LAST-MODIFIED:20250630T153800Z
UID:10005267-1752019200-1752105599@www.passamaquoddylodge.ca
SUMMARY:Afternoon Sunshine Time
DESCRIPTION:
URL:https://www.passamaquoddylodge.ca/event/afternoon-sunshine-time-2/2025-07-09/
END:VEVENT
BEGIN:VEVENT
DTSTART;VALUE=DATE:20250709
DTEND;VALUE=DATE:20250710
DTSTAMP:20260419T203842
CREATED:20250603T105640Z
LAST-MODIFIED:20250603T110033Z
UID:10005162-1752019200-1752105599@www.passamaquoddylodge.ca
SUMMARY:BBQ Day!
DESCRIPTION:
URL:https://www.passamaquoddylodge.ca/event/bbq-day/2025-07-09/
END:VEVENT
BEGIN:VEVENT
DTSTART;TZID=America/Halifax:20250708T103000
DTEND;TZID=America/Halifax:20250708T113000
DTSTAMP:20260419T203842
CREATED:20250501T205221Z
LAST-MODIFIED:20250501T205221Z
UID:10000783-1751970600-1751974200@www.passamaquoddylodge.ca
SUMMARY:Java Circle
DESCRIPTION:
URL:https://www.passamaquoddylodge.ca/event/java-memory-2-2-2/2025-07-08/
CATEGORIES:Activity
END:VEVENT
BEGIN:VEVENT
DTSTART;VALUE=DATE:20250708
DTEND;VALUE=DATE:20250709
DTSTAMP:20260419T203842
CREATED:20250603T110203Z
LAST-MODIFIED:20250801T095206Z
UID:10005175-1751932800-1752019199@www.passamaquoddylodge.ca
SUMMARY:Kingsbrae Tours
DESCRIPTION:
URL:https://www.passamaquoddylodge.ca/event/kingsbrae-tours/2025-07-08/
END:VEVENT
BEGIN:VEVENT
DTSTART;TZID=America/Halifax:20250707T133000
DTEND;TZID=America/Halifax:20250707T144500
DTSTAMP:20260419T203842
CREATED:20250201T200743Z
LAST-MODIFIED:20250402T230911Z
UID:10003700-1751895000-1751899500@www.passamaquoddylodge.ca
SUMMARY:Easy Sew
DESCRIPTION:
URL:https://www.passamaquoddylodge.ca/event/easy-sew-6/2025-07-07/
END:VEVENT
BEGIN:VEVENT
DTSTART;TZID=America/Halifax:20250707T110000
DTEND;TZID=America/Halifax:20250707T113000
DTSTAMP:20260419T203842
CREATED:20250228T152005Z
LAST-MODIFIED:20250228T152005Z
UID:10004181-1751886000-1751887800@www.passamaquoddylodge.ca
SUMMARY:Tai Chi
DESCRIPTION:
URL:https://www.passamaquoddylodge.ca/event/tai-chi-6/2025-07-07/
END:VEVENT
BEGIN:VEVENT
DTSTART;TZID=America/Halifax:20250707T100000
DTEND;TZID=America/Halifax:20250707T110000
DTSTAMP:20260419T203842
CREATED:20240929T121925Z
LAST-MODIFIED:20250402T230833Z
UID:10000064-1751882400-1751886000@www.passamaquoddylodge.ca
SUMMARY:Bingo
DESCRIPTION:
URL:https://www.passamaquoddylodge.ca/event/bingo/2025-07-07/
CATEGORIES:Activity
END:VEVENT
END:VCALENDAR