BEGIN:VCALENDAR
VERSION:2.0
PRODID:-//Passamaquoddy Lodge - ECPv6.15.17.1//NONSGML v1.0//EN
CALSCALE:GREGORIAN
METHOD:PUBLISH
X-WR-CALNAME:Passamaquoddy Lodge
X-ORIGINAL-URL:https://www.passamaquoddylodge.ca
X-WR-CALDESC:Events for Passamaquoddy Lodge
REFRESH-INTERVAL;VALUE=DURATION:PT1H
X-Robots-Tag:noindex
X-PUBLISHED-TTL:PT1H
BEGIN:VTIMEZONE
TZID:America/Halifax
BEGIN:DAYLIGHT
TZOFFSETFROM:-0400
TZOFFSETTO:-0300
TZNAME:ADT
DTSTART:20240310T060000
END:DAYLIGHT
BEGIN:STANDARD
TZOFFSETFROM:-0300
TZOFFSETTO:-0400
TZNAME:AST
DTSTART:20241103T050000
END:STANDARD
BEGIN:DAYLIGHT
TZOFFSETFROM:-0400
TZOFFSETTO:-0300
TZNAME:ADT
DTSTART:20250309T060000
END:DAYLIGHT
BEGIN:STANDARD
TZOFFSETFROM:-0300
TZOFFSETTO:-0400
TZNAME:AST
DTSTART:20251102T050000
END:STANDARD
BEGIN:DAYLIGHT
TZOFFSETFROM:-0400
TZOFFSETTO:-0300
TZNAME:ADT
DTSTART:20260308T060000
END:DAYLIGHT
BEGIN:STANDARD
TZOFFSETFROM:-0300
TZOFFSETTO:-0400
TZNAME:AST
DTSTART:20261101T050000
END:STANDARD
END:VTIMEZONE
BEGIN:VEVENT
DTSTART;VALUE=DATE:20250615
DTEND;VALUE=DATE:20250616
DTSTAMP:20260420T010310
CREATED:20250603T111042Z
LAST-MODIFIED:20250603T111042Z
UID:10005210-1749945600-1750031999@www.passamaquoddylodge.ca
SUMMARY:Father's Day
DESCRIPTION:
URL:https://www.passamaquoddylodge.ca/event/fathers-day/
END:VEVENT
BEGIN:VEVENT
DTSTART;TZID=America/Halifax:20250616T100000
DTEND;TZID=America/Halifax:20250616T110000
DTSTAMP:20260420T010310
CREATED:20240929T121925Z
LAST-MODIFIED:20250402T230833Z
UID:10000061-1750068000-1750071600@www.passamaquoddylodge.ca
SUMMARY:Bingo
DESCRIPTION:
URL:https://www.passamaquoddylodge.ca/event/bingo/2025-06-16/
CATEGORIES:Activity
END:VEVENT
BEGIN:VEVENT
DTSTART;TZID=America/Halifax:20250616T110000
DTEND;TZID=America/Halifax:20250616T113000
DTSTAMP:20260420T010310
CREATED:20250201T200839Z
LAST-MODIFIED:20250402T230852Z
UID:10003948-1750071600-1750073400@www.passamaquoddylodge.ca
SUMMARY:Fitness Class
DESCRIPTION:
URL:https://www.passamaquoddylodge.ca/event/fitness-class-7/2025-06-16/
END:VEVENT
BEGIN:VEVENT
DTSTART;TZID=America/Halifax:20250616T133000
DTEND;TZID=America/Halifax:20250616T144500
DTSTAMP:20260420T010310
CREATED:20250201T200743Z
LAST-MODIFIED:20250402T230911Z
UID:10003697-1750080600-1750085100@www.passamaquoddylodge.ca
SUMMARY:Easy Sew
DESCRIPTION:
URL:https://www.passamaquoddylodge.ca/event/easy-sew-6/2025-06-16/
END:VEVENT
BEGIN:VEVENT
DTSTART;TZID=America/Halifax:20250616T150000
DTEND;TZID=America/Halifax:20250616T153000
DTSTAMP:20260420T010310
CREATED:20250603T110823Z
LAST-MODIFIED:20250603T110823Z
UID:10005199-1750086000-1750087800@www.passamaquoddylodge.ca
SUMMARY:Sensory Table
DESCRIPTION:
URL:https://www.passamaquoddylodge.ca/event/sensory-table-3/2025-06-16/
END:VEVENT
BEGIN:VEVENT
DTSTART;VALUE=DATE:20250617
DTEND;VALUE=DATE:20250618
DTSTAMP:20260420T010310
CREATED:20250603T110203Z
LAST-MODIFIED:20250801T095206Z
UID:10005172-1750118400-1750204799@www.passamaquoddylodge.ca
SUMMARY:Kingsbrae Tours
DESCRIPTION:
URL:https://www.passamaquoddylodge.ca/event/kingsbrae-tours/2025-06-17/
END:VEVENT
BEGIN:VEVENT
DTSTART;TZID=America/Halifax:20250617T103000
DTEND;TZID=America/Halifax:20250617T113000
DTSTAMP:20260420T010310
CREATED:20250501T205221Z
LAST-MODIFIED:20250501T205221Z
UID:10000780-1750156200-1750159800@www.passamaquoddylodge.ca
SUMMARY:Java Circle
DESCRIPTION:
URL:https://www.passamaquoddylodge.ca/event/java-memory-2-2-2/2025-06-17/
CATEGORIES:Activity
END:VEVENT
BEGIN:VEVENT
DTSTART;VALUE=DATE:20250618
DTEND;VALUE=DATE:20250619
DTSTAMP:20260420T010310
CREATED:20250603T105640Z
LAST-MODIFIED:20250603T110033Z
UID:10005159-1750204800-1750291199@www.passamaquoddylodge.ca
SUMMARY:BBQ Day!
DESCRIPTION:
URL:https://www.passamaquoddylodge.ca/event/bbq-day/2025-06-18/
END:VEVENT
BEGIN:VEVENT
DTSTART;TZID=America/Halifax:20250618T100000
DTEND;TZID=America/Halifax:20250618T110000
DTSTAMP:20260420T010310
CREATED:20250603T105912Z
LAST-MODIFIED:20250603T105912Z
UID:10004870-1750240800-1750244400@www.passamaquoddylodge.ca
SUMMARY:Celebrating the 7th Year of Men's Coffee Day!
DESCRIPTION:
URL:https://www.passamaquoddylodge.ca/event/mens-coffee-3-2/
END:VEVENT
BEGIN:VEVENT
DTSTART;TZID=America/Halifax:20250619T103000
DTEND;TZID=America/Halifax:20250619T113000
DTSTAMP:20260420T010310
CREATED:20250402T232753Z
LAST-MODIFIED:20250402T232753Z
UID:10004557-1750329000-1750332600@www.passamaquoddylodge.ca
SUMMARY:Baptist Church
DESCRIPTION:
URL:https://www.passamaquoddylodge.ca/event/baptist-church-2/2025-06-19/
CATEGORIES:Activity
END:VEVENT
BEGIN:VEVENT
DTSTART;TZID=America/Halifax:20250619T140000
DTEND;TZID=America/Halifax:20250619T144500
DTSTAMP:20260420T010310
CREATED:20250402T232431Z
LAST-MODIFIED:20250402T232431Z
UID:10004429-1750341600-1750344300@www.passamaquoddylodge.ca
SUMMARY:Exercising to the Oldies
DESCRIPTION:
URL:https://www.passamaquoddylodge.ca/event/exercising-to-the-oldies-2-2/2025-06-19/
CATEGORIES:Activity
END:VEVENT
BEGIN:VEVENT
DTSTART;TZID=America/Halifax:20250620T100000
DTEND;TZID=America/Halifax:20250620T110000
DTSTAMP:20260420T010310
CREATED:20250107T153226Z
LAST-MODIFIED:20250402T233152Z
UID:10003434-1750413600-1750417200@www.passamaquoddylodge.ca
SUMMARY:Baking
DESCRIPTION:
URL:https://www.passamaquoddylodge.ca/event/baking-2/2025-06-20/
END:VEVENT
BEGIN:VEVENT
DTSTART;TZID=America/Halifax:20250620T133000
DTEND;TZID=America/Halifax:20250620T143000
DTSTAMP:20260420T010310
CREATED:20240929T142438Z
LAST-MODIFIED:20241003T180048Z
UID:10002003-1750426200-1750429800@www.passamaquoddylodge.ca
SUMMARY:Music Makers
DESCRIPTION:
URL:https://www.passamaquoddylodge.ca/event/music-makers/2025-06-20/
CATEGORIES:Activity
END:VEVENT
BEGIN:VEVENT
DTSTART;TZID=America/Halifax:20250621T100000
DTEND;TZID=America/Halifax:20250621T110000
DTSTAMP:20260420T010310
CREATED:20250603T104921Z
LAST-MODIFIED:20250603T105053Z
UID:10005133-1750500000-1750503600@www.passamaquoddylodge.ca
SUMMARY:Coffee and Catching Up
DESCRIPTION:
URL:https://www.passamaquoddylodge.ca/event/coffee-and-catching-up-2/2025-06-21/
END:VEVENT
BEGIN:VEVENT
DTSTART;TZID=America/Halifax:20250621T133000
DTEND;TZID=America/Halifax:20250621T144500
DTSTAMP:20260420T010310
CREATED:20250603T105023Z
LAST-MODIFIED:20250603T105023Z
UID:10005132-1750512600-1750517100@www.passamaquoddylodge.ca
SUMMARY:Sunshine Time
DESCRIPTION:
URL:https://www.passamaquoddylodge.ca/event/sunshine-time-4/2025-06-21/
END:VEVENT
BEGIN:VEVENT
DTSTART;TZID=America/Halifax:20250622T100000
DTEND;TZID=America/Halifax:20250622T110000
DTSTAMP:20260420T010310
CREATED:20250603T111111Z
LAST-MODIFIED:20250603T111126Z
UID:10005212-1750586400-1750590000@www.passamaquoddylodge.ca
SUMMARY:Coffee & Manicures
DESCRIPTION:
URL:https://www.passamaquoddylodge.ca/event/coffee-manicures/2025-06-22/
END:VEVENT
BEGIN:VEVENT
DTSTART;TZID=America/Halifax:20250622T133000
DTEND;TZID=America/Halifax:20250622T144500
DTSTAMP:20260420T010310
CREATED:20250603T111213Z
LAST-MODIFIED:20250603T111213Z
UID:10005218-1750599000-1750603500@www.passamaquoddylodge.ca
SUMMARY:Sunshine Time
DESCRIPTION:
URL:https://www.passamaquoddylodge.ca/event/sunshine-time-5/2025-06-22/
END:VEVENT
BEGIN:VEVENT
DTSTART;TZID=America/Halifax:20250623T100000
DTEND;TZID=America/Halifax:20250623T110000
DTSTAMP:20260420T010310
CREATED:20240929T121925Z
LAST-MODIFIED:20250402T230833Z
UID:10000062-1750672800-1750676400@www.passamaquoddylodge.ca
SUMMARY:Bingo
DESCRIPTION:
URL:https://www.passamaquoddylodge.ca/event/bingo/2025-06-23/
CATEGORIES:Activity
END:VEVENT
BEGIN:VEVENT
DTSTART;TZID=America/Halifax:20250623T110000
DTEND;TZID=America/Halifax:20250623T120000
DTSTAMP:20260420T010310
CREATED:20241003T173137Z
LAST-MODIFIED:20250201T201031Z
UID:10002079-1750676400-1750680000@www.passamaquoddylodge.ca
SUMMARY:Tai Chi
DESCRIPTION:
URL:https://www.passamaquoddylodge.ca/event/tai-chi-3/2025-06-23/
END:VEVENT
BEGIN:VEVENT
DTSTART;TZID=America/Halifax:20250623T133000
DTEND;TZID=America/Halifax:20250623T144500
DTSTAMP:20260420T010310
CREATED:20250201T200743Z
LAST-MODIFIED:20250402T230911Z
UID:10003698-1750685400-1750689900@www.passamaquoddylodge.ca
SUMMARY:Easy Sew
DESCRIPTION:
URL:https://www.passamaquoddylodge.ca/event/easy-sew-6/2025-06-23/
END:VEVENT
BEGIN:VEVENT
DTSTART;VALUE=DATE:20250624
DTEND;VALUE=DATE:20250625
DTSTAMP:20260420T010310
CREATED:20250603T110203Z
LAST-MODIFIED:20250801T095206Z
UID:10005173-1750723200-1750809599@www.passamaquoddylodge.ca
SUMMARY:Kingsbrae Tours
DESCRIPTION:
URL:https://www.passamaquoddylodge.ca/event/kingsbrae-tours/2025-06-24/
END:VEVENT
BEGIN:VEVENT
DTSTART;TZID=America/Halifax:20250624T103000
DTEND;TZID=America/Halifax:20250624T113000
DTSTAMP:20260420T010310
CREATED:20250501T205221Z
LAST-MODIFIED:20250501T205221Z
UID:10000781-1750761000-1750764600@www.passamaquoddylodge.ca
SUMMARY:Java Circle
DESCRIPTION:
URL:https://www.passamaquoddylodge.ca/event/java-memory-2-2-2/2025-06-24/
CATEGORIES:Activity
END:VEVENT
BEGIN:VEVENT
DTSTART;TZID=America/Halifax:20250624T130000
DTEND;TZID=America/Halifax:20250624T140000
DTSTAMP:20260420T010310
CREATED:20250603T110336Z
LAST-MODIFIED:20250603T110336Z
UID:10005186-1750770000-1750773600@www.passamaquoddylodge.ca
SUMMARY:Resident Council
DESCRIPTION:
URL:https://www.passamaquoddylodge.ca/event/resident-council-8/
END:VEVENT
BEGIN:VEVENT
DTSTART;TZID=America/Halifax:20250624T143000
DTEND;TZID=America/Halifax:20250624T153000
DTSTAMP:20260420T010310
CREATED:20250603T110506Z
LAST-MODIFIED:20250603T110506Z
UID:10005187-1750775400-1750779000@www.passamaquoddylodge.ca
SUMMARY:Music with Shawn Richard
DESCRIPTION:
URL:https://www.passamaquoddylodge.ca/event/music-with-shawn-richard-8/
END:VEVENT
BEGIN:VEVENT
DTSTART;VALUE=DATE:20250625
DTEND;VALUE=DATE:20250626
DTSTAMP:20260420T010310
CREATED:20250603T105640Z
LAST-MODIFIED:20250603T110033Z
UID:10005160-1750809600-1750895999@www.passamaquoddylodge.ca
SUMMARY:BBQ Day!
DESCRIPTION:
URL:https://www.passamaquoddylodge.ca/event/bbq-day/2025-06-25/
END:VEVENT
BEGIN:VEVENT
DTSTART;TZID=America/Halifax:20250625T100000
DTEND;TZID=America/Halifax:20250625T110000
DTSTAMP:20260420T010310
CREATED:20250501T205531Z
LAST-MODIFIED:20250501T205531Z
UID:10004871-1750845600-1750849200@www.passamaquoddylodge.ca
SUMMARY:Men's Coffee
DESCRIPTION:
URL:https://www.passamaquoddylodge.ca/event/mens-coffee-3/2025-06-25/
END:VEVENT
BEGIN:VEVENT
DTSTART;TZID=America/Halifax:20250625T133000
DTEND;TZID=America/Halifax:20250625T144500
DTSTAMP:20260420T010310
CREATED:20250603T110109Z
LAST-MODIFIED:20250603T110109Z
UID:10005169-1750858200-1750862700@www.passamaquoddylodge.ca
SUMMARY:Music on TV
DESCRIPTION:
URL:https://www.passamaquoddylodge.ca/event/music-on-tv/
END:VEVENT
BEGIN:VEVENT
DTSTART;TZID=America/Halifax:20250626T103000
DTEND;TZID=America/Halifax:20250626T113000
DTSTAMP:20260420T010310
CREATED:20250402T232822Z
LAST-MODIFIED:20250402T232823Z
UID:10004616-1750933800-1750937400@www.passamaquoddylodge.ca
SUMMARY:Anglican Church
DESCRIPTION:
URL:https://www.passamaquoddylodge.ca/event/anglican-church-2/2025-06-26/
CATEGORIES:Activity
END:VEVENT
BEGIN:VEVENT
DTSTART;TZID=America/Halifax:20250626T133000
DTEND;TZID=America/Halifax:20250626T143000
DTSTAMP:20260420T010310
CREATED:20250603T105604Z
LAST-MODIFIED:20250603T105604Z
UID:10005149-1750944600-1750948200@www.passamaquoddylodge.ca
SUMMARY:Music with Kathryn
DESCRIPTION:
URL:https://www.passamaquoddylodge.ca/event/music-with-kathryn/
END:VEVENT
BEGIN:VEVENT
DTSTART;TZID=America/Halifax:20250627T100000
DTEND;TZID=America/Halifax:20250627T110000
DTSTAMP:20260420T010310
CREATED:20250107T153226Z
LAST-MODIFIED:20250402T233152Z
UID:10003435-1751018400-1751022000@www.passamaquoddylodge.ca
SUMMARY:Baking
DESCRIPTION:
URL:https://www.passamaquoddylodge.ca/event/baking-2/2025-06-27/
END:VEVENT
END:VCALENDAR