BEGIN:VCALENDAR
VERSION:2.0
PRODID:-//Passamaquoddy Lodge - ECPv6.15.17.1//NONSGML v1.0//EN
CALSCALE:GREGORIAN
METHOD:PUBLISH
X-WR-CALNAME:Passamaquoddy Lodge
X-ORIGINAL-URL:https://www.passamaquoddylodge.ca
X-WR-CALDESC:Events for Passamaquoddy Lodge
REFRESH-INTERVAL;VALUE=DURATION:PT1H
X-Robots-Tag:noindex
X-PUBLISHED-TTL:PT1H
BEGIN:VTIMEZONE
TZID:America/Halifax
BEGIN:DAYLIGHT
TZOFFSETFROM:-0400
TZOFFSETTO:-0300
TZNAME:ADT
DTSTART:20250309T060000
END:DAYLIGHT
BEGIN:STANDARD
TZOFFSETFROM:-0300
TZOFFSETTO:-0400
TZNAME:AST
DTSTART:20251102T050000
END:STANDARD
BEGIN:DAYLIGHT
TZOFFSETFROM:-0400
TZOFFSETTO:-0300
TZNAME:ADT
DTSTART:20260308T060000
END:DAYLIGHT
BEGIN:STANDARD
TZOFFSETFROM:-0300
TZOFFSETTO:-0400
TZNAME:AST
DTSTART:20261101T050000
END:STANDARD
BEGIN:DAYLIGHT
TZOFFSETFROM:-0400
TZOFFSETTO:-0300
TZNAME:ADT
DTSTART:20270314T060000
END:DAYLIGHT
BEGIN:STANDARD
TZOFFSETFROM:-0300
TZOFFSETTO:-0400
TZNAME:AST
DTSTART:20271107T050000
END:STANDARD
END:VTIMEZONE
BEGIN:VEVENT
DTSTART;TZID=America/Halifax:20260319T130000
DTEND;TZID=America/Halifax:20260319T140000
DTSTAMP:20260422T203621
CREATED:20260303T180106Z
LAST-MODIFIED:20260303T180106Z
UID:10007403-1773925200-1773928800@www.passamaquoddylodge.ca
SUMMARY:Storytime with the Children
DESCRIPTION:
URL:https://www.passamaquoddylodge.ca/event/storytime-with-the-children/
END:VEVENT
BEGIN:VEVENT
DTSTART;TZID=America/Halifax:20260319T140000
DTEND;TZID=America/Halifax:20260319T150000
DTSTAMP:20260422T203621
CREATED:20260303T180130Z
LAST-MODIFIED:20260303T180130Z
UID:10007404-1773928800-1773932400@www.passamaquoddylodge.ca
SUMMARY:Resident Council
DESCRIPTION:
URL:https://www.passamaquoddylodge.ca/event/resident-council-16/
END:VEVENT
BEGIN:VEVENT
DTSTART;TZID=America/Halifax:20260320T100000
DTEND;TZID=America/Halifax:20260320T110000
DTSTAMP:20260422T203621
CREATED:20250107T153226Z
LAST-MODIFIED:20250402T233152Z
UID:10003473-1774000800-1774004400@www.passamaquoddylodge.ca
SUMMARY:Baking
DESCRIPTION:
URL:https://www.passamaquoddylodge.ca/event/baking-2/2026-03-20/
END:VEVENT
BEGIN:VEVENT
DTSTART;TZID=America/Halifax:20260320T133000
DTEND;TZID=America/Halifax:20260320T143000
DTSTAMP:20260422T203621
CREATED:20240929T142438Z
LAST-MODIFIED:20241003T180048Z
UID:10002012-1774013400-1774017000@www.passamaquoddylodge.ca
SUMMARY:Music Makers
DESCRIPTION:
URL:https://www.passamaquoddylodge.ca/event/music-makers/2026-03-20/
CATEGORIES:Activity
END:VEVENT
BEGIN:VEVENT
DTSTART;VALUE=DATE:20260322
DTEND;VALUE=DATE:20260323
DTSTAMP:20260422T203621
CREATED:20251002T132230Z
LAST-MODIFIED:20251002T132230Z
UID:10005424-1774137600-1774223999@www.passamaquoddylodge.ca
SUMMARY:Creative Class with Mariah
DESCRIPTION:
URL:https://www.passamaquoddylodge.ca/event/creative-class-with-mariah-3/2026-03-22/
END:VEVENT
BEGIN:VEVENT
DTSTART;TZID=America/Halifax:20260323T100000
DTEND;TZID=America/Halifax:20260323T110000
DTSTAMP:20260422T203621
CREATED:20240929T121925Z
LAST-MODIFIED:20250402T230833Z
UID:10000101-1774260000-1774263600@www.passamaquoddylodge.ca
SUMMARY:Bingo
DESCRIPTION:
URL:https://www.passamaquoddylodge.ca/event/bingo/2026-03-23/
CATEGORIES:Activity
END:VEVENT
BEGIN:VEVENT
DTSTART;TZID=America/Halifax:20260323T110000
DTEND;TZID=America/Halifax:20260323T113000
DTSTAMP:20260422T203621
CREATED:20251031T232949Z
LAST-MODIFIED:20251031T232950Z
UID:10003968-1774263600-1774265400@www.passamaquoddylodge.ca
SUMMARY:Fitness Class
DESCRIPTION:
URL:https://www.passamaquoddylodge.ca/event/fitness-class-7-2/2026-03-23/
END:VEVENT
BEGIN:VEVENT
DTSTART;TZID=America/Halifax:20260323T133000
DTEND;TZID=America/Halifax:20260323T143000
DTSTAMP:20260422T203621
CREATED:20260202T182719Z
LAST-MODIFIED:20260202T182946Z
UID:10006673-1774272600-1774276200@www.passamaquoddylodge.ca
SUMMARY:Crafts
DESCRIPTION:
URL:https://www.passamaquoddylodge.ca/event/crafts-9/2026-03-23/
END:VEVENT
BEGIN:VEVENT
DTSTART;TZID=America/Halifax:20260324T103000
DTEND;TZID=America/Halifax:20260324T113000
DTSTAMP:20260422T203621
CREATED:20250501T205221Z
LAST-MODIFIED:20250501T205221Z
UID:10000820-1774348200-1774351800@www.passamaquoddylodge.ca
SUMMARY:Java Circle
DESCRIPTION:
URL:https://www.passamaquoddylodge.ca/event/java-memory-2-2-2/2026-03-24/
CATEGORIES:Activity
END:VEVENT
BEGIN:VEVENT
DTSTART;TZID=America/Halifax:20260324T133000
DTEND;TZID=America/Halifax:20260324T143000
DTSTAMP:20260422T203621
CREATED:20260101T113520Z
LAST-MODIFIED:20260202T183320Z
UID:10006822-1774359000-1774362600@www.passamaquoddylodge.ca
SUMMARY:Easy Sew
DESCRIPTION:
URL:https://www.passamaquoddylodge.ca/event/easy-sew-11/2026-03-24/
END:VEVENT
BEGIN:VEVENT
DTSTART;TZID=America/Halifax:20260325T100000
DTEND;TZID=America/Halifax:20260325T110000
DTSTAMP:20260422T203621
CREATED:20250501T205531Z
LAST-MODIFIED:20250501T205531Z
UID:10004910-1774432800-1774436400@www.passamaquoddylodge.ca
SUMMARY:Men's Coffee
DESCRIPTION:
URL:https://www.passamaquoddylodge.ca/event/mens-coffee-3/2026-03-25/
END:VEVENT
BEGIN:VEVENT
DTSTART;TZID=America/Halifax:20260325T130000
DTEND;TZID=America/Halifax:20260325T140000
DTSTAMP:20260422T203621
CREATED:20260303T175828Z
LAST-MODIFIED:20260303T175828Z
UID:10007394-1774443600-1774447200@www.passamaquoddylodge.ca
SUMMARY:Manicure
DESCRIPTION:
URL:https://www.passamaquoddylodge.ca/event/manicure-2/
END:VEVENT
BEGIN:VEVENT
DTSTART;TZID=America/Halifax:20260325T143000
DTEND;TZID=America/Halifax:20260325T153000
DTSTAMP:20260422T203621
CREATED:20260303T175857Z
LAST-MODIFIED:20260303T175857Z
UID:10007395-1774449000-1774452600@www.passamaquoddylodge.ca
SUMMARY:Music with Shawn Richard
DESCRIPTION:
URL:https://www.passamaquoddylodge.ca/event/music-with-shawn-richard-12/
END:VEVENT
BEGIN:VEVENT
DTSTART;TZID=America/Halifax:20260326T103000
DTEND;TZID=America/Halifax:20260326T113000
DTSTAMP:20260422T203621
CREATED:20250402T232822Z
LAST-MODIFIED:20250402T232823Z
UID:10004625-1774521000-1774524600@www.passamaquoddylodge.ca
SUMMARY:Anglican Church
DESCRIPTION:
URL:https://www.passamaquoddylodge.ca/event/anglican-church-2/2026-03-26/
CATEGORIES:Activity
END:VEVENT
BEGIN:VEVENT
DTSTART;TZID=America/Halifax:20260326T140000
DTEND;TZID=America/Halifax:20260326T144500
DTSTAMP:20260422T203621
CREATED:20250402T232431Z
LAST-MODIFIED:20250402T232431Z
UID:10004449-1774533600-1774536300@www.passamaquoddylodge.ca
SUMMARY:Exercising to the Oldies
DESCRIPTION:
URL:https://www.passamaquoddylodge.ca/event/exercising-to-the-oldies-2-2/2026-03-26/
CATEGORIES:Activity
END:VEVENT
BEGIN:VEVENT
DTSTART;TZID=America/Halifax:20260327T100000
DTEND;TZID=America/Halifax:20260327T110000
DTSTAMP:20260422T203621
CREATED:20250107T153226Z
LAST-MODIFIED:20250402T233152Z
UID:10003474-1774605600-1774609200@www.passamaquoddylodge.ca
SUMMARY:Baking
DESCRIPTION:
URL:https://www.passamaquoddylodge.ca/event/baking-2/2026-03-27/
END:VEVENT
BEGIN:VEVENT
DTSTART;TZID=America/Halifax:20260327T133000
DTEND;TZID=America/Halifax:20260327T143000
DTSTAMP:20260422T203621
CREATED:20260303T180341Z
LAST-MODIFIED:20260303T180341Z
UID:10007408-1774618200-1774621800@www.passamaquoddylodge.ca
SUMMARY:Bingo
DESCRIPTION:
URL:https://www.passamaquoddylodge.ca/event/bingo-3/
END:VEVENT
BEGIN:VEVENT
DTSTART;TZID=America/Halifax:20260330T100000
DTEND;TZID=America/Halifax:20260330T110000
DTSTAMP:20260422T203621
CREATED:20240929T121925Z
LAST-MODIFIED:20250402T230833Z
UID:10000102-1774864800-1774868400@www.passamaquoddylodge.ca
SUMMARY:Bingo
DESCRIPTION:
URL:https://www.passamaquoddylodge.ca/event/bingo/2026-03-30/
CATEGORIES:Activity
END:VEVENT
BEGIN:VEVENT
DTSTART;TZID=America/Halifax:20260330T110000
DTEND;TZID=America/Halifax:20260330T113000
DTSTAMP:20260422T203621
CREATED:20251031T232949Z
LAST-MODIFIED:20251031T232950Z
UID:10005885-1774868400-1774870200@www.passamaquoddylodge.ca
SUMMARY:Fitness Class
DESCRIPTION:
URL:https://www.passamaquoddylodge.ca/event/fitness-class-7-2/2026-03-30/
END:VEVENT
BEGIN:VEVENT
DTSTART;TZID=America/Halifax:20260330T133000
DTEND;TZID=America/Halifax:20260330T143000
DTSTAMP:20260422T203621
CREATED:20260202T182719Z
LAST-MODIFIED:20260202T182946Z
UID:10006543-1774877400-1774881000@www.passamaquoddylodge.ca
SUMMARY:Crafts
DESCRIPTION:
URL:https://www.passamaquoddylodge.ca/event/crafts-9/2026-03-30/
END:VEVENT
BEGIN:VEVENT
DTSTART;TZID=America/Halifax:20260331T103000
DTEND;TZID=America/Halifax:20260331T113000
DTSTAMP:20260422T203621
CREATED:20250501T205221Z
LAST-MODIFIED:20250501T205221Z
UID:10000821-1774953000-1774956600@www.passamaquoddylodge.ca
SUMMARY:Java Circle
DESCRIPTION:
URL:https://www.passamaquoddylodge.ca/event/java-memory-2-2-2/2026-03-31/
CATEGORIES:Activity
END:VEVENT
BEGIN:VEVENT
DTSTART;TZID=America/Halifax:20260331T133000
DTEND;TZID=America/Halifax:20260331T143000
DTSTAMP:20260422T203621
CREATED:20260101T113520Z
LAST-MODIFIED:20260202T183320Z
UID:10006823-1774963800-1774967400@www.passamaquoddylodge.ca
SUMMARY:Easy Sew
DESCRIPTION:
URL:https://www.passamaquoddylodge.ca/event/easy-sew-11/2026-03-31/
END:VEVENT
BEGIN:VEVENT
DTSTART;TZID=America/Halifax:20260401T100000
DTEND;TZID=America/Halifax:20260401T110000
DTSTAMP:20260422T203621
CREATED:20250501T205531Z
LAST-MODIFIED:20250501T205531Z
UID:10004911-1775037600-1775041200@www.passamaquoddylodge.ca
SUMMARY:Men's Coffee
DESCRIPTION:
URL:https://www.passamaquoddylodge.ca/event/mens-coffee-3/2026-04-01/
END:VEVENT
BEGIN:VEVENT
DTSTART;TZID=America/Halifax:20260401T133000
DTEND;TZID=America/Halifax:20260401T144500
DTSTAMP:20260422T203621
CREATED:20260402T115559Z
LAST-MODIFIED:20260402T115559Z
UID:10007474-1775050200-1775054700@www.passamaquoddylodge.ca
SUMMARY:Foot Soaks
DESCRIPTION:
URL:https://www.passamaquoddylodge.ca/event/foot-soaks-5/
END:VEVENT
BEGIN:VEVENT
DTSTART;TZID=America/Halifax:20260402T100000
DTEND;TZID=America/Halifax:20260402T110000
DTSTAMP:20260422T203621
CREATED:20260402T120748Z
LAST-MODIFIED:20260402T120748Z
UID:10007486-1775124000-1775127600@www.passamaquoddylodge.ca
SUMMARY:Bingo
DESCRIPTION:
URL:https://www.passamaquoddylodge.ca/event/bingo-4/2026-04-02/
END:VEVENT
BEGIN:VEVENT
DTSTART;TZID=America/Halifax:20260402T131500
DTEND;TZID=America/Halifax:20260402T140000
DTSTAMP:20260422T203621
CREATED:20260402T121133Z
LAST-MODIFIED:20260402T121221Z
UID:10007491-1775135700-1775138400@www.passamaquoddylodge.ca
SUMMARY:Storytime
DESCRIPTION:
URL:https://www.passamaquoddylodge.ca/event/strorytime/2026-04-02/
END:VEVENT
BEGIN:VEVENT
DTSTART;VALUE=DATE:20260403
DTEND;VALUE=DATE:20260404
DTSTAMP:20260422T203621
CREATED:20260402T122012Z
LAST-MODIFIED:20260402T122012Z
UID:10007508-1775174400-1775260799@www.passamaquoddylodge.ca
SUMMARY:Good Friday Holiday
DESCRIPTION:
URL:https://www.passamaquoddylodge.ca/event/good-friday-holiday/
END:VEVENT
BEGIN:VEVENT
DTSTART;VALUE=DATE:20260405
DTEND;VALUE=DATE:20260406
DTSTAMP:20260422T203621
CREATED:20260402T122323Z
LAST-MODIFIED:20260402T122441Z
UID:10007511-1775347200-1775433599@www.passamaquoddylodge.ca
SUMMARY:Easter Sunday
DESCRIPTION:
URL:https://www.passamaquoddylodge.ca/event/easter-sunday/
END:VEVENT
BEGIN:VEVENT
DTSTART;VALUE=DATE:20260406
DTEND;VALUE=DATE:20260407
DTSTAMP:20260422T203621
CREATED:20260402T115235Z
LAST-MODIFIED:20260402T115235Z
UID:10007446-1775433600-1775519999@www.passamaquoddylodge.ca
SUMMARY:Easter Monday Holiday
DESCRIPTION:
URL:https://www.passamaquoddylodge.ca/event/easter-monday-holiday/
END:VEVENT
BEGIN:VEVENT
DTSTART;TZID=America/Halifax:20260407T103000
DTEND;TZID=America/Halifax:20260407T113000
DTSTAMP:20260422T203621
CREATED:20250501T205221Z
LAST-MODIFIED:20250501T205221Z
UID:10000822-1775557800-1775561400@www.passamaquoddylodge.ca
SUMMARY:Java Circle
DESCRIPTION:
URL:https://www.passamaquoddylodge.ca/event/java-memory-2-2-2/2026-04-07/
CATEGORIES:Activity
END:VEVENT
END:VCALENDAR