BEGIN:VCALENDAR
VERSION:2.0
PRODID:-//Passamaquoddy Lodge - ECPv6.15.17.1//NONSGML v1.0//EN
CALSCALE:GREGORIAN
METHOD:PUBLISH
X-ORIGINAL-URL:https://www.passamaquoddylodge.ca
X-WR-CALDESC:Events for Passamaquoddy Lodge
REFRESH-INTERVAL;VALUE=DURATION:PT1H
X-Robots-Tag:noindex
X-PUBLISHED-TTL:PT1H
BEGIN:VTIMEZONE
TZID:America/Halifax
BEGIN:DAYLIGHT
TZOFFSETFROM:-0400
TZOFFSETTO:-0300
TZNAME:ADT
DTSTART:20250309T060000
END:DAYLIGHT
BEGIN:STANDARD
TZOFFSETFROM:-0300
TZOFFSETTO:-0400
TZNAME:AST
DTSTART:20251102T050000
END:STANDARD
BEGIN:DAYLIGHT
TZOFFSETFROM:-0400
TZOFFSETTO:-0300
TZNAME:ADT
DTSTART:20260308T060000
END:DAYLIGHT
BEGIN:STANDARD
TZOFFSETFROM:-0300
TZOFFSETTO:-0400
TZNAME:AST
DTSTART:20261101T050000
END:STANDARD
BEGIN:DAYLIGHT
TZOFFSETFROM:-0400
TZOFFSETTO:-0300
TZNAME:ADT
DTSTART:20270314T060000
END:DAYLIGHT
BEGIN:STANDARD
TZOFFSETFROM:-0300
TZOFFSETTO:-0400
TZNAME:AST
DTSTART:20271107T050000
END:STANDARD
END:VTIMEZONE
BEGIN:VEVENT
DTSTART;VALUE=DATE:20260216
DTEND;VALUE=DATE:20260217
DTSTAMP:20260425T200024
CREATED:20260202T183131Z
LAST-MODIFIED:20260202T183131Z
UID:10006808-1771200000-1771286399@www.passamaquoddylodge.ca
SUMMARY:Family Day!
DESCRIPTION:
URL:https://www.passamaquoddylodge.ca/event/family-day/2026-02-16/
END:VEVENT
BEGIN:VEVENT
DTSTART;TZID=America/Halifax:20260217T103000
DTEND;TZID=America/Halifax:20260217T113000
DTSTAMP:20260425T200024
CREATED:20250501T205221Z
LAST-MODIFIED:20250501T205221Z
UID:10000815-1771324200-1771327800@www.passamaquoddylodge.ca
SUMMARY:Java Circle
DESCRIPTION:
URL:https://www.passamaquoddylodge.ca/event/java-memory-2-2-2/2026-02-17/
CATEGORIES:Activity
END:VEVENT
BEGIN:VEVENT
DTSTART;TZID=America/Halifax:20260217T133000
DTEND;TZID=America/Halifax:20260217T143000
DTSTAMP:20260425T200024
CREATED:20260101T113520Z
LAST-MODIFIED:20260202T183320Z
UID:10006817-1771335000-1771338600@www.passamaquoddylodge.ca
SUMMARY:Easy Sew
DESCRIPTION:
URL:https://www.passamaquoddylodge.ca/event/easy-sew-11/2026-02-17/
END:VEVENT
BEGIN:VEVENT
DTSTART;VALUE=DATE:20260218
DTEND;VALUE=DATE:20260219
DTSTAMP:20260425T200024
CREATED:20260202T183526Z
LAST-MODIFIED:20260202T183526Z
UID:10007087-1771372800-1771459199@www.passamaquoddylodge.ca
SUMMARY:Years of Service Luncheon
DESCRIPTION:
URL:https://www.passamaquoddylodge.ca/event/years-of-service-luncheon/
END:VEVENT
BEGIN:VEVENT
DTSTART;TZID=America/Halifax:20260219T103000
DTEND;TZID=America/Halifax:20260219T113000
DTSTAMP:20260425T200024
CREATED:20250402T232753Z
LAST-MODIFIED:20250402T232753Z
UID:10004565-1771497000-1771500600@www.passamaquoddylodge.ca
SUMMARY:Baptist Church
DESCRIPTION:
URL:https://www.passamaquoddylodge.ca/event/baptist-church-2/2026-02-19/
CATEGORIES:Activity
END:VEVENT
BEGIN:VEVENT
DTSTART;TZID=America/Halifax:20260219T130000
DTEND;TZID=America/Halifax:20260219T134500
DTSTAMP:20260425T200024
CREATED:20260202T184321Z
LAST-MODIFIED:20260202T184322Z
UID:10007225-1771506000-1771508700@www.passamaquoddylodge.ca
SUMMARY:Reading Buddies
DESCRIPTION:
URL:https://www.passamaquoddylodge.ca/event/reading-buddies-6-2-2/2026-02-19/
END:VEVENT
BEGIN:VEVENT
DTSTART;TZID=America/Halifax:20260220T100000
DTEND;TZID=America/Halifax:20260220T110000
DTSTAMP:20260425T200024
CREATED:20250107T153226Z
LAST-MODIFIED:20250402T233152Z
UID:10003469-1771581600-1771585200@www.passamaquoddylodge.ca
SUMMARY:Baking
DESCRIPTION:
URL:https://www.passamaquoddylodge.ca/event/baking-2/2026-02-20/
END:VEVENT
BEGIN:VEVENT
DTSTART;TZID=America/Halifax:20260220T133000
DTEND;TZID=America/Halifax:20260220T143000
DTSTAMP:20260425T200024
CREATED:20240929T142438Z
LAST-MODIFIED:20241003T180048Z
UID:10002011-1771594200-1771597800@www.passamaquoddylodge.ca
SUMMARY:Music Makers
DESCRIPTION:
URL:https://www.passamaquoddylodge.ca/event/music-makers/2026-02-20/
CATEGORIES:Activity
END:VEVENT
BEGIN:VEVENT
DTSTART;VALUE=DATE:20260222
DTEND;VALUE=DATE:20260223
DTSTAMP:20260425T200024
CREATED:20251002T132230Z
LAST-MODIFIED:20251002T132230Z
UID:10005422-1771718400-1771804799@www.passamaquoddylodge.ca
SUMMARY:Creative Class with Mariah
DESCRIPTION:
URL:https://www.passamaquoddylodge.ca/event/creative-class-with-mariah-3/2026-02-22/
END:VEVENT
BEGIN:VEVENT
DTSTART;TZID=America/Halifax:20260223T100000
DTEND;TZID=America/Halifax:20260223T110000
DTSTAMP:20260425T200024
CREATED:20240929T121925Z
LAST-MODIFIED:20250402T230833Z
UID:10000097-1771840800-1771844400@www.passamaquoddylodge.ca
SUMMARY:Bingo
DESCRIPTION:
URL:https://www.passamaquoddylodge.ca/event/bingo/2026-02-23/
CATEGORIES:Activity
END:VEVENT
BEGIN:VEVENT
DTSTART;TZID=America/Halifax:20260223T110000
DTEND;TZID=America/Halifax:20260223T113000
DTSTAMP:20260425T200024
CREATED:20251031T232949Z
LAST-MODIFIED:20251031T232950Z
UID:10003966-1771844400-1771846200@www.passamaquoddylodge.ca
SUMMARY:Fitness Class
DESCRIPTION:
URL:https://www.passamaquoddylodge.ca/event/fitness-class-7-2/2026-02-23/
END:VEVENT
BEGIN:VEVENT
DTSTART;TZID=America/Halifax:20260223T133000
DTEND;TZID=America/Halifax:20260223T143000
DTSTAMP:20260425T200024
CREATED:20260202T182719Z
LAST-MODIFIED:20260202T182946Z
UID:10006671-1771853400-1771857000@www.passamaquoddylodge.ca
SUMMARY:Crafts
DESCRIPTION:
URL:https://www.passamaquoddylodge.ca/event/crafts-9/2026-02-23/
END:VEVENT
BEGIN:VEVENT
DTSTART;TZID=America/Halifax:20260224T103000
DTEND;TZID=America/Halifax:20260224T113000
DTSTAMP:20260425T200024
CREATED:20250501T205221Z
LAST-MODIFIED:20250501T205221Z
UID:10000816-1771929000-1771932600@www.passamaquoddylodge.ca
SUMMARY:Java Circle
DESCRIPTION:
URL:https://www.passamaquoddylodge.ca/event/java-memory-2-2-2/2026-02-24/
CATEGORIES:Activity
END:VEVENT
BEGIN:VEVENT
DTSTART;TZID=America/Halifax:20260224T133000
DTEND;TZID=America/Halifax:20260224T143000
DTSTAMP:20260425T200024
CREATED:20260101T113520Z
LAST-MODIFIED:20260202T183320Z
UID:10006818-1771939800-1771943400@www.passamaquoddylodge.ca
SUMMARY:Easy Sew
DESCRIPTION:
URL:https://www.passamaquoddylodge.ca/event/easy-sew-11/2026-02-24/
END:VEVENT
BEGIN:VEVENT
DTSTART;TZID=America/Halifax:20260225T100000
DTEND;TZID=America/Halifax:20260225T110000
DTSTAMP:20260425T200024
CREATED:20250501T205531Z
LAST-MODIFIED:20250501T205531Z
UID:10004906-1772013600-1772017200@www.passamaquoddylodge.ca
SUMMARY:Men's Coffee
DESCRIPTION:
URL:https://www.passamaquoddylodge.ca/event/mens-coffee-3/2026-02-25/
END:VEVENT
BEGIN:VEVENT
DTSTART;TZID=America/Halifax:20260225T140000
DTEND;TZID=America/Halifax:20260225T150000
DTSTAMP:20260425T200024
CREATED:20260202T183716Z
LAST-MODIFIED:20260202T183716Z
UID:10007088-1772028000-1772031600@www.passamaquoddylodge.ca
SUMMARY:Resident Council
DESCRIPTION:
URL:https://www.passamaquoddylodge.ca/event/resident-council-15/
END:VEVENT
BEGIN:VEVENT
DTSTART;TZID=America/Halifax:20260225T143000
DTEND;TZID=America/Halifax:20260225T153000
DTSTAMP:20260425T200024
CREATED:20260202T183741Z
LAST-MODIFIED:20260202T183741Z
UID:10007089-1772029800-1772033400@www.passamaquoddylodge.ca
SUMMARY:Shawn Richard
DESCRIPTION:
URL:https://www.passamaquoddylodge.ca/event/shawn-richard/
END:VEVENT
BEGIN:VEVENT
DTSTART;TZID=America/Halifax:20260226T103000
DTEND;TZID=America/Halifax:20260226T113000
DTSTAMP:20260425T200024
CREATED:20250402T232822Z
LAST-MODIFIED:20250402T232823Z
UID:10004624-1772101800-1772105400@www.passamaquoddylodge.ca
SUMMARY:Anglican Church
DESCRIPTION:
URL:https://www.passamaquoddylodge.ca/event/anglican-church-2/2026-02-26/
CATEGORIES:Activity
END:VEVENT
BEGIN:VEVENT
DTSTART;TZID=America/Halifax:20260226T140000
DTEND;TZID=America/Halifax:20260226T144500
DTSTAMP:20260425T200024
CREATED:20250402T232431Z
LAST-MODIFIED:20250402T232431Z
UID:10004447-1772114400-1772117100@www.passamaquoddylodge.ca
SUMMARY:Exercising to the Oldies
DESCRIPTION:
URL:https://www.passamaquoddylodge.ca/event/exercising-to-the-oldies-2-2/2026-02-26/
CATEGORIES:Activity
END:VEVENT
BEGIN:VEVENT
DTSTART;TZID=America/Halifax:20260227T100000
DTEND;TZID=America/Halifax:20260227T110000
DTSTAMP:20260425T200024
CREATED:20250107T153226Z
LAST-MODIFIED:20250402T233152Z
UID:10003470-1772186400-1772190000@www.passamaquoddylodge.ca
SUMMARY:Baking
DESCRIPTION:
URL:https://www.passamaquoddylodge.ca/event/baking-2/2026-02-27/
END:VEVENT
BEGIN:VEVENT
DTSTART;TZID=America/Halifax:20260227T133000
DTEND;TZID=America/Halifax:20260227T143000
DTSTAMP:20260425T200024
CREATED:20260303T180212Z
LAST-MODIFIED:20260303T180212Z
UID:10007405-1772199000-1772202600@www.passamaquoddylodge.ca
SUMMARY:Foot Soaks
DESCRIPTION:
URL:https://www.passamaquoddylodge.ca/event/foot-soaks-3/
END:VEVENT
BEGIN:VEVENT
DTSTART;VALUE=DATE:20260302
DTEND;VALUE=DATE:20260303
DTSTAMP:20260425T200024
CREATED:20260303T175041Z
LAST-MODIFIED:20260303T175041Z
UID:10007383-1772409600-1772495999@www.passamaquoddylodge.ca
SUMMARY:Decorating for St. Patrick's Day
DESCRIPTION:
URL:https://www.passamaquoddylodge.ca/event/decorating-for-st-patricks-day-2/
END:VEVENT
BEGIN:VEVENT
DTSTART;TZID=America/Halifax:20260302T100000
DTEND;TZID=America/Halifax:20260302T110000
DTSTAMP:20260425T200024
CREATED:20240929T121925Z
LAST-MODIFIED:20250402T230833Z
UID:10000098-1772445600-1772449200@www.passamaquoddylodge.ca
SUMMARY:Bingo
DESCRIPTION:
URL:https://www.passamaquoddylodge.ca/event/bingo/2026-03-02/
CATEGORIES:Activity
END:VEVENT
BEGIN:VEVENT
DTSTART;TZID=America/Halifax:20260302T110000
DTEND;TZID=America/Halifax:20260302T113000
DTSTAMP:20260425T200024
CREATED:20251031T232949Z
LAST-MODIFIED:20251031T232950Z
UID:10005883-1772449200-1772451000@www.passamaquoddylodge.ca
SUMMARY:Fitness Class
DESCRIPTION:
URL:https://www.passamaquoddylodge.ca/event/fitness-class-7-2/2026-03-02/
END:VEVENT
BEGIN:VEVENT
DTSTART;TZID=America/Halifax:20260303T103000
DTEND;TZID=America/Halifax:20260303T113000
DTSTAMP:20260425T200024
CREATED:20250501T205221Z
LAST-MODIFIED:20250501T205221Z
UID:10000817-1772533800-1772537400@www.passamaquoddylodge.ca
SUMMARY:Java Circle
DESCRIPTION:
URL:https://www.passamaquoddylodge.ca/event/java-memory-2-2-2/2026-03-03/
CATEGORIES:Activity
END:VEVENT
BEGIN:VEVENT
DTSTART;TZID=America/Halifax:20260303T133000
DTEND;TZID=America/Halifax:20260303T143000
DTSTAMP:20260425T200024
CREATED:20260101T113520Z
LAST-MODIFIED:20260202T183320Z
UID:10006819-1772544600-1772548200@www.passamaquoddylodge.ca
SUMMARY:Easy Sew
DESCRIPTION:
URL:https://www.passamaquoddylodge.ca/event/easy-sew-11/2026-03-03/
END:VEVENT
BEGIN:VEVENT
DTSTART;VALUE=DATE:20260304
DTEND;VALUE=DATE:20260305
DTSTAMP:20260425T200024
CREATED:20260303T175701Z
LAST-MODIFIED:20260303T175701Z
UID:10007391-1772582400-1772668799@www.passamaquoddylodge.ca
SUMMARY:Rest and Relax
DESCRIPTION:
URL:https://www.passamaquoddylodge.ca/event/rest-and-relax-2/
END:VEVENT
BEGIN:VEVENT
DTSTART;TZID=America/Halifax:20260304T100000
DTEND;TZID=America/Halifax:20260304T110000
DTSTAMP:20260425T200024
CREATED:20250501T205531Z
LAST-MODIFIED:20250501T205531Z
UID:10004907-1772618400-1772622000@www.passamaquoddylodge.ca
SUMMARY:Men's Coffee
DESCRIPTION:
URL:https://www.passamaquoddylodge.ca/event/mens-coffee-3/2026-03-04/
END:VEVENT
BEGIN:VEVENT
DTSTART;TZID=America/Halifax:20260305T100000
DTEND;TZID=America/Halifax:20260305T110000
DTSTAMP:20260425T200024
CREATED:20260303T180005Z
LAST-MODIFIED:20260303T180005Z
UID:10007401-1772704800-1772708400@www.passamaquoddylodge.ca
SUMMARY:Bingo
DESCRIPTION:
URL:https://www.passamaquoddylodge.ca/event/bingo-2/
END:VEVENT
BEGIN:VEVENT
DTSTART;TZID=America/Halifax:20260305T133000
DTEND;TZID=America/Halifax:20260305T143000
DTSTAMP:20260425T200024
CREATED:20260303T180035Z
LAST-MODIFIED:20260303T180035Z
UID:10007402-1772717400-1772721000@www.passamaquoddylodge.ca
SUMMARY:Homemade Pizzas
DESCRIPTION:
URL:https://www.passamaquoddylodge.ca/event/homemade-pizzas/
END:VEVENT
END:VCALENDAR