BEGIN:VCALENDAR
VERSION:2.0
PRODID:-//Passamaquoddy Lodge - ECPv6.15.17.1//NONSGML v1.0//EN
CALSCALE:GREGORIAN
METHOD:PUBLISH
X-ORIGINAL-URL:https://www.passamaquoddylodge.ca
X-WR-CALDESC:Events for Passamaquoddy Lodge
REFRESH-INTERVAL;VALUE=DURATION:PT1H
X-Robots-Tag:noindex
X-PUBLISHED-TTL:PT1H
BEGIN:VTIMEZONE
TZID:America/Halifax
BEGIN:DAYLIGHT
TZOFFSETFROM:-0400
TZOFFSETTO:-0300
TZNAME:ADT
DTSTART:20250309T060000
END:DAYLIGHT
BEGIN:STANDARD
TZOFFSETFROM:-0300
TZOFFSETTO:-0400
TZNAME:AST
DTSTART:20251102T050000
END:STANDARD
BEGIN:DAYLIGHT
TZOFFSETFROM:-0400
TZOFFSETTO:-0300
TZNAME:ADT
DTSTART:20260308T060000
END:DAYLIGHT
BEGIN:STANDARD
TZOFFSETFROM:-0300
TZOFFSETTO:-0400
TZNAME:AST
DTSTART:20261101T050000
END:STANDARD
BEGIN:DAYLIGHT
TZOFFSETFROM:-0400
TZOFFSETTO:-0300
TZNAME:ADT
DTSTART:20270314T060000
END:DAYLIGHT
BEGIN:STANDARD
TZOFFSETFROM:-0300
TZOFFSETTO:-0400
TZNAME:AST
DTSTART:20271107T050000
END:STANDARD
END:VTIMEZONE
BEGIN:VEVENT
DTSTART;TZID=America/Halifax:20260402T100000
DTEND;TZID=America/Halifax:20260402T110000
DTSTAMP:20260423T051559
CREATED:20260402T120748Z
LAST-MODIFIED:20260402T120748Z
UID:10007486-1775124000-1775127600@www.passamaquoddylodge.ca
SUMMARY:Bingo
DESCRIPTION:
URL:https://www.passamaquoddylodge.ca/event/bingo-4/2026-04-02/
END:VEVENT
BEGIN:VEVENT
DTSTART;TZID=America/Halifax:20260402T131500
DTEND;TZID=America/Halifax:20260402T140000
DTSTAMP:20260423T051559
CREATED:20260402T121133Z
LAST-MODIFIED:20260402T121221Z
UID:10007491-1775135700-1775138400@www.passamaquoddylodge.ca
SUMMARY:Storytime
DESCRIPTION:
URL:https://www.passamaquoddylodge.ca/event/strorytime/2026-04-02/
END:VEVENT
BEGIN:VEVENT
DTSTART;VALUE=DATE:20260403
DTEND;VALUE=DATE:20260404
DTSTAMP:20260423T051559
CREATED:20260402T122012Z
LAST-MODIFIED:20260402T122012Z
UID:10007508-1775174400-1775260799@www.passamaquoddylodge.ca
SUMMARY:Good Friday Holiday
DESCRIPTION:
URL:https://www.passamaquoddylodge.ca/event/good-friday-holiday/
END:VEVENT
BEGIN:VEVENT
DTSTART;VALUE=DATE:20260405
DTEND;VALUE=DATE:20260406
DTSTAMP:20260423T051559
CREATED:20260402T122323Z
LAST-MODIFIED:20260402T122441Z
UID:10007511-1775347200-1775433599@www.passamaquoddylodge.ca
SUMMARY:Easter Sunday
DESCRIPTION:
URL:https://www.passamaquoddylodge.ca/event/easter-sunday/
END:VEVENT
BEGIN:VEVENT
DTSTART;VALUE=DATE:20260406
DTEND;VALUE=DATE:20260407
DTSTAMP:20260423T051559
CREATED:20260402T115235Z
LAST-MODIFIED:20260402T115235Z
UID:10007446-1775433600-1775519999@www.passamaquoddylodge.ca
SUMMARY:Easter Monday Holiday
DESCRIPTION:
URL:https://www.passamaquoddylodge.ca/event/easter-monday-holiday/
END:VEVENT
BEGIN:VEVENT
DTSTART;TZID=America/Halifax:20260407T103000
DTEND;TZID=America/Halifax:20260407T113000
DTSTAMP:20260423T051559
CREATED:20250501T205221Z
LAST-MODIFIED:20250501T205221Z
UID:10000822-1775557800-1775561400@www.passamaquoddylodge.ca
SUMMARY:Java Circle
DESCRIPTION:
URL:https://www.passamaquoddylodge.ca/event/java-memory-2-2-2/2026-04-07/
CATEGORIES:Activity
END:VEVENT
BEGIN:VEVENT
DTSTART;TZID=America/Halifax:20260407T133000
DTEND;TZID=America/Halifax:20260407T143000
DTSTAMP:20260423T051559
CREATED:20260402T115345Z
LAST-MODIFIED:20260402T115346Z
UID:10006824-1775568600-1775572200@www.passamaquoddylodge.ca
SUMMARY:Easy Sew/Knitting
DESCRIPTION:
URL:https://www.passamaquoddylodge.ca/event/easy-sew-11-2/2026-04-07/
END:VEVENT
BEGIN:VEVENT
DTSTART;TZID=America/Halifax:20260408T100000
DTEND;TZID=America/Halifax:20260408T110000
DTSTAMP:20260423T051559
CREATED:20250501T205531Z
LAST-MODIFIED:20250501T205531Z
UID:10004912-1775642400-1775646000@www.passamaquoddylodge.ca
SUMMARY:Men's Coffee
DESCRIPTION:
URL:https://www.passamaquoddylodge.ca/event/mens-coffee-3/2026-04-08/
END:VEVENT
BEGIN:VEVENT
DTSTART;TZID=America/Halifax:20260408T130000
DTEND;TZID=America/Halifax:20260408T140000
DTSTAMP:20260423T051559
CREATED:20260402T120138Z
LAST-MODIFIED:20260402T120138Z
UID:10007477-1775653200-1775656800@www.passamaquoddylodge.ca
SUMMARY:Scavenger Hunt
DESCRIPTION:
URL:https://www.passamaquoddylodge.ca/event/scavenger-hunt-2/
END:VEVENT
BEGIN:VEVENT
DTSTART;TZID=America/Halifax:20260408T153000
DTEND;TZID=America/Halifax:20260408T163000
DTSTAMP:20260423T051559
CREATED:20241003T174241Z
LAST-MODIFIED:20241102T160029Z
UID:10002590-1775662200-1775665800@www.passamaquoddylodge.ca
SUMMARY:Holy Communion
DESCRIPTION:
URL:https://www.passamaquoddylodge.ca/event/holy-communion/2026-04-08/
END:VEVENT
BEGIN:VEVENT
DTSTART;TZID=America/Halifax:20260409T100000
DTEND;TZID=America/Halifax:20260409T110000
DTSTAMP:20260423T051559
CREATED:20240929T141506Z
LAST-MODIFIED:20241003T175359Z
UID:10001701-1775728800-1775732400@www.passamaquoddylodge.ca
SUMMARY:United Church
DESCRIPTION:
URL:https://www.passamaquoddylodge.ca/event/united-church/2026-04-09/
CATEGORIES:Activity
END:VEVENT
BEGIN:VEVENT
DTSTART;TZID=America/Halifax:20260409T140000
DTEND;TZID=America/Halifax:20260409T144500
DTSTAMP:20260423T051559
CREATED:20250402T232431Z
LAST-MODIFIED:20250402T232431Z
UID:10004450-1775743200-1775745900@www.passamaquoddylodge.ca
SUMMARY:Exercising to the Oldies
DESCRIPTION:
URL:https://www.passamaquoddylodge.ca/event/exercising-to-the-oldies-2-2/2026-04-09/
CATEGORIES:Activity
END:VEVENT
BEGIN:VEVENT
DTSTART;TZID=America/Halifax:20260410T100000
DTEND;TZID=America/Halifax:20260410T110000
DTSTAMP:20260423T051559
CREATED:20250107T153226Z
LAST-MODIFIED:20250402T233152Z
UID:10003476-1775815200-1775818800@www.passamaquoddylodge.ca
SUMMARY:Baking
DESCRIPTION:
URL:https://www.passamaquoddylodge.ca/event/baking-2/2026-04-10/
END:VEVENT
BEGIN:VEVENT
DTSTART;TZID=America/Halifax:20260410T133000
DTEND;TZID=America/Halifax:20260410T143000
DTSTAMP:20260423T051559
CREATED:20260402T122109Z
LAST-MODIFIED:20260402T122109Z
UID:10007509-1775827800-1775831400@www.passamaquoddylodge.ca
SUMMARY:Sing Along with Bruce Noble
DESCRIPTION:
URL:https://www.passamaquoddylodge.ca/event/sing-along-with-bruce-noble-13/
END:VEVENT
BEGIN:VEVENT
DTSTART;TZID=America/Halifax:20260413T100000
DTEND;TZID=America/Halifax:20260413T110000
DTSTAMP:20260423T051559
CREATED:20240929T121925Z
LAST-MODIFIED:20250402T230833Z
UID:10000104-1776074400-1776078000@www.passamaquoddylodge.ca
SUMMARY:Bingo
DESCRIPTION:
URL:https://www.passamaquoddylodge.ca/event/bingo/2026-04-13/
CATEGORIES:Activity
END:VEVENT
BEGIN:VEVENT
DTSTART;TZID=America/Halifax:20260413T110000
DTEND;TZID=America/Halifax:20260413T113000
DTSTAMP:20260423T051559
CREATED:20251031T232949Z
LAST-MODIFIED:20251031T232950Z
UID:10005886-1776078000-1776079800@www.passamaquoddylodge.ca
SUMMARY:Fitness Class
DESCRIPTION:
URL:https://www.passamaquoddylodge.ca/event/fitness-class-7-2/2026-04-13/
END:VEVENT
BEGIN:VEVENT
DTSTART;TZID=America/Halifax:20260413T133000
DTEND;TZID=America/Halifax:20260413T143000
DTSTAMP:20260423T051559
CREATED:20260202T182719Z
LAST-MODIFIED:20260202T182946Z
UID:10006544-1776087000-1776090600@www.passamaquoddylodge.ca
SUMMARY:Crafts
DESCRIPTION:
URL:https://www.passamaquoddylodge.ca/event/crafts-9/2026-04-13/
END:VEVENT
BEGIN:VEVENT
DTSTART;TZID=America/Halifax:20260414T100000
DTEND;TZID=America/Halifax:20260414T110000
DTSTAMP:20260423T051559
CREATED:20260402T115657Z
LAST-MODIFIED:20260402T115657Z
UID:10007475-1776160800-1776164400@www.passamaquoddylodge.ca
SUMMARY:Cooking Class
DESCRIPTION:
URL:https://www.passamaquoddylodge.ca/event/cooking-class-6/
END:VEVENT
BEGIN:VEVENT
DTSTART;TZID=America/Halifax:20260414T133000
DTEND;TZID=America/Halifax:20260414T143000
DTSTAMP:20260423T051559
CREATED:20260402T115345Z
LAST-MODIFIED:20260402T115346Z
UID:10006825-1776173400-1776177000@www.passamaquoddylodge.ca
SUMMARY:Easy Sew/Knitting
DESCRIPTION:
URL:https://www.passamaquoddylodge.ca/event/easy-sew-11-2/2026-04-14/
END:VEVENT
BEGIN:VEVENT
DTSTART;TZID=America/Halifax:20260415T100000
DTEND;TZID=America/Halifax:20260415T110000
DTSTAMP:20260423T051559
CREATED:20250501T205531Z
LAST-MODIFIED:20250501T205531Z
UID:10004913-1776247200-1776250800@www.passamaquoddylodge.ca
SUMMARY:Men's Coffee
DESCRIPTION:
URL:https://www.passamaquoddylodge.ca/event/mens-coffee-3/2026-04-15/
END:VEVENT
BEGIN:VEVENT
DTSTART;TZID=America/Halifax:20260415T130000
DTEND;TZID=America/Halifax:20260415T140000
DTSTAMP:20260423T051559
CREATED:20260402T120237Z
LAST-MODIFIED:20260402T120237Z
UID:10007478-1776258000-1776261600@www.passamaquoddylodge.ca
SUMMARY:Music with Eddie Maillet
DESCRIPTION:
URL:https://www.passamaquoddylodge.ca/event/music-with-eddie-maillet-6/
END:VEVENT
BEGIN:VEVENT
DTSTART;TZID=America/Halifax:20260416T103000
DTEND;TZID=America/Halifax:20260416T113000
DTSTAMP:20260423T051559
CREATED:20250402T232753Z
LAST-MODIFIED:20250402T232753Z
UID:10004567-1776335400-1776339000@www.passamaquoddylodge.ca
SUMMARY:Baptist Church
DESCRIPTION:
URL:https://www.passamaquoddylodge.ca/event/baptist-church-2/2026-04-16/
CATEGORIES:Activity
END:VEVENT
BEGIN:VEVENT
DTSTART;TZID=America/Halifax:20260416T131500
DTEND;TZID=America/Halifax:20260416T140000
DTSTAMP:20260423T051559
CREATED:20260402T121133Z
LAST-MODIFIED:20260402T121221Z
UID:10007492-1776345300-1776348000@www.passamaquoddylodge.ca
SUMMARY:Storytime
DESCRIPTION:
URL:https://www.passamaquoddylodge.ca/event/strorytime/2026-04-16/
END:VEVENT
BEGIN:VEVENT
DTSTART;TZID=America/Halifax:20260416T140000
DTEND;TZID=America/Halifax:20260416T150000
DTSTAMP:20260423T051559
CREATED:20260402T121433Z
LAST-MODIFIED:20260402T121433Z
UID:10007494-1776348000-1776351600@www.passamaquoddylodge.ca
SUMMARY:Resident Council
DESCRIPTION:
URL:https://www.passamaquoddylodge.ca/event/resident-council-17/
END:VEVENT
BEGIN:VEVENT
DTSTART;TZID=America/Halifax:20260417T100000
DTEND;TZID=America/Halifax:20260417T110000
DTSTAMP:20260423T051559
CREATED:20250107T153226Z
LAST-MODIFIED:20250402T233152Z
UID:10003477-1776420000-1776423600@www.passamaquoddylodge.ca
SUMMARY:Baking
DESCRIPTION:
URL:https://www.passamaquoddylodge.ca/event/baking-2/2026-04-17/
END:VEVENT
BEGIN:VEVENT
DTSTART;TZID=America/Halifax:20260417T133000
DTEND;TZID=America/Halifax:20260417T143000
DTSTAMP:20260423T051559
CREATED:20240929T142438Z
LAST-MODIFIED:20241003T180048Z
UID:10002013-1776432600-1776436200@www.passamaquoddylodge.ca
SUMMARY:Music Makers
DESCRIPTION:
URL:https://www.passamaquoddylodge.ca/event/music-makers/2026-04-17/
CATEGORIES:Activity
END:VEVENT
BEGIN:VEVENT
DTSTART;VALUE=DATE:20260419
DTEND;VALUE=DATE:20260420
DTSTAMP:20260423T051559
CREATED:20251002T132230Z
LAST-MODIFIED:20251002T132230Z
UID:10005426-1776556800-1776643199@www.passamaquoddylodge.ca
SUMMARY:Creative Class with Mariah
DESCRIPTION:
URL:https://www.passamaquoddylodge.ca/event/creative-class-with-mariah-3/2026-04-19/
END:VEVENT
BEGIN:VEVENT
DTSTART;VALUE=DATE:20260419
DTEND;VALUE=DATE:20260420
DTSTAMP:20260423T051559
CREATED:20260402T114738Z
LAST-MODIFIED:20260402T114738Z
UID:10007441-1776556800-1776643199@www.passamaquoddylodge.ca
SUMMARY:National Volunteer Week April 19-25
DESCRIPTION:
URL:https://www.passamaquoddylodge.ca/event/national-volunteer-week-april-19-25/
END:VEVENT
BEGIN:VEVENT
DTSTART;TZID=America/Halifax:20260420T100000
DTEND;TZID=America/Halifax:20260420T110000
DTSTAMP:20260423T051559
CREATED:20240929T121925Z
LAST-MODIFIED:20250402T230833Z
UID:10000105-1776679200-1776682800@www.passamaquoddylodge.ca
SUMMARY:Bingo
DESCRIPTION:
URL:https://www.passamaquoddylodge.ca/event/bingo/2026-04-20/
CATEGORIES:Activity
END:VEVENT
BEGIN:VEVENT
DTSTART;TZID=America/Halifax:20260420T110000
DTEND;TZID=America/Halifax:20260420T113000
DTSTAMP:20260423T051559
CREATED:20251031T232949Z
LAST-MODIFIED:20251031T232950Z
UID:10003970-1776682800-1776684600@www.passamaquoddylodge.ca
SUMMARY:Fitness Class
DESCRIPTION:
URL:https://www.passamaquoddylodge.ca/event/fitness-class-7-2/2026-04-20/
END:VEVENT
END:VCALENDAR