BEGIN:VCALENDAR
VERSION:2.0
PRODID:-//Passamaquoddy Lodge - ECPv6.15.17.1//NONSGML v1.0//EN
CALSCALE:GREGORIAN
METHOD:PUBLISH
X-WR-CALNAME:Passamaquoddy Lodge
X-ORIGINAL-URL:https://www.passamaquoddylodge.ca
X-WR-CALDESC:Events for Passamaquoddy Lodge
REFRESH-INTERVAL;VALUE=DURATION:PT1H
X-Robots-Tag:noindex
X-PUBLISHED-TTL:PT1H
BEGIN:VTIMEZONE
TZID:America/Halifax
BEGIN:DAYLIGHT
TZOFFSETFROM:-0400
TZOFFSETTO:-0300
TZNAME:ADT
DTSTART:20250309T060000
END:DAYLIGHT
BEGIN:STANDARD
TZOFFSETFROM:-0300
TZOFFSETTO:-0400
TZNAME:AST
DTSTART:20251102T050000
END:STANDARD
BEGIN:DAYLIGHT
TZOFFSETFROM:-0400
TZOFFSETTO:-0300
TZNAME:ADT
DTSTART:20260308T060000
END:DAYLIGHT
BEGIN:STANDARD
TZOFFSETFROM:-0300
TZOFFSETTO:-0400
TZNAME:AST
DTSTART:20261101T050000
END:STANDARD
BEGIN:DAYLIGHT
TZOFFSETFROM:-0400
TZOFFSETTO:-0300
TZNAME:ADT
DTSTART:20270314T060000
END:DAYLIGHT
BEGIN:STANDARD
TZOFFSETFROM:-0300
TZOFFSETTO:-0400
TZNAME:AST
DTSTART:20271107T050000
END:STANDARD
END:VTIMEZONE
BEGIN:VEVENT
DTSTART;TZID=America/Halifax:20260424T100000
DTEND;TZID=America/Halifax:20260424T110000
DTSTAMP:20260426T000858
CREATED:20250107T153226Z
LAST-MODIFIED:20250402T233152Z
UID:10003478-1777024800-1777028400@www.passamaquoddylodge.ca
SUMMARY:Baking
DESCRIPTION:
URL:https://www.passamaquoddylodge.ca/event/baking-2/2026-04-24/
END:VEVENT
BEGIN:VEVENT
DTSTART;TZID=America/Halifax:20260424T133000
DTEND;TZID=America/Halifax:20260424T143000
DTSTAMP:20260426T000858
CREATED:20260402T122202Z
LAST-MODIFIED:20260402T122202Z
UID:10007510-1777037400-1777041000@www.passamaquoddylodge.ca
SUMMARY:Bingo
DESCRIPTION:
URL:https://www.passamaquoddylodge.ca/event/bingo-5/
END:VEVENT
BEGIN:VEVENT
DTSTART;TZID=America/Halifax:20260427T100000
DTEND;TZID=America/Halifax:20260427T110000
DTSTAMP:20260426T000858
CREATED:20240929T121925Z
LAST-MODIFIED:20250402T230833Z
UID:10000106-1777284000-1777287600@www.passamaquoddylodge.ca
SUMMARY:Bingo
DESCRIPTION:
URL:https://www.passamaquoddylodge.ca/event/bingo/2026-04-27/
CATEGORIES:Activity
END:VEVENT
BEGIN:VEVENT
DTSTART;TZID=America/Halifax:20260427T110000
DTEND;TZID=America/Halifax:20260427T113000
DTSTAMP:20260426T000858
CREATED:20251031T232949Z
LAST-MODIFIED:20251031T232950Z
UID:10005887-1777287600-1777289400@www.passamaquoddylodge.ca
SUMMARY:Fitness Class
DESCRIPTION:
URL:https://www.passamaquoddylodge.ca/event/fitness-class-7-2/2026-04-27/
END:VEVENT
BEGIN:VEVENT
DTSTART;TZID=America/Halifax:20260427T133000
DTEND;TZID=America/Halifax:20260427T143000
DTSTAMP:20260426T000858
CREATED:20260202T182719Z
LAST-MODIFIED:20260202T182946Z
UID:10006545-1777296600-1777300200@www.passamaquoddylodge.ca
SUMMARY:Crafts
DESCRIPTION:
URL:https://www.passamaquoddylodge.ca/event/crafts-9/2026-04-27/
END:VEVENT
BEGIN:VEVENT
DTSTART;TZID=America/Halifax:20260428T103000
DTEND;TZID=America/Halifax:20260428T113000
DTSTAMP:20260426T000858
CREATED:20250501T205221Z
LAST-MODIFIED:20250501T205221Z
UID:10000825-1777372200-1777375800@www.passamaquoddylodge.ca
SUMMARY:Java Circle
DESCRIPTION:
URL:https://www.passamaquoddylodge.ca/event/java-memory-2-2-2/2026-04-28/
CATEGORIES:Activity
END:VEVENT
BEGIN:VEVENT
DTSTART;TZID=America/Halifax:20260428T133000
DTEND;TZID=America/Halifax:20260428T143000
DTSTAMP:20260426T000858
CREATED:20260402T115833Z
LAST-MODIFIED:20260402T115833Z
UID:10007476-1777383000-1777386600@www.passamaquoddylodge.ca
SUMMARY:Music with Carl\, Tom & Angela
DESCRIPTION:
URL:https://www.passamaquoddylodge.ca/event/music-with-carl-tom-angela/
END:VEVENT
BEGIN:VEVENT
DTSTART;VALUE=DATE:20260429
DTEND;VALUE=DATE:20260430
DTSTAMP:20260426T000858
CREATED:20260402T120402Z
LAST-MODIFIED:20260402T120402Z
UID:10007480-1777420800-1777507199@www.passamaquoddylodge.ca
SUMMARY:Memorial
DESCRIPTION:
URL:https://www.passamaquoddylodge.ca/event/memorial-3/
END:VEVENT
BEGIN:VEVENT
DTSTART;TZID=America/Halifax:20260430T100000
DTEND;TZID=America/Halifax:20260430T110000
DTSTAMP:20260426T000858
CREATED:20260402T120748Z
LAST-MODIFIED:20260402T120748Z
UID:10007487-1777543200-1777546800@www.passamaquoddylodge.ca
SUMMARY:Bingo
DESCRIPTION:
URL:https://www.passamaquoddylodge.ca/event/bingo-4/2026-04-30/
END:VEVENT
BEGIN:VEVENT
DTSTART;TZID=America/Halifax:20260430T131500
DTEND;TZID=America/Halifax:20260430T140000
DTSTAMP:20260426T000858
CREATED:20260402T121133Z
LAST-MODIFIED:20260402T121221Z
UID:10007493-1777554900-1777557600@www.passamaquoddylodge.ca
SUMMARY:Storytime
DESCRIPTION:
URL:https://www.passamaquoddylodge.ca/event/strorytime/2026-04-30/
END:VEVENT
BEGIN:VEVENT
DTSTART;TZID=America/Halifax:20260501T100000
DTEND;TZID=America/Halifax:20260501T110000
DTSTAMP:20260426T000858
CREATED:20250107T153226Z
LAST-MODIFIED:20250402T233152Z
UID:10003479-1777629600-1777633200@www.passamaquoddylodge.ca
SUMMARY:Baking
DESCRIPTION:
URL:https://www.passamaquoddylodge.ca/event/baking-2/2026-05-01/
END:VEVENT
BEGIN:VEVENT
DTSTART;VALUE=DATE:20260503
DTEND;VALUE=DATE:20260504
DTSTAMP:20260426T000858
CREATED:20251002T132230Z
LAST-MODIFIED:20251002T132230Z
UID:10005427-1777766400-1777852799@www.passamaquoddylodge.ca
SUMMARY:Creative Class with Mariah
DESCRIPTION:
URL:https://www.passamaquoddylodge.ca/event/creative-class-with-mariah-3/2026-05-03/
END:VEVENT
BEGIN:VEVENT
DTSTART;TZID=America/Halifax:20260504T100000
DTEND;TZID=America/Halifax:20260504T110000
DTSTAMP:20260426T000858
CREATED:20240929T121925Z
LAST-MODIFIED:20250402T230833Z
UID:10000107-1777888800-1777892400@www.passamaquoddylodge.ca
SUMMARY:Bingo
DESCRIPTION:
URL:https://www.passamaquoddylodge.ca/event/bingo/2026-05-04/
CATEGORIES:Activity
END:VEVENT
BEGIN:VEVENT
DTSTART;TZID=America/Halifax:20260504T110000
DTEND;TZID=America/Halifax:20260504T113000
DTSTAMP:20260426T000858
CREATED:20251031T232949Z
LAST-MODIFIED:20251031T232950Z
UID:10003971-1777892400-1777894200@www.passamaquoddylodge.ca
SUMMARY:Fitness Class
DESCRIPTION:
URL:https://www.passamaquoddylodge.ca/event/fitness-class-7-2/2026-05-04/
END:VEVENT
BEGIN:VEVENT
DTSTART;TZID=America/Halifax:20260504T133000
DTEND;TZID=America/Halifax:20260504T143000
DTSTAMP:20260426T000858
CREATED:20251002T132703Z
LAST-MODIFIED:20251002T132703Z
UID:10005603-1777901400-1777905000@www.passamaquoddylodge.ca
SUMMARY:Let's Make Music
DESCRIPTION:
URL:https://www.passamaquoddylodge.ca/event/lets-make-music-2/2026-05-04/
END:VEVENT
BEGIN:VEVENT
DTSTART;TZID=America/Halifax:20260504T133000
DTEND;TZID=America/Halifax:20260504T143000
DTSTAMP:20260426T000858
CREATED:20260202T182719Z
LAST-MODIFIED:20260202T182946Z
UID:10006676-1777901400-1777905000@www.passamaquoddylodge.ca
SUMMARY:Crafts
DESCRIPTION:
URL:https://www.passamaquoddylodge.ca/event/crafts-9/2026-05-04/
END:VEVENT
BEGIN:VEVENT
DTSTART;TZID=America/Halifax:20260504T133000
DTEND;TZID=America/Halifax:20260504T144500
DTSTAMP:20260426T000858
CREATED:20250201T200743Z
LAST-MODIFIED:20250402T230911Z
UID:10003743-1777901400-1777905900@www.passamaquoddylodge.ca
SUMMARY:Easy Sew
DESCRIPTION:
URL:https://www.passamaquoddylodge.ca/event/easy-sew-6/2026-05-04/
END:VEVENT
BEGIN:VEVENT
DTSTART;TZID=America/Halifax:20260505T103000
DTEND;TZID=America/Halifax:20260505T113000
DTSTAMP:20260426T000858
CREATED:20250501T205221Z
LAST-MODIFIED:20250501T205221Z
UID:10000826-1777977000-1777980600@www.passamaquoddylodge.ca
SUMMARY:Java Circle
DESCRIPTION:
URL:https://www.passamaquoddylodge.ca/event/java-memory-2-2-2/2026-05-05/
CATEGORIES:Activity
END:VEVENT
BEGIN:VEVENT
DTSTART;TZID=America/Halifax:20260505T133000
DTEND;TZID=America/Halifax:20260505T143000
DTSTAMP:20260426T000858
CREATED:20260402T115345Z
LAST-MODIFIED:20260402T115346Z
UID:10006828-1777987800-1777991400@www.passamaquoddylodge.ca
SUMMARY:Easy Sew/Knitting
DESCRIPTION:
URL:https://www.passamaquoddylodge.ca/event/easy-sew-11-2/2026-05-05/
END:VEVENT
BEGIN:VEVENT
DTSTART;TZID=America/Halifax:20260506T100000
DTEND;TZID=America/Halifax:20260506T110000
DTSTAMP:20260426T000858
CREATED:20250501T205531Z
LAST-MODIFIED:20250501T205531Z
UID:10004916-1778061600-1778065200@www.passamaquoddylodge.ca
SUMMARY:Men's Coffee
DESCRIPTION:
URL:https://www.passamaquoddylodge.ca/event/mens-coffee-3/2026-05-06/
END:VEVENT
BEGIN:VEVENT
DTSTART;TZID=America/Halifax:20260507T130000
DTEND;TZID=America/Halifax:20260507T134500
DTSTAMP:20260426T000858
CREATED:20260202T183905Z
LAST-MODIFIED:20260202T183905Z
UID:10007099-1778158800-1778161500@www.passamaquoddylodge.ca
SUMMARY:Reading Buddies
DESCRIPTION:
URL:https://www.passamaquoddylodge.ca/event/reading-buddies-12/2026-05-07/
END:VEVENT
BEGIN:VEVENT
DTSTART;TZID=America/Halifax:20260507T140000
DTEND;TZID=America/Halifax:20260507T144500
DTSTAMP:20260426T000858
CREATED:20250402T232431Z
LAST-MODIFIED:20250402T232431Z
UID:10004452-1778162400-1778165100@www.passamaquoddylodge.ca
SUMMARY:Exercising to the Oldies
DESCRIPTION:
URL:https://www.passamaquoddylodge.ca/event/exercising-to-the-oldies-2-2/2026-05-07/
CATEGORIES:Activity
END:VEVENT
BEGIN:VEVENT
DTSTART;TZID=America/Halifax:20260508T100000
DTEND;TZID=America/Halifax:20260508T110000
DTSTAMP:20260426T000858
CREATED:20250107T153226Z
LAST-MODIFIED:20250402T233152Z
UID:10003480-1778234400-1778238000@www.passamaquoddylodge.ca
SUMMARY:Baking
DESCRIPTION:
URL:https://www.passamaquoddylodge.ca/event/baking-2/2026-05-08/
END:VEVENT
BEGIN:VEVENT
DTSTART;TZID=America/Halifax:20260511T100000
DTEND;TZID=America/Halifax:20260511T110000
DTSTAMP:20260426T000858
CREATED:20240929T121925Z
LAST-MODIFIED:20250402T230833Z
UID:10000108-1778493600-1778497200@www.passamaquoddylodge.ca
SUMMARY:Bingo
DESCRIPTION:
URL:https://www.passamaquoddylodge.ca/event/bingo/2026-05-11/
CATEGORIES:Activity
END:VEVENT
BEGIN:VEVENT
DTSTART;TZID=America/Halifax:20260511T110000
DTEND;TZID=America/Halifax:20260511T113000
DTSTAMP:20260426T000858
CREATED:20250228T152005Z
LAST-MODIFIED:20250228T152005Z
UID:10004203-1778497200-1778499000@www.passamaquoddylodge.ca
SUMMARY:Tai Chi
DESCRIPTION:
URL:https://www.passamaquoddylodge.ca/event/tai-chi-6/2026-05-11/
END:VEVENT
BEGIN:VEVENT
DTSTART;TZID=America/Halifax:20260511T110000
DTEND;TZID=America/Halifax:20260511T113000
DTSTAMP:20260426T000858
CREATED:20251031T232949Z
LAST-MODIFIED:20251031T232950Z
UID:10005888-1778497200-1778499000@www.passamaquoddylodge.ca
SUMMARY:Fitness Class
DESCRIPTION:
URL:https://www.passamaquoddylodge.ca/event/fitness-class-7-2/2026-05-11/
END:VEVENT
BEGIN:VEVENT
DTSTART;TZID=America/Halifax:20260511T133000
DTEND;TZID=America/Halifax:20260511T143000
DTSTAMP:20260426T000858
CREATED:20251002T132703Z
LAST-MODIFIED:20251002T132703Z
UID:10005604-1778506200-1778509800@www.passamaquoddylodge.ca
SUMMARY:Let's Make Music
DESCRIPTION:
URL:https://www.passamaquoddylodge.ca/event/lets-make-music-2/2026-05-11/
END:VEVENT
BEGIN:VEVENT
DTSTART;TZID=America/Halifax:20260511T133000
DTEND;TZID=America/Halifax:20260511T143000
DTSTAMP:20260426T000858
CREATED:20260202T182719Z
LAST-MODIFIED:20260202T182946Z
UID:10006546-1778506200-1778509800@www.passamaquoddylodge.ca
SUMMARY:Crafts
DESCRIPTION:
URL:https://www.passamaquoddylodge.ca/event/crafts-9/2026-05-11/
END:VEVENT
BEGIN:VEVENT
DTSTART;TZID=America/Halifax:20260511T133000
DTEND;TZID=America/Halifax:20260511T144500
DTSTAMP:20260426T000858
CREATED:20250201T200743Z
LAST-MODIFIED:20250402T230911Z
UID:10003744-1778506200-1778510700@www.passamaquoddylodge.ca
SUMMARY:Easy Sew
DESCRIPTION:
URL:https://www.passamaquoddylodge.ca/event/easy-sew-6/2026-05-11/
END:VEVENT
BEGIN:VEVENT
DTSTART;TZID=America/Halifax:20260512T103000
DTEND;TZID=America/Halifax:20260512T113000
DTSTAMP:20260426T000858
CREATED:20250501T205221Z
LAST-MODIFIED:20250501T205221Z
UID:10000827-1778581800-1778585400@www.passamaquoddylodge.ca
SUMMARY:Java Circle
DESCRIPTION:
URL:https://www.passamaquoddylodge.ca/event/java-memory-2-2-2/2026-05-12/
CATEGORIES:Activity
END:VEVENT
END:VCALENDAR