BEGIN:VCALENDAR
VERSION:2.0
PRODID:-//Passamaquoddy Lodge - ECPv6.15.17.1//NONSGML v1.0//EN
CALSCALE:GREGORIAN
METHOD:PUBLISH
X-WR-CALNAME:Passamaquoddy Lodge
X-ORIGINAL-URL:https://www.passamaquoddylodge.ca
X-WR-CALDESC:Events for Passamaquoddy Lodge
REFRESH-INTERVAL;VALUE=DURATION:PT1H
X-Robots-Tag:noindex
X-PUBLISHED-TTL:PT1H
BEGIN:VTIMEZONE
TZID:America/Halifax
BEGIN:DAYLIGHT
TZOFFSETFROM:-0400
TZOFFSETTO:-0300
TZNAME:ADT
DTSTART:20250309T060000
END:DAYLIGHT
BEGIN:STANDARD
TZOFFSETFROM:-0300
TZOFFSETTO:-0400
TZNAME:AST
DTSTART:20251102T050000
END:STANDARD
BEGIN:DAYLIGHT
TZOFFSETFROM:-0400
TZOFFSETTO:-0300
TZNAME:ADT
DTSTART:20260308T060000
END:DAYLIGHT
BEGIN:STANDARD
TZOFFSETFROM:-0300
TZOFFSETTO:-0400
TZNAME:AST
DTSTART:20261101T050000
END:STANDARD
BEGIN:DAYLIGHT
TZOFFSETFROM:-0400
TZOFFSETTO:-0300
TZNAME:ADT
DTSTART:20270314T060000
END:DAYLIGHT
BEGIN:STANDARD
TZOFFSETFROM:-0300
TZOFFSETTO:-0400
TZNAME:AST
DTSTART:20271107T050000
END:STANDARD
END:VTIMEZONE
BEGIN:VEVENT
DTSTART;TZID=America/Halifax:20260424T100000
DTEND;TZID=America/Halifax:20260424T110000
DTSTAMP:20260419T202439
CREATED:20250107T153226Z
LAST-MODIFIED:20250402T233152Z
UID:10003478-1777024800-1777028400@www.passamaquoddylodge.ca
SUMMARY:Baking
DESCRIPTION:
URL:https://www.passamaquoddylodge.ca/event/baking-2/2026-04-24/
END:VEVENT
BEGIN:VEVENT
DTSTART;TZID=America/Halifax:20260501T100000
DTEND;TZID=America/Halifax:20260501T110000
DTSTAMP:20260419T202439
CREATED:20250107T153226Z
LAST-MODIFIED:20250402T233152Z
UID:10003479-1777629600-1777633200@www.passamaquoddylodge.ca
SUMMARY:Baking
DESCRIPTION:
URL:https://www.passamaquoddylodge.ca/event/baking-2/2026-05-01/
END:VEVENT
BEGIN:VEVENT
DTSTART;TZID=America/Halifax:20260508T100000
DTEND;TZID=America/Halifax:20260508T110000
DTSTAMP:20260419T202439
CREATED:20250107T153226Z
LAST-MODIFIED:20250402T233152Z
UID:10003480-1778234400-1778238000@www.passamaquoddylodge.ca
SUMMARY:Baking
DESCRIPTION:
URL:https://www.passamaquoddylodge.ca/event/baking-2/2026-05-08/
END:VEVENT
BEGIN:VEVENT
DTSTART;TZID=America/Halifax:20260515T100000
DTEND;TZID=America/Halifax:20260515T110000
DTSTAMP:20260419T202439
CREATED:20250107T153226Z
LAST-MODIFIED:20250402T233152Z
UID:10003481-1778839200-1778842800@www.passamaquoddylodge.ca
SUMMARY:Baking
DESCRIPTION:
URL:https://www.passamaquoddylodge.ca/event/baking-2/2026-05-15/
END:VEVENT
BEGIN:VEVENT
DTSTART;TZID=America/Halifax:20260522T100000
DTEND;TZID=America/Halifax:20260522T110000
DTSTAMP:20260419T202439
CREATED:20250107T153226Z
LAST-MODIFIED:20250402T233152Z
UID:10003482-1779444000-1779447600@www.passamaquoddylodge.ca
SUMMARY:Baking
DESCRIPTION:
URL:https://www.passamaquoddylodge.ca/event/baking-2/2026-05-22/
END:VEVENT
BEGIN:VEVENT
DTSTART;TZID=America/Halifax:20260529T100000
DTEND;TZID=America/Halifax:20260529T110000
DTSTAMP:20260419T202439
CREATED:20250107T153226Z
LAST-MODIFIED:20250402T233152Z
UID:10003483-1780048800-1780052400@www.passamaquoddylodge.ca
SUMMARY:Baking
DESCRIPTION:
URL:https://www.passamaquoddylodge.ca/event/baking-2/2026-05-29/
END:VEVENT
BEGIN:VEVENT
DTSTART;TZID=America/Halifax:20260605T100000
DTEND;TZID=America/Halifax:20260605T110000
DTSTAMP:20260419T202439
CREATED:20250107T153226Z
LAST-MODIFIED:20250402T233152Z
UID:10003484-1780653600-1780657200@www.passamaquoddylodge.ca
SUMMARY:Baking
DESCRIPTION:
URL:https://www.passamaquoddylodge.ca/event/baking-2/2026-06-05/
END:VEVENT
BEGIN:VEVENT
DTSTART;TZID=America/Halifax:20260612T100000
DTEND;TZID=America/Halifax:20260612T110000
DTSTAMP:20260419T202439
CREATED:20250107T153226Z
LAST-MODIFIED:20250402T233152Z
UID:10003485-1781258400-1781262000@www.passamaquoddylodge.ca
SUMMARY:Baking
DESCRIPTION:
URL:https://www.passamaquoddylodge.ca/event/baking-2/2026-06-12/
END:VEVENT
BEGIN:VEVENT
DTSTART;TZID=America/Halifax:20260619T100000
DTEND;TZID=America/Halifax:20260619T110000
DTSTAMP:20260419T202439
CREATED:20250107T153226Z
LAST-MODIFIED:20250402T233152Z
UID:10003486-1781863200-1781866800@www.passamaquoddylodge.ca
SUMMARY:Baking
DESCRIPTION:
URL:https://www.passamaquoddylodge.ca/event/baking-2/2026-06-19/
END:VEVENT
BEGIN:VEVENT
DTSTART;TZID=America/Halifax:20260626T100000
DTEND;TZID=America/Halifax:20260626T110000
DTSTAMP:20260419T202439
CREATED:20250107T153226Z
LAST-MODIFIED:20250402T233152Z
UID:10003487-1782468000-1782471600@www.passamaquoddylodge.ca
SUMMARY:Baking
DESCRIPTION:
URL:https://www.passamaquoddylodge.ca/event/baking-2/2026-06-26/
END:VEVENT
BEGIN:VEVENT
DTSTART;TZID=America/Halifax:20260703T100000
DTEND;TZID=America/Halifax:20260703T110000
DTSTAMP:20260419T202439
CREATED:20250107T153226Z
LAST-MODIFIED:20250402T233152Z
UID:10003488-1783072800-1783076400@www.passamaquoddylodge.ca
SUMMARY:Baking
DESCRIPTION:
URL:https://www.passamaquoddylodge.ca/event/baking-2/2026-07-03/
END:VEVENT
BEGIN:VEVENT
DTSTART;TZID=America/Halifax:20260710T100000
DTEND;TZID=America/Halifax:20260710T110000
DTSTAMP:20260419T202439
CREATED:20250107T153226Z
LAST-MODIFIED:20250402T233152Z
UID:10003489-1783677600-1783681200@www.passamaquoddylodge.ca
SUMMARY:Baking
DESCRIPTION:
URL:https://www.passamaquoddylodge.ca/event/baking-2/2026-07-10/
END:VEVENT
BEGIN:VEVENT
DTSTART;TZID=America/Halifax:20260717T100000
DTEND;TZID=America/Halifax:20260717T110000
DTSTAMP:20260419T202439
CREATED:20250107T153226Z
LAST-MODIFIED:20250402T233152Z
UID:10003490-1784282400-1784286000@www.passamaquoddylodge.ca
SUMMARY:Baking
DESCRIPTION:
URL:https://www.passamaquoddylodge.ca/event/baking-2/2026-07-17/
END:VEVENT
BEGIN:VEVENT
DTSTART;TZID=America/Halifax:20260724T100000
DTEND;TZID=America/Halifax:20260724T110000
DTSTAMP:20260419T202439
CREATED:20250107T153226Z
LAST-MODIFIED:20250402T233152Z
UID:10003491-1784887200-1784890800@www.passamaquoddylodge.ca
SUMMARY:Baking
DESCRIPTION:
URL:https://www.passamaquoddylodge.ca/event/baking-2/2026-07-24/
END:VEVENT
BEGIN:VEVENT
DTSTART;TZID=America/Halifax:20260731T100000
DTEND;TZID=America/Halifax:20260731T110000
DTSTAMP:20260419T202439
CREATED:20250107T153226Z
LAST-MODIFIED:20250402T233152Z
UID:10003492-1785492000-1785495600@www.passamaquoddylodge.ca
SUMMARY:Baking
DESCRIPTION:
URL:https://www.passamaquoddylodge.ca/event/baking-2/2026-07-31/
END:VEVENT
BEGIN:VEVENT
DTSTART;TZID=America/Halifax:20260807T100000
DTEND;TZID=America/Halifax:20260807T110000
DTSTAMP:20260419T202439
CREATED:20250107T153226Z
LAST-MODIFIED:20250402T233152Z
UID:10003493-1786096800-1786100400@www.passamaquoddylodge.ca
SUMMARY:Baking
DESCRIPTION:
URL:https://www.passamaquoddylodge.ca/event/baking-2/2026-08-07/
END:VEVENT
BEGIN:VEVENT
DTSTART;TZID=America/Halifax:20260814T100000
DTEND;TZID=America/Halifax:20260814T110000
DTSTAMP:20260419T202439
CREATED:20250107T153226Z
LAST-MODIFIED:20250402T233152Z
UID:10003494-1786701600-1786705200@www.passamaquoddylodge.ca
SUMMARY:Baking
DESCRIPTION:
URL:https://www.passamaquoddylodge.ca/event/baking-2/2026-08-14/
END:VEVENT
BEGIN:VEVENT
DTSTART;TZID=America/Halifax:20260821T100000
DTEND;TZID=America/Halifax:20260821T110000
DTSTAMP:20260419T202439
CREATED:20250107T153226Z
LAST-MODIFIED:20250402T233152Z
UID:10003495-1787306400-1787310000@www.passamaquoddylodge.ca
SUMMARY:Baking
DESCRIPTION:
URL:https://www.passamaquoddylodge.ca/event/baking-2/2026-08-21/
END:VEVENT
BEGIN:VEVENT
DTSTART;TZID=America/Halifax:20260828T100000
DTEND;TZID=America/Halifax:20260828T110000
DTSTAMP:20260419T202439
CREATED:20250107T153226Z
LAST-MODIFIED:20250402T233152Z
UID:10003496-1787911200-1787914800@www.passamaquoddylodge.ca
SUMMARY:Baking
DESCRIPTION:
URL:https://www.passamaquoddylodge.ca/event/baking-2/2026-08-28/
END:VEVENT
BEGIN:VEVENT
DTSTART;TZID=America/Halifax:20260904T100000
DTEND;TZID=America/Halifax:20260904T110000
DTSTAMP:20260419T202439
CREATED:20250107T153226Z
LAST-MODIFIED:20250402T233152Z
UID:10003497-1788516000-1788519600@www.passamaquoddylodge.ca
SUMMARY:Baking
DESCRIPTION:
URL:https://www.passamaquoddylodge.ca/event/baking-2/2026-09-04/
END:VEVENT
BEGIN:VEVENT
DTSTART;TZID=America/Halifax:20260911T100000
DTEND;TZID=America/Halifax:20260911T110000
DTSTAMP:20260419T202439
CREATED:20250107T153226Z
LAST-MODIFIED:20250402T233152Z
UID:10003498-1789120800-1789124400@www.passamaquoddylodge.ca
SUMMARY:Baking
DESCRIPTION:
URL:https://www.passamaquoddylodge.ca/event/baking-2/2026-09-11/
END:VEVENT
BEGIN:VEVENT
DTSTART;TZID=America/Halifax:20260918T100000
DTEND;TZID=America/Halifax:20260918T110000
DTSTAMP:20260419T202439
CREATED:20250107T153226Z
LAST-MODIFIED:20250402T233152Z
UID:10003499-1789725600-1789729200@www.passamaquoddylodge.ca
SUMMARY:Baking
DESCRIPTION:
URL:https://www.passamaquoddylodge.ca/event/baking-2/2026-09-18/
END:VEVENT
BEGIN:VEVENT
DTSTART;TZID=America/Halifax:20260925T100000
DTEND;TZID=America/Halifax:20260925T110000
DTSTAMP:20260419T202439
CREATED:20250107T153226Z
LAST-MODIFIED:20250402T233152Z
UID:10003500-1790330400-1790334000@www.passamaquoddylodge.ca
SUMMARY:Baking
DESCRIPTION:
URL:https://www.passamaquoddylodge.ca/event/baking-2/2026-09-25/
END:VEVENT
BEGIN:VEVENT
DTSTART;TZID=America/Halifax:20261002T100000
DTEND;TZID=America/Halifax:20261002T110000
DTSTAMP:20260419T202439
CREATED:20250107T153226Z
LAST-MODIFIED:20250402T233152Z
UID:10003501-1790935200-1790938800@www.passamaquoddylodge.ca
SUMMARY:Baking
DESCRIPTION:
URL:https://www.passamaquoddylodge.ca/event/baking-2/2026-10-02/
END:VEVENT
BEGIN:VEVENT
DTSTART;TZID=America/Halifax:20261009T100000
DTEND;TZID=America/Halifax:20261009T110000
DTSTAMP:20260419T202439
CREATED:20250107T153226Z
LAST-MODIFIED:20250402T233152Z
UID:10003502-1791540000-1791543600@www.passamaquoddylodge.ca
SUMMARY:Baking
DESCRIPTION:
URL:https://www.passamaquoddylodge.ca/event/baking-2/2026-10-09/
END:VEVENT
BEGIN:VEVENT
DTSTART;TZID=America/Halifax:20261016T100000
DTEND;TZID=America/Halifax:20261016T110000
DTSTAMP:20260419T202439
CREATED:20250107T153226Z
LAST-MODIFIED:20250402T233152Z
UID:10003503-1792144800-1792148400@www.passamaquoddylodge.ca
SUMMARY:Baking
DESCRIPTION:
URL:https://www.passamaquoddylodge.ca/event/baking-2/2026-10-16/
END:VEVENT
BEGIN:VEVENT
DTSTART;TZID=America/Halifax:20261023T100000
DTEND;TZID=America/Halifax:20261023T110000
DTSTAMP:20260419T202439
CREATED:20250107T153226Z
LAST-MODIFIED:20250402T233152Z
UID:10003504-1792749600-1792753200@www.passamaquoddylodge.ca
SUMMARY:Baking
DESCRIPTION:
URL:https://www.passamaquoddylodge.ca/event/baking-2/2026-10-23/
END:VEVENT
BEGIN:VEVENT
DTSTART;TZID=America/Halifax:20261030T100000
DTEND;TZID=America/Halifax:20261030T110000
DTSTAMP:20260419T202439
CREATED:20250107T153226Z
LAST-MODIFIED:20250402T233152Z
UID:10003505-1793354400-1793358000@www.passamaquoddylodge.ca
SUMMARY:Baking
DESCRIPTION:
URL:https://www.passamaquoddylodge.ca/event/baking-2/2026-10-30/
END:VEVENT
BEGIN:VEVENT
DTSTART;TZID=America/Halifax:20261106T100000
DTEND;TZID=America/Halifax:20261106T110000
DTSTAMP:20260419T202439
CREATED:20250107T153226Z
LAST-MODIFIED:20250402T233152Z
UID:10003506-1793959200-1793962800@www.passamaquoddylodge.ca
SUMMARY:Baking
DESCRIPTION:
URL:https://www.passamaquoddylodge.ca/event/baking-2/2026-11-06/
END:VEVENT
BEGIN:VEVENT
DTSTART;TZID=America/Halifax:20261113T100000
DTEND;TZID=America/Halifax:20261113T110000
DTSTAMP:20260419T202439
CREATED:20250107T153226Z
LAST-MODIFIED:20250402T233152Z
UID:10003507-1794564000-1794567600@www.passamaquoddylodge.ca
SUMMARY:Baking
DESCRIPTION:
URL:https://www.passamaquoddylodge.ca/event/baking-2/2026-11-13/
END:VEVENT
END:VCALENDAR