BEGIN:VCALENDAR
VERSION:2.0
PRODID:-//Passamaquoddy Lodge - ECPv6.15.17.1//NONSGML v1.0//EN
CALSCALE:GREGORIAN
METHOD:PUBLISH
X-WR-CALNAME:Passamaquoddy Lodge
X-ORIGINAL-URL:https://www.passamaquoddylodge.ca
X-WR-CALDESC:Events for Passamaquoddy Lodge
REFRESH-INTERVAL;VALUE=DURATION:PT1H
X-Robots-Tag:noindex
X-PUBLISHED-TTL:PT1H
BEGIN:VTIMEZONE
TZID:America/Halifax
BEGIN:DAYLIGHT
TZOFFSETFROM:-0400
TZOFFSETTO:-0300
TZNAME:ADT
DTSTART:20250309T060000
END:DAYLIGHT
BEGIN:STANDARD
TZOFFSETFROM:-0300
TZOFFSETTO:-0400
TZNAME:AST
DTSTART:20251102T050000
END:STANDARD
BEGIN:DAYLIGHT
TZOFFSETFROM:-0400
TZOFFSETTO:-0300
TZNAME:ADT
DTSTART:20260308T060000
END:DAYLIGHT
BEGIN:STANDARD
TZOFFSETFROM:-0300
TZOFFSETTO:-0400
TZNAME:AST
DTSTART:20261101T050000
END:STANDARD
BEGIN:DAYLIGHT
TZOFFSETFROM:-0400
TZOFFSETTO:-0300
TZNAME:ADT
DTSTART:20270314T060000
END:DAYLIGHT
BEGIN:STANDARD
TZOFFSETFROM:-0300
TZOFFSETTO:-0400
TZNAME:AST
DTSTART:20271107T050000
END:STANDARD
END:VTIMEZONE
BEGIN:VEVENT
DTSTART;TZID=America/Halifax:20260427T110000
DTEND;TZID=America/Halifax:20260427T113000
DTSTAMP:20260423T153556
CREATED:20251031T232949Z
LAST-MODIFIED:20251031T232950Z
UID:10005887-1777287600-1777289400@www.passamaquoddylodge.ca
SUMMARY:Fitness Class
DESCRIPTION:
URL:https://www.passamaquoddylodge.ca/event/fitness-class-7-2/2026-04-27/
END:VEVENT
BEGIN:VEVENT
DTSTART;TZID=America/Halifax:20260504T110000
DTEND;TZID=America/Halifax:20260504T113000
DTSTAMP:20260423T153556
CREATED:20251031T232949Z
LAST-MODIFIED:20251031T232950Z
UID:10003971-1777892400-1777894200@www.passamaquoddylodge.ca
SUMMARY:Fitness Class
DESCRIPTION:
URL:https://www.passamaquoddylodge.ca/event/fitness-class-7-2/2026-05-04/
END:VEVENT
BEGIN:VEVENT
DTSTART;TZID=America/Halifax:20260511T110000
DTEND;TZID=America/Halifax:20260511T113000
DTSTAMP:20260423T153556
CREATED:20251031T232949Z
LAST-MODIFIED:20251031T232950Z
UID:10005888-1778497200-1778499000@www.passamaquoddylodge.ca
SUMMARY:Fitness Class
DESCRIPTION:
URL:https://www.passamaquoddylodge.ca/event/fitness-class-7-2/2026-05-11/
END:VEVENT
BEGIN:VEVENT
DTSTART;TZID=America/Halifax:20260518T110000
DTEND;TZID=America/Halifax:20260518T113000
DTSTAMP:20260423T153556
CREATED:20251031T232949Z
LAST-MODIFIED:20251031T232950Z
UID:10003972-1779102000-1779103800@www.passamaquoddylodge.ca
SUMMARY:Fitness Class
DESCRIPTION:
URL:https://www.passamaquoddylodge.ca/event/fitness-class-7-2/2026-05-18/
END:VEVENT
BEGIN:VEVENT
DTSTART;TZID=America/Halifax:20260525T110000
DTEND;TZID=America/Halifax:20260525T113000
DTSTAMP:20260423T153556
CREATED:20251031T232949Z
LAST-MODIFIED:20251031T232950Z
UID:10005889-1779706800-1779708600@www.passamaquoddylodge.ca
SUMMARY:Fitness Class
DESCRIPTION:
URL:https://www.passamaquoddylodge.ca/event/fitness-class-7-2/2026-05-25/
END:VEVENT
BEGIN:VEVENT
DTSTART;TZID=America/Halifax:20260601T110000
DTEND;TZID=America/Halifax:20260601T113000
DTSTAMP:20260423T153556
CREATED:20251031T232949Z
LAST-MODIFIED:20251031T232950Z
UID:10003973-1780311600-1780313400@www.passamaquoddylodge.ca
SUMMARY:Fitness Class
DESCRIPTION:
URL:https://www.passamaquoddylodge.ca/event/fitness-class-7-2/2026-06-01/
END:VEVENT
BEGIN:VEVENT
DTSTART;TZID=America/Halifax:20260608T110000
DTEND;TZID=America/Halifax:20260608T113000
DTSTAMP:20260423T153556
CREATED:20251031T232949Z
LAST-MODIFIED:20251031T232950Z
UID:10005890-1780916400-1780918200@www.passamaquoddylodge.ca
SUMMARY:Fitness Class
DESCRIPTION:
URL:https://www.passamaquoddylodge.ca/event/fitness-class-7-2/2026-06-08/
END:VEVENT
BEGIN:VEVENT
DTSTART;TZID=America/Halifax:20260615T110000
DTEND;TZID=America/Halifax:20260615T113000
DTSTAMP:20260423T153556
CREATED:20251031T232949Z
LAST-MODIFIED:20251031T232950Z
UID:10003974-1781521200-1781523000@www.passamaquoddylodge.ca
SUMMARY:Fitness Class
DESCRIPTION:
URL:https://www.passamaquoddylodge.ca/event/fitness-class-7-2/2026-06-15/
END:VEVENT
BEGIN:VEVENT
DTSTART;TZID=America/Halifax:20260622T110000
DTEND;TZID=America/Halifax:20260622T113000
DTSTAMP:20260423T153556
CREATED:20251031T232949Z
LAST-MODIFIED:20251031T232950Z
UID:10005891-1782126000-1782127800@www.passamaquoddylodge.ca
SUMMARY:Fitness Class
DESCRIPTION:
URL:https://www.passamaquoddylodge.ca/event/fitness-class-7-2/2026-06-22/
END:VEVENT
BEGIN:VEVENT
DTSTART;TZID=America/Halifax:20260629T110000
DTEND;TZID=America/Halifax:20260629T113000
DTSTAMP:20260423T153556
CREATED:20251031T232949Z
LAST-MODIFIED:20251031T232950Z
UID:10003975-1782730800-1782732600@www.passamaquoddylodge.ca
SUMMARY:Fitness Class
DESCRIPTION:
URL:https://www.passamaquoddylodge.ca/event/fitness-class-7-2/2026-06-29/
END:VEVENT
BEGIN:VEVENT
DTSTART;TZID=America/Halifax:20260706T110000
DTEND;TZID=America/Halifax:20260706T113000
DTSTAMP:20260423T153556
CREATED:20251031T232949Z
LAST-MODIFIED:20251031T232950Z
UID:10005892-1783335600-1783337400@www.passamaquoddylodge.ca
SUMMARY:Fitness Class
DESCRIPTION:
URL:https://www.passamaquoddylodge.ca/event/fitness-class-7-2/2026-07-06/
END:VEVENT
BEGIN:VEVENT
DTSTART;TZID=America/Halifax:20260713T110000
DTEND;TZID=America/Halifax:20260713T113000
DTSTAMP:20260423T153556
CREATED:20251031T232949Z
LAST-MODIFIED:20251031T232950Z
UID:10003976-1783940400-1783942200@www.passamaquoddylodge.ca
SUMMARY:Fitness Class
DESCRIPTION:
URL:https://www.passamaquoddylodge.ca/event/fitness-class-7-2/2026-07-13/
END:VEVENT
BEGIN:VEVENT
DTSTART;TZID=America/Halifax:20260720T110000
DTEND;TZID=America/Halifax:20260720T113000
DTSTAMP:20260423T153556
CREATED:20251031T232949Z
LAST-MODIFIED:20251031T232950Z
UID:10005893-1784545200-1784547000@www.passamaquoddylodge.ca
SUMMARY:Fitness Class
DESCRIPTION:
URL:https://www.passamaquoddylodge.ca/event/fitness-class-7-2/2026-07-20/
END:VEVENT
BEGIN:VEVENT
DTSTART;TZID=America/Halifax:20260727T110000
DTEND;TZID=America/Halifax:20260727T113000
DTSTAMP:20260423T153556
CREATED:20251031T232949Z
LAST-MODIFIED:20251031T232950Z
UID:10003977-1785150000-1785151800@www.passamaquoddylodge.ca
SUMMARY:Fitness Class
DESCRIPTION:
URL:https://www.passamaquoddylodge.ca/event/fitness-class-7-2/2026-07-27/
END:VEVENT
BEGIN:VEVENT
DTSTART;TZID=America/Halifax:20260803T110000
DTEND;TZID=America/Halifax:20260803T113000
DTSTAMP:20260423T153556
CREATED:20251031T232949Z
LAST-MODIFIED:20251031T232950Z
UID:10005894-1785754800-1785756600@www.passamaquoddylodge.ca
SUMMARY:Fitness Class
DESCRIPTION:
URL:https://www.passamaquoddylodge.ca/event/fitness-class-7-2/2026-08-03/
END:VEVENT
BEGIN:VEVENT
DTSTART;TZID=America/Halifax:20260810T110000
DTEND;TZID=America/Halifax:20260810T113000
DTSTAMP:20260423T153556
CREATED:20251031T232949Z
LAST-MODIFIED:20251031T232950Z
UID:10003978-1786359600-1786361400@www.passamaquoddylodge.ca
SUMMARY:Fitness Class
DESCRIPTION:
URL:https://www.passamaquoddylodge.ca/event/fitness-class-7-2/2026-08-10/
END:VEVENT
BEGIN:VEVENT
DTSTART;TZID=America/Halifax:20260817T110000
DTEND;TZID=America/Halifax:20260817T113000
DTSTAMP:20260423T153556
CREATED:20251031T232949Z
LAST-MODIFIED:20251031T232950Z
UID:10005895-1786964400-1786966200@www.passamaquoddylodge.ca
SUMMARY:Fitness Class
DESCRIPTION:
URL:https://www.passamaquoddylodge.ca/event/fitness-class-7-2/2026-08-17/
END:VEVENT
BEGIN:VEVENT
DTSTART;TZID=America/Halifax:20260824T110000
DTEND;TZID=America/Halifax:20260824T113000
DTSTAMP:20260423T153556
CREATED:20251031T232949Z
LAST-MODIFIED:20251031T232950Z
UID:10003979-1787569200-1787571000@www.passamaquoddylodge.ca
SUMMARY:Fitness Class
DESCRIPTION:
URL:https://www.passamaquoddylodge.ca/event/fitness-class-7-2/2026-08-24/
END:VEVENT
BEGIN:VEVENT
DTSTART;TZID=America/Halifax:20260831T110000
DTEND;TZID=America/Halifax:20260831T113000
DTSTAMP:20260423T153556
CREATED:20251031T232949Z
LAST-MODIFIED:20251031T232950Z
UID:10005896-1788174000-1788175800@www.passamaquoddylodge.ca
SUMMARY:Fitness Class
DESCRIPTION:
URL:https://www.passamaquoddylodge.ca/event/fitness-class-7-2/2026-08-31/
END:VEVENT
BEGIN:VEVENT
DTSTART;TZID=America/Halifax:20260907T110000
DTEND;TZID=America/Halifax:20260907T113000
DTSTAMP:20260423T153556
CREATED:20251031T232949Z
LAST-MODIFIED:20251031T232950Z
UID:10003980-1788778800-1788780600@www.passamaquoddylodge.ca
SUMMARY:Fitness Class
DESCRIPTION:
URL:https://www.passamaquoddylodge.ca/event/fitness-class-7-2/2026-09-07/
END:VEVENT
BEGIN:VEVENT
DTSTART;TZID=America/Halifax:20260914T110000
DTEND;TZID=America/Halifax:20260914T113000
DTSTAMP:20260423T153556
CREATED:20251031T232949Z
LAST-MODIFIED:20251031T232950Z
UID:10005897-1789383600-1789385400@www.passamaquoddylodge.ca
SUMMARY:Fitness Class
DESCRIPTION:
URL:https://www.passamaquoddylodge.ca/event/fitness-class-7-2/2026-09-14/
END:VEVENT
BEGIN:VEVENT
DTSTART;TZID=America/Halifax:20260921T110000
DTEND;TZID=America/Halifax:20260921T113000
DTSTAMP:20260423T153556
CREATED:20251031T232949Z
LAST-MODIFIED:20251031T232950Z
UID:10003981-1789988400-1789990200@www.passamaquoddylodge.ca
SUMMARY:Fitness Class
DESCRIPTION:
URL:https://www.passamaquoddylodge.ca/event/fitness-class-7-2/2026-09-21/
END:VEVENT
BEGIN:VEVENT
DTSTART;TZID=America/Halifax:20260928T110000
DTEND;TZID=America/Halifax:20260928T113000
DTSTAMP:20260423T153556
CREATED:20251031T232949Z
LAST-MODIFIED:20251031T232950Z
UID:10005898-1790593200-1790595000@www.passamaquoddylodge.ca
SUMMARY:Fitness Class
DESCRIPTION:
URL:https://www.passamaquoddylodge.ca/event/fitness-class-7-2/2026-09-28/
END:VEVENT
BEGIN:VEVENT
DTSTART;TZID=America/Halifax:20261005T110000
DTEND;TZID=America/Halifax:20261005T113000
DTSTAMP:20260423T153556
CREATED:20251031T232949Z
LAST-MODIFIED:20251031T232950Z
UID:10003982-1791198000-1791199800@www.passamaquoddylodge.ca
SUMMARY:Fitness Class
DESCRIPTION:
URL:https://www.passamaquoddylodge.ca/event/fitness-class-7-2/2026-10-05/
END:VEVENT
BEGIN:VEVENT
DTSTART;TZID=America/Halifax:20261012T110000
DTEND;TZID=America/Halifax:20261012T113000
DTSTAMP:20260423T153556
CREATED:20251031T232949Z
LAST-MODIFIED:20251031T232950Z
UID:10005899-1791802800-1791804600@www.passamaquoddylodge.ca
SUMMARY:Fitness Class
DESCRIPTION:
URL:https://www.passamaquoddylodge.ca/event/fitness-class-7-2/2026-10-12/
END:VEVENT
BEGIN:VEVENT
DTSTART;TZID=America/Halifax:20261019T110000
DTEND;TZID=America/Halifax:20261019T113000
DTSTAMP:20260423T153556
CREATED:20251031T232949Z
LAST-MODIFIED:20251031T232950Z
UID:10003983-1792407600-1792409400@www.passamaquoddylodge.ca
SUMMARY:Fitness Class
DESCRIPTION:
URL:https://www.passamaquoddylodge.ca/event/fitness-class-7-2/2026-10-19/
END:VEVENT
BEGIN:VEVENT
DTSTART;TZID=America/Halifax:20261026T110000
DTEND;TZID=America/Halifax:20261026T113000
DTSTAMP:20260423T153556
CREATED:20251031T232949Z
LAST-MODIFIED:20251031T232950Z
UID:10005900-1793012400-1793014200@www.passamaquoddylodge.ca
SUMMARY:Fitness Class
DESCRIPTION:
URL:https://www.passamaquoddylodge.ca/event/fitness-class-7-2/2026-10-26/
END:VEVENT
BEGIN:VEVENT
DTSTART;TZID=America/Halifax:20261102T110000
DTEND;TZID=America/Halifax:20261102T113000
DTSTAMP:20260423T153556
CREATED:20251031T232949Z
LAST-MODIFIED:20251031T232950Z
UID:10003984-1793617200-1793619000@www.passamaquoddylodge.ca
SUMMARY:Fitness Class
DESCRIPTION:
URL:https://www.passamaquoddylodge.ca/event/fitness-class-7-2/2026-11-02/
END:VEVENT
BEGIN:VEVENT
DTSTART;TZID=America/Halifax:20261109T110000
DTEND;TZID=America/Halifax:20261109T113000
DTSTAMP:20260423T153556
CREATED:20251031T232949Z
LAST-MODIFIED:20251031T232950Z
UID:10005901-1794222000-1794223800@www.passamaquoddylodge.ca
SUMMARY:Fitness Class
DESCRIPTION:
URL:https://www.passamaquoddylodge.ca/event/fitness-class-7-2/2026-11-09/
END:VEVENT
BEGIN:VEVENT
DTSTART;TZID=America/Halifax:20261116T110000
DTEND;TZID=America/Halifax:20261116T113000
DTSTAMP:20260423T153556
CREATED:20251031T232949Z
LAST-MODIFIED:20251031T232950Z
UID:10003985-1794826800-1794828600@www.passamaquoddylodge.ca
SUMMARY:Fitness Class
DESCRIPTION:
URL:https://www.passamaquoddylodge.ca/event/fitness-class-7-2/2026-11-16/
END:VEVENT
END:VCALENDAR