BEGIN:VCALENDAR
VERSION:2.0
PRODID:-//Passamaquoddy Lodge - ECPv6.15.17.1//NONSGML v1.0//EN
CALSCALE:GREGORIAN
METHOD:PUBLISH
X-WR-CALNAME:Passamaquoddy Lodge
X-ORIGINAL-URL:https://www.passamaquoddylodge.ca
X-WR-CALDESC:Events for Passamaquoddy Lodge
REFRESH-INTERVAL;VALUE=DURATION:PT1H
X-Robots-Tag:noindex
X-PUBLISHED-TTL:PT1H
BEGIN:VTIMEZONE
TZID:America/Halifax
BEGIN:DAYLIGHT
TZOFFSETFROM:-0400
TZOFFSETTO:-0300
TZNAME:ADT
DTSTART:20250309T060000
END:DAYLIGHT
BEGIN:STANDARD
TZOFFSETFROM:-0300
TZOFFSETTO:-0400
TZNAME:AST
DTSTART:20251102T050000
END:STANDARD
BEGIN:DAYLIGHT
TZOFFSETFROM:-0400
TZOFFSETTO:-0300
TZNAME:ADT
DTSTART:20260308T060000
END:DAYLIGHT
BEGIN:STANDARD
TZOFFSETFROM:-0300
TZOFFSETTO:-0400
TZNAME:AST
DTSTART:20261101T050000
END:STANDARD
BEGIN:DAYLIGHT
TZOFFSETFROM:-0400
TZOFFSETTO:-0300
TZNAME:ADT
DTSTART:20270314T060000
END:DAYLIGHT
BEGIN:STANDARD
TZOFFSETFROM:-0300
TZOFFSETTO:-0400
TZNAME:AST
DTSTART:20271107T050000
END:STANDARD
BEGIN:DAYLIGHT
TZOFFSETFROM:-0400
TZOFFSETTO:-0300
TZNAME:ADT
DTSTART:20280312T060000
END:DAYLIGHT
BEGIN:STANDARD
TZOFFSETFROM:-0300
TZOFFSETTO:-0400
TZNAME:AST
DTSTART:20281105T050000
END:STANDARD
END:VTIMEZONE
BEGIN:VEVENT
DTSTART;TZID=America/Halifax:20260514T130000
DTEND;TZID=America/Halifax:20260514T134500
DTSTAMP:20260422T161418
CREATED:20260202T184321Z
LAST-MODIFIED:20260202T184322Z
UID:10007231-1778763600-1778766300@www.passamaquoddylodge.ca
SUMMARY:Reading Buddies
DESCRIPTION:
URL:https://www.passamaquoddylodge.ca/event/reading-buddies-6-2-2/2026-05-14/
END:VEVENT
BEGIN:VEVENT
DTSTART;TZID=America/Halifax:20260528T130000
DTEND;TZID=America/Halifax:20260528T134500
DTSTAMP:20260422T161418
CREATED:20260202T184321Z
LAST-MODIFIED:20260202T184322Z
UID:10007232-1779973200-1779975900@www.passamaquoddylodge.ca
SUMMARY:Reading Buddies
DESCRIPTION:
URL:https://www.passamaquoddylodge.ca/event/reading-buddies-6-2-2/2026-05-28/
END:VEVENT
BEGIN:VEVENT
DTSTART;TZID=America/Halifax:20260611T130000
DTEND;TZID=America/Halifax:20260611T134500
DTSTAMP:20260422T161418
CREATED:20260202T184321Z
LAST-MODIFIED:20260202T184322Z
UID:10007233-1781182800-1781185500@www.passamaquoddylodge.ca
SUMMARY:Reading Buddies
DESCRIPTION:
URL:https://www.passamaquoddylodge.ca/event/reading-buddies-6-2-2/2026-06-11/
END:VEVENT
BEGIN:VEVENT
DTSTART;TZID=America/Halifax:20260625T130000
DTEND;TZID=America/Halifax:20260625T134500
DTSTAMP:20260422T161418
CREATED:20260202T184321Z
LAST-MODIFIED:20260202T184322Z
UID:10007234-1782392400-1782395100@www.passamaquoddylodge.ca
SUMMARY:Reading Buddies
DESCRIPTION:
URL:https://www.passamaquoddylodge.ca/event/reading-buddies-6-2-2/2026-06-25/
END:VEVENT
BEGIN:VEVENT
DTSTART;TZID=America/Halifax:20260709T130000
DTEND;TZID=America/Halifax:20260709T134500
DTSTAMP:20260422T161418
CREATED:20260202T184321Z
LAST-MODIFIED:20260202T184322Z
UID:10007235-1783602000-1783604700@www.passamaquoddylodge.ca
SUMMARY:Reading Buddies
DESCRIPTION:
URL:https://www.passamaquoddylodge.ca/event/reading-buddies-6-2-2/2026-07-09/
END:VEVENT
BEGIN:VEVENT
DTSTART;TZID=America/Halifax:20260723T130000
DTEND;TZID=America/Halifax:20260723T134500
DTSTAMP:20260422T161418
CREATED:20260202T184321Z
LAST-MODIFIED:20260202T184322Z
UID:10007236-1784811600-1784814300@www.passamaquoddylodge.ca
SUMMARY:Reading Buddies
DESCRIPTION:
URL:https://www.passamaquoddylodge.ca/event/reading-buddies-6-2-2/2026-07-23/
END:VEVENT
BEGIN:VEVENT
DTSTART;TZID=America/Halifax:20260806T130000
DTEND;TZID=America/Halifax:20260806T134500
DTSTAMP:20260422T161418
CREATED:20260202T184321Z
LAST-MODIFIED:20260202T184322Z
UID:10007237-1786021200-1786023900@www.passamaquoddylodge.ca
SUMMARY:Reading Buddies
DESCRIPTION:
URL:https://www.passamaquoddylodge.ca/event/reading-buddies-6-2-2/2026-08-06/
END:VEVENT
BEGIN:VEVENT
DTSTART;TZID=America/Halifax:20260820T130000
DTEND;TZID=America/Halifax:20260820T134500
DTSTAMP:20260422T161418
CREATED:20260202T184321Z
LAST-MODIFIED:20260202T184322Z
UID:10007238-1787230800-1787233500@www.passamaquoddylodge.ca
SUMMARY:Reading Buddies
DESCRIPTION:
URL:https://www.passamaquoddylodge.ca/event/reading-buddies-6-2-2/2026-08-20/
END:VEVENT
BEGIN:VEVENT
DTSTART;TZID=America/Halifax:20260903T130000
DTEND;TZID=America/Halifax:20260903T134500
DTSTAMP:20260422T161418
CREATED:20260202T184321Z
LAST-MODIFIED:20260202T184322Z
UID:10007239-1788440400-1788443100@www.passamaquoddylodge.ca
SUMMARY:Reading Buddies
DESCRIPTION:
URL:https://www.passamaquoddylodge.ca/event/reading-buddies-6-2-2/2026-09-03/
END:VEVENT
BEGIN:VEVENT
DTSTART;TZID=America/Halifax:20260917T130000
DTEND;TZID=America/Halifax:20260917T134500
DTSTAMP:20260422T161418
CREATED:20260202T184321Z
LAST-MODIFIED:20260202T184322Z
UID:10007240-1789650000-1789652700@www.passamaquoddylodge.ca
SUMMARY:Reading Buddies
DESCRIPTION:
URL:https://www.passamaquoddylodge.ca/event/reading-buddies-6-2-2/2026-09-17/
END:VEVENT
BEGIN:VEVENT
DTSTART;TZID=America/Halifax:20261001T130000
DTEND;TZID=America/Halifax:20261001T134500
DTSTAMP:20260422T161418
CREATED:20260202T184321Z
LAST-MODIFIED:20260202T184322Z
UID:10007241-1790859600-1790862300@www.passamaquoddylodge.ca
SUMMARY:Reading Buddies
DESCRIPTION:
URL:https://www.passamaquoddylodge.ca/event/reading-buddies-6-2-2/2026-10-01/
END:VEVENT
BEGIN:VEVENT
DTSTART;TZID=America/Halifax:20261015T130000
DTEND;TZID=America/Halifax:20261015T134500
DTSTAMP:20260422T161418
CREATED:20260202T184321Z
LAST-MODIFIED:20260202T184322Z
UID:10007242-1792069200-1792071900@www.passamaquoddylodge.ca
SUMMARY:Reading Buddies
DESCRIPTION:
URL:https://www.passamaquoddylodge.ca/event/reading-buddies-6-2-2/2026-10-15/
END:VEVENT
BEGIN:VEVENT
DTSTART;TZID=America/Halifax:20261029T130000
DTEND;TZID=America/Halifax:20261029T134500
DTSTAMP:20260422T161418
CREATED:20260202T184321Z
LAST-MODIFIED:20260202T184322Z
UID:10007243-1793278800-1793281500@www.passamaquoddylodge.ca
SUMMARY:Reading Buddies
DESCRIPTION:
URL:https://www.passamaquoddylodge.ca/event/reading-buddies-6-2-2/2026-10-29/
END:VEVENT
BEGIN:VEVENT
DTSTART;TZID=America/Halifax:20261112T130000
DTEND;TZID=America/Halifax:20261112T134500
DTSTAMP:20260422T161418
CREATED:20260202T184321Z
LAST-MODIFIED:20260202T184322Z
UID:10007244-1794488400-1794491100@www.passamaquoddylodge.ca
SUMMARY:Reading Buddies
DESCRIPTION:
URL:https://www.passamaquoddylodge.ca/event/reading-buddies-6-2-2/2026-11-12/
END:VEVENT
BEGIN:VEVENT
DTSTART;TZID=America/Halifax:20261126T130000
DTEND;TZID=America/Halifax:20261126T134500
DTSTAMP:20260422T161418
CREATED:20260202T184321Z
LAST-MODIFIED:20260202T184322Z
UID:10007245-1795698000-1795700700@www.passamaquoddylodge.ca
SUMMARY:Reading Buddies
DESCRIPTION:
URL:https://www.passamaquoddylodge.ca/event/reading-buddies-6-2-2/2026-11-26/
END:VEVENT
BEGIN:VEVENT
DTSTART;TZID=America/Halifax:20261210T130000
DTEND;TZID=America/Halifax:20261210T134500
DTSTAMP:20260422T161418
CREATED:20260202T184321Z
LAST-MODIFIED:20260202T184322Z
UID:10007246-1796907600-1796910300@www.passamaquoddylodge.ca
SUMMARY:Reading Buddies
DESCRIPTION:
URL:https://www.passamaquoddylodge.ca/event/reading-buddies-6-2-2/2026-12-10/
END:VEVENT
BEGIN:VEVENT
DTSTART;TZID=America/Halifax:20261224T130000
DTEND;TZID=America/Halifax:20261224T134500
DTSTAMP:20260422T161418
CREATED:20260202T184321Z
LAST-MODIFIED:20260202T184322Z
UID:10007247-1798117200-1798119900@www.passamaquoddylodge.ca
SUMMARY:Reading Buddies
DESCRIPTION:
URL:https://www.passamaquoddylodge.ca/event/reading-buddies-6-2-2/2026-12-24/
END:VEVENT
BEGIN:VEVENT
DTSTART;TZID=America/Halifax:20270107T130000
DTEND;TZID=America/Halifax:20270107T134500
DTSTAMP:20260422T161418
CREATED:20260202T184321Z
LAST-MODIFIED:20260202T184322Z
UID:10007248-1799326800-1799329500@www.passamaquoddylodge.ca
SUMMARY:Reading Buddies
DESCRIPTION:
URL:https://www.passamaquoddylodge.ca/event/reading-buddies-6-2-2/2027-01-07/
END:VEVENT
BEGIN:VEVENT
DTSTART;TZID=America/Halifax:20270121T130000
DTEND;TZID=America/Halifax:20270121T134500
DTSTAMP:20260422T161418
CREATED:20260202T184321Z
LAST-MODIFIED:20260202T184322Z
UID:10007249-1800536400-1800539100@www.passamaquoddylodge.ca
SUMMARY:Reading Buddies
DESCRIPTION:
URL:https://www.passamaquoddylodge.ca/event/reading-buddies-6-2-2/2027-01-21/
END:VEVENT
BEGIN:VEVENT
DTSTART;TZID=America/Halifax:20270204T130000
DTEND;TZID=America/Halifax:20270204T134500
DTSTAMP:20260422T161418
CREATED:20260202T184321Z
LAST-MODIFIED:20260202T184322Z
UID:10007250-1801746000-1801748700@www.passamaquoddylodge.ca
SUMMARY:Reading Buddies
DESCRIPTION:
URL:https://www.passamaquoddylodge.ca/event/reading-buddies-6-2-2/2027-02-04/
END:VEVENT
BEGIN:VEVENT
DTSTART;TZID=America/Halifax:20270218T130000
DTEND;TZID=America/Halifax:20270218T134500
DTSTAMP:20260422T161418
CREATED:20260202T184321Z
LAST-MODIFIED:20260202T184322Z
UID:10007251-1802955600-1802958300@www.passamaquoddylodge.ca
SUMMARY:Reading Buddies
DESCRIPTION:
URL:https://www.passamaquoddylodge.ca/event/reading-buddies-6-2-2/2027-02-18/
END:VEVENT
BEGIN:VEVENT
DTSTART;TZID=America/Halifax:20270304T130000
DTEND;TZID=America/Halifax:20270304T134500
DTSTAMP:20260422T161418
CREATED:20260202T184321Z
LAST-MODIFIED:20260202T184322Z
UID:10007252-1804165200-1804167900@www.passamaquoddylodge.ca
SUMMARY:Reading Buddies
DESCRIPTION:
URL:https://www.passamaquoddylodge.ca/event/reading-buddies-6-2-2/2027-03-04/
END:VEVENT
BEGIN:VEVENT
DTSTART;TZID=America/Halifax:20270318T130000
DTEND;TZID=America/Halifax:20270318T134500
DTSTAMP:20260422T161418
CREATED:20260202T184321Z
LAST-MODIFIED:20260202T184322Z
UID:10007253-1805374800-1805377500@www.passamaquoddylodge.ca
SUMMARY:Reading Buddies
DESCRIPTION:
URL:https://www.passamaquoddylodge.ca/event/reading-buddies-6-2-2/2027-03-18/
END:VEVENT
BEGIN:VEVENT
DTSTART;TZID=America/Halifax:20270401T130000
DTEND;TZID=America/Halifax:20270401T134500
DTSTAMP:20260422T161418
CREATED:20260202T184321Z
LAST-MODIFIED:20260202T184322Z
UID:10007254-1806584400-1806587100@www.passamaquoddylodge.ca
SUMMARY:Reading Buddies
DESCRIPTION:
URL:https://www.passamaquoddylodge.ca/event/reading-buddies-6-2-2/2027-04-01/
END:VEVENT
BEGIN:VEVENT
DTSTART;TZID=America/Halifax:20270415T130000
DTEND;TZID=America/Halifax:20270415T134500
DTSTAMP:20260422T161418
CREATED:20260202T184321Z
LAST-MODIFIED:20260202T184322Z
UID:10007255-1807794000-1807796700@www.passamaquoddylodge.ca
SUMMARY:Reading Buddies
DESCRIPTION:
URL:https://www.passamaquoddylodge.ca/event/reading-buddies-6-2-2/2027-04-15/
END:VEVENT
BEGIN:VEVENT
DTSTART;TZID=America/Halifax:20270429T130000
DTEND;TZID=America/Halifax:20270429T134500
DTSTAMP:20260422T161418
CREATED:20260202T184321Z
LAST-MODIFIED:20260202T184322Z
UID:10007256-1809003600-1809006300@www.passamaquoddylodge.ca
SUMMARY:Reading Buddies
DESCRIPTION:
URL:https://www.passamaquoddylodge.ca/event/reading-buddies-6-2-2/2027-04-29/
END:VEVENT
BEGIN:VEVENT
DTSTART;TZID=America/Halifax:20270513T130000
DTEND;TZID=America/Halifax:20270513T134500
DTSTAMP:20260422T161418
CREATED:20260202T184321Z
LAST-MODIFIED:20260202T184322Z
UID:10007257-1810213200-1810215900@www.passamaquoddylodge.ca
SUMMARY:Reading Buddies
DESCRIPTION:
URL:https://www.passamaquoddylodge.ca/event/reading-buddies-6-2-2/2027-05-13/
END:VEVENT
BEGIN:VEVENT
DTSTART;TZID=America/Halifax:20270527T130000
DTEND;TZID=America/Halifax:20270527T134500
DTSTAMP:20260422T161418
CREATED:20260202T184321Z
LAST-MODIFIED:20260202T184322Z
UID:10007258-1811422800-1811425500@www.passamaquoddylodge.ca
SUMMARY:Reading Buddies
DESCRIPTION:
URL:https://www.passamaquoddylodge.ca/event/reading-buddies-6-2-2/2027-05-27/
END:VEVENT
BEGIN:VEVENT
DTSTART;TZID=America/Halifax:20270610T130000
DTEND;TZID=America/Halifax:20270610T134500
DTSTAMP:20260422T161418
CREATED:20260202T184321Z
LAST-MODIFIED:20260202T184322Z
UID:10007259-1812632400-1812635100@www.passamaquoddylodge.ca
SUMMARY:Reading Buddies
DESCRIPTION:
URL:https://www.passamaquoddylodge.ca/event/reading-buddies-6-2-2/2027-06-10/
END:VEVENT
BEGIN:VEVENT
DTSTART;TZID=America/Halifax:20270624T130000
DTEND;TZID=America/Halifax:20270624T134500
DTSTAMP:20260422T161418
CREATED:20260202T184321Z
LAST-MODIFIED:20260202T184322Z
UID:10007260-1813842000-1813844700@www.passamaquoddylodge.ca
SUMMARY:Reading Buddies
DESCRIPTION:
URL:https://www.passamaquoddylodge.ca/event/reading-buddies-6-2-2/2027-06-24/
END:VEVENT
END:VCALENDAR