BEGIN:VCALENDAR
VERSION:2.0
PRODID:-//Passamaquoddy Lodge - ECPv6.15.17.1//NONSGML v1.0//EN
CALSCALE:GREGORIAN
METHOD:PUBLISH
X-WR-CALNAME:Passamaquoddy Lodge
X-ORIGINAL-URL:https://www.passamaquoddylodge.ca
X-WR-CALDESC:Events for Passamaquoddy Lodge
REFRESH-INTERVAL;VALUE=DURATION:PT1H
X-Robots-Tag:noindex
X-PUBLISHED-TTL:PT1H
BEGIN:VTIMEZONE
TZID:America/Halifax
BEGIN:DAYLIGHT
TZOFFSETFROM:-0400
TZOFFSETTO:-0300
TZNAME:ADT
DTSTART:20250309T060000
END:DAYLIGHT
BEGIN:STANDARD
TZOFFSETFROM:-0300
TZOFFSETTO:-0400
TZNAME:AST
DTSTART:20251102T050000
END:STANDARD
BEGIN:DAYLIGHT
TZOFFSETFROM:-0400
TZOFFSETTO:-0300
TZNAME:ADT
DTSTART:20260308T060000
END:DAYLIGHT
BEGIN:STANDARD
TZOFFSETFROM:-0300
TZOFFSETTO:-0400
TZNAME:AST
DTSTART:20261101T050000
END:STANDARD
BEGIN:DAYLIGHT
TZOFFSETFROM:-0400
TZOFFSETTO:-0300
TZNAME:ADT
DTSTART:20270314T060000
END:DAYLIGHT
BEGIN:STANDARD
TZOFFSETFROM:-0300
TZOFFSETTO:-0400
TZNAME:AST
DTSTART:20271107T050000
END:STANDARD
BEGIN:DAYLIGHT
TZOFFSETFROM:-0400
TZOFFSETTO:-0300
TZNAME:ADT
DTSTART:20280312T060000
END:DAYLIGHT
BEGIN:STANDARD
TZOFFSETFROM:-0300
TZOFFSETTO:-0400
TZNAME:AST
DTSTART:20281105T050000
END:STANDARD
BEGIN:DAYLIGHT
TZOFFSETFROM:-0400
TZOFFSETTO:-0300
TZNAME:ADT
DTSTART:20290311T060000
END:DAYLIGHT
BEGIN:STANDARD
TZOFFSETFROM:-0300
TZOFFSETTO:-0400
TZNAME:AST
DTSTART:20291104T050000
END:STANDARD
BEGIN:DAYLIGHT
TZOFFSETFROM:-0400
TZOFFSETTO:-0300
TZNAME:ADT
DTSTART:20300310T060000
END:DAYLIGHT
BEGIN:STANDARD
TZOFFSETFROM:-0300
TZOFFSETTO:-0400
TZNAME:AST
DTSTART:20301103T050000
END:STANDARD
BEGIN:DAYLIGHT
TZOFFSETFROM:-0400
TZOFFSETTO:-0300
TZNAME:ADT
DTSTART:20310309T060000
END:DAYLIGHT
BEGIN:STANDARD
TZOFFSETFROM:-0300
TZOFFSETTO:-0400
TZNAME:AST
DTSTART:20311102T050000
END:STANDARD
END:VTIMEZONE
BEGIN:VEVENT
DTSTART;VALUE=DATE:20260907
DTEND;VALUE=DATE:20260908
DTSTAMP:20260425T204624
CREATED:20250902T225047Z
LAST-MODIFIED:20250902T225047Z
UID:10005351-1788739200-1788825599@www.passamaquoddylodge.ca
SUMMARY:Labour Day
DESCRIPTION:
URL:https://www.passamaquoddylodge.ca/event/labour-day-2/2026-09-07/
END:VEVENT
BEGIN:VEVENT
DTSTART;VALUE=DATE:20270906
DTEND;VALUE=DATE:20270907
DTSTAMP:20260425T204624
CREATED:20250902T225047Z
LAST-MODIFIED:20250902T225047Z
UID:10005352-1820188800-1820275199@www.passamaquoddylodge.ca
SUMMARY:Labour Day
DESCRIPTION:
URL:https://www.passamaquoddylodge.ca/event/labour-day-2/2027-09-06/
END:VEVENT
BEGIN:VEVENT
DTSTART;VALUE=DATE:20280904
DTEND;VALUE=DATE:20280905
DTSTAMP:20260425T204624
CREATED:20250902T225047Z
LAST-MODIFIED:20250902T225047Z
UID:10005353-1851638400-1851724799@www.passamaquoddylodge.ca
SUMMARY:Labour Day
DESCRIPTION:
URL:https://www.passamaquoddylodge.ca/event/labour-day-2/2028-09-04/
END:VEVENT
BEGIN:VEVENT
DTSTART;VALUE=DATE:20290903
DTEND;VALUE=DATE:20290904
DTSTAMP:20260425T204624
CREATED:20250902T225047Z
LAST-MODIFIED:20250902T225047Z
UID:10005354-1883088000-1883174399@www.passamaquoddylodge.ca
SUMMARY:Labour Day
DESCRIPTION:
URL:https://www.passamaquoddylodge.ca/event/labour-day-2/2029-09-03/
END:VEVENT
BEGIN:VEVENT
DTSTART;VALUE=DATE:20300902
DTEND;VALUE=DATE:20300903
DTSTAMP:20260425T204624
CREATED:20250902T225047Z
LAST-MODIFIED:20250902T225047Z
UID:10005355-1914537600-1914623999@www.passamaquoddylodge.ca
SUMMARY:Labour Day
DESCRIPTION:
URL:https://www.passamaquoddylodge.ca/event/labour-day-2/2030-09-02/
END:VEVENT
END:VCALENDAR