BEGIN:VCALENDAR
VERSION:2.0
PRODID:-//Passamaquoddy Lodge - ECPv6.15.17.1//NONSGML v1.0//EN
CALSCALE:GREGORIAN
METHOD:PUBLISH
X-WR-CALNAME:Passamaquoddy Lodge
X-ORIGINAL-URL:https://www.passamaquoddylodge.ca
X-WR-CALDESC:Events for Passamaquoddy Lodge
REFRESH-INTERVAL;VALUE=DURATION:PT1H
X-Robots-Tag:noindex
X-PUBLISHED-TTL:PT1H
BEGIN:VTIMEZONE
TZID:America/Halifax
BEGIN:DAYLIGHT
TZOFFSETFROM:-0400
TZOFFSETTO:-0300
TZNAME:ADT
DTSTART:20250309T060000
END:DAYLIGHT
BEGIN:STANDARD
TZOFFSETFROM:-0300
TZOFFSETTO:-0400
TZNAME:AST
DTSTART:20251102T050000
END:STANDARD
BEGIN:DAYLIGHT
TZOFFSETFROM:-0400
TZOFFSETTO:-0300
TZNAME:ADT
DTSTART:20260308T060000
END:DAYLIGHT
BEGIN:STANDARD
TZOFFSETFROM:-0300
TZOFFSETTO:-0400
TZNAME:AST
DTSTART:20261101T050000
END:STANDARD
BEGIN:DAYLIGHT
TZOFFSETFROM:-0400
TZOFFSETTO:-0300
TZNAME:ADT
DTSTART:20270314T060000
END:DAYLIGHT
BEGIN:STANDARD
TZOFFSETFROM:-0300
TZOFFSETTO:-0400
TZNAME:AST
DTSTART:20271107T050000
END:STANDARD
END:VTIMEZONE
BEGIN:VEVENT
DTSTART;TZID=America/Halifax:20260505T133000
DTEND;TZID=America/Halifax:20260505T143000
DTSTAMP:20260421T145545
CREATED:20260402T115345Z
LAST-MODIFIED:20260402T115346Z
UID:10006828-1777987800-1777991400@www.passamaquoddylodge.ca
SUMMARY:Easy Sew/Knitting
DESCRIPTION:
URL:https://www.passamaquoddylodge.ca/event/easy-sew-11-2/2026-05-05/
END:VEVENT
BEGIN:VEVENT
DTSTART;TZID=America/Halifax:20260512T133000
DTEND;TZID=America/Halifax:20260512T143000
DTSTAMP:20260421T145545
CREATED:20260402T115345Z
LAST-MODIFIED:20260402T115346Z
UID:10006829-1778592600-1778596200@www.passamaquoddylodge.ca
SUMMARY:Easy Sew/Knitting
DESCRIPTION:
URL:https://www.passamaquoddylodge.ca/event/easy-sew-11-2/2026-05-12/
END:VEVENT
BEGIN:VEVENT
DTSTART;TZID=America/Halifax:20260519T133000
DTEND;TZID=America/Halifax:20260519T143000
DTSTAMP:20260421T145545
CREATED:20260402T115345Z
LAST-MODIFIED:20260402T115346Z
UID:10006830-1779197400-1779201000@www.passamaquoddylodge.ca
SUMMARY:Easy Sew/Knitting
DESCRIPTION:
URL:https://www.passamaquoddylodge.ca/event/easy-sew-11-2/2026-05-19/
END:VEVENT
BEGIN:VEVENT
DTSTART;TZID=America/Halifax:20260526T133000
DTEND;TZID=America/Halifax:20260526T143000
DTSTAMP:20260421T145545
CREATED:20260402T115345Z
LAST-MODIFIED:20260402T115346Z
UID:10006831-1779802200-1779805800@www.passamaquoddylodge.ca
SUMMARY:Easy Sew/Knitting
DESCRIPTION:
URL:https://www.passamaquoddylodge.ca/event/easy-sew-11-2/2026-05-26/
END:VEVENT
BEGIN:VEVENT
DTSTART;TZID=America/Halifax:20260602T133000
DTEND;TZID=America/Halifax:20260602T143000
DTSTAMP:20260421T145545
CREATED:20260402T115345Z
LAST-MODIFIED:20260402T115346Z
UID:10006832-1780407000-1780410600@www.passamaquoddylodge.ca
SUMMARY:Easy Sew/Knitting
DESCRIPTION:
URL:https://www.passamaquoddylodge.ca/event/easy-sew-11-2/2026-06-02/
END:VEVENT
BEGIN:VEVENT
DTSTART;TZID=America/Halifax:20260609T133000
DTEND;TZID=America/Halifax:20260609T143000
DTSTAMP:20260421T145545
CREATED:20260402T115345Z
LAST-MODIFIED:20260402T115346Z
UID:10006833-1781011800-1781015400@www.passamaquoddylodge.ca
SUMMARY:Easy Sew/Knitting
DESCRIPTION:
URL:https://www.passamaquoddylodge.ca/event/easy-sew-11-2/2026-06-09/
END:VEVENT
BEGIN:VEVENT
DTSTART;TZID=America/Halifax:20260616T133000
DTEND;TZID=America/Halifax:20260616T143000
DTSTAMP:20260421T145545
CREATED:20260402T115345Z
LAST-MODIFIED:20260402T115346Z
UID:10006834-1781616600-1781620200@www.passamaquoddylodge.ca
SUMMARY:Easy Sew/Knitting
DESCRIPTION:
URL:https://www.passamaquoddylodge.ca/event/easy-sew-11-2/2026-06-16/
END:VEVENT
BEGIN:VEVENT
DTSTART;TZID=America/Halifax:20260623T133000
DTEND;TZID=America/Halifax:20260623T143000
DTSTAMP:20260421T145545
CREATED:20260402T115345Z
LAST-MODIFIED:20260402T115346Z
UID:10006835-1782221400-1782225000@www.passamaquoddylodge.ca
SUMMARY:Easy Sew/Knitting
DESCRIPTION:
URL:https://www.passamaquoddylodge.ca/event/easy-sew-11-2/2026-06-23/
END:VEVENT
BEGIN:VEVENT
DTSTART;TZID=America/Halifax:20260630T133000
DTEND;TZID=America/Halifax:20260630T143000
DTSTAMP:20260421T145545
CREATED:20260402T115345Z
LAST-MODIFIED:20260402T115346Z
UID:10006836-1782826200-1782829800@www.passamaquoddylodge.ca
SUMMARY:Easy Sew/Knitting
DESCRIPTION:
URL:https://www.passamaquoddylodge.ca/event/easy-sew-11-2/2026-06-30/
END:VEVENT
BEGIN:VEVENT
DTSTART;TZID=America/Halifax:20260707T133000
DTEND;TZID=America/Halifax:20260707T143000
DTSTAMP:20260421T145545
CREATED:20260402T115345Z
LAST-MODIFIED:20260402T115346Z
UID:10006837-1783431000-1783434600@www.passamaquoddylodge.ca
SUMMARY:Easy Sew/Knitting
DESCRIPTION:
URL:https://www.passamaquoddylodge.ca/event/easy-sew-11-2/2026-07-07/
END:VEVENT
BEGIN:VEVENT
DTSTART;TZID=America/Halifax:20260714T133000
DTEND;TZID=America/Halifax:20260714T143000
DTSTAMP:20260421T145545
CREATED:20260402T115345Z
LAST-MODIFIED:20260402T115346Z
UID:10006838-1784035800-1784039400@www.passamaquoddylodge.ca
SUMMARY:Easy Sew/Knitting
DESCRIPTION:
URL:https://www.passamaquoddylodge.ca/event/easy-sew-11-2/2026-07-14/
END:VEVENT
BEGIN:VEVENT
DTSTART;TZID=America/Halifax:20260721T133000
DTEND;TZID=America/Halifax:20260721T143000
DTSTAMP:20260421T145545
CREATED:20260402T115345Z
LAST-MODIFIED:20260402T115346Z
UID:10006839-1784640600-1784644200@www.passamaquoddylodge.ca
SUMMARY:Easy Sew/Knitting
DESCRIPTION:
URL:https://www.passamaquoddylodge.ca/event/easy-sew-11-2/2026-07-21/
END:VEVENT
BEGIN:VEVENT
DTSTART;TZID=America/Halifax:20260728T133000
DTEND;TZID=America/Halifax:20260728T143000
DTSTAMP:20260421T145545
CREATED:20260402T115345Z
LAST-MODIFIED:20260402T115346Z
UID:10006840-1785245400-1785249000@www.passamaquoddylodge.ca
SUMMARY:Easy Sew/Knitting
DESCRIPTION:
URL:https://www.passamaquoddylodge.ca/event/easy-sew-11-2/2026-07-28/
END:VEVENT
BEGIN:VEVENT
DTSTART;TZID=America/Halifax:20260804T133000
DTEND;TZID=America/Halifax:20260804T143000
DTSTAMP:20260421T145545
CREATED:20260402T115345Z
LAST-MODIFIED:20260402T115346Z
UID:10006841-1785850200-1785853800@www.passamaquoddylodge.ca
SUMMARY:Easy Sew/Knitting
DESCRIPTION:
URL:https://www.passamaquoddylodge.ca/event/easy-sew-11-2/2026-08-04/
END:VEVENT
BEGIN:VEVENT
DTSTART;TZID=America/Halifax:20260811T133000
DTEND;TZID=America/Halifax:20260811T143000
DTSTAMP:20260421T145545
CREATED:20260402T115345Z
LAST-MODIFIED:20260402T115346Z
UID:10006842-1786455000-1786458600@www.passamaquoddylodge.ca
SUMMARY:Easy Sew/Knitting
DESCRIPTION:
URL:https://www.passamaquoddylodge.ca/event/easy-sew-11-2/2026-08-11/
END:VEVENT
BEGIN:VEVENT
DTSTART;TZID=America/Halifax:20260818T133000
DTEND;TZID=America/Halifax:20260818T143000
DTSTAMP:20260421T145545
CREATED:20260402T115345Z
LAST-MODIFIED:20260402T115346Z
UID:10006843-1787059800-1787063400@www.passamaquoddylodge.ca
SUMMARY:Easy Sew/Knitting
DESCRIPTION:
URL:https://www.passamaquoddylodge.ca/event/easy-sew-11-2/2026-08-18/
END:VEVENT
BEGIN:VEVENT
DTSTART;TZID=America/Halifax:20260825T133000
DTEND;TZID=America/Halifax:20260825T143000
DTSTAMP:20260421T145545
CREATED:20260402T115345Z
LAST-MODIFIED:20260402T115346Z
UID:10006844-1787664600-1787668200@www.passamaquoddylodge.ca
SUMMARY:Easy Sew/Knitting
DESCRIPTION:
URL:https://www.passamaquoddylodge.ca/event/easy-sew-11-2/2026-08-25/
END:VEVENT
BEGIN:VEVENT
DTSTART;TZID=America/Halifax:20260901T133000
DTEND;TZID=America/Halifax:20260901T143000
DTSTAMP:20260421T145545
CREATED:20260402T115345Z
LAST-MODIFIED:20260402T115346Z
UID:10006845-1788269400-1788273000@www.passamaquoddylodge.ca
SUMMARY:Easy Sew/Knitting
DESCRIPTION:
URL:https://www.passamaquoddylodge.ca/event/easy-sew-11-2/2026-09-01/
END:VEVENT
BEGIN:VEVENT
DTSTART;TZID=America/Halifax:20260908T133000
DTEND;TZID=America/Halifax:20260908T143000
DTSTAMP:20260421T145545
CREATED:20260402T115345Z
LAST-MODIFIED:20260402T115346Z
UID:10006846-1788874200-1788877800@www.passamaquoddylodge.ca
SUMMARY:Easy Sew/Knitting
DESCRIPTION:
URL:https://www.passamaquoddylodge.ca/event/easy-sew-11-2/2026-09-08/
END:VEVENT
BEGIN:VEVENT
DTSTART;TZID=America/Halifax:20260915T133000
DTEND;TZID=America/Halifax:20260915T143000
DTSTAMP:20260421T145545
CREATED:20260402T115345Z
LAST-MODIFIED:20260402T115346Z
UID:10006847-1789479000-1789482600@www.passamaquoddylodge.ca
SUMMARY:Easy Sew/Knitting
DESCRIPTION:
URL:https://www.passamaquoddylodge.ca/event/easy-sew-11-2/2026-09-15/
END:VEVENT
BEGIN:VEVENT
DTSTART;TZID=America/Halifax:20260922T133000
DTEND;TZID=America/Halifax:20260922T143000
DTSTAMP:20260421T145545
CREATED:20260402T115345Z
LAST-MODIFIED:20260402T115346Z
UID:10006848-1790083800-1790087400@www.passamaquoddylodge.ca
SUMMARY:Easy Sew/Knitting
DESCRIPTION:
URL:https://www.passamaquoddylodge.ca/event/easy-sew-11-2/2026-09-22/
END:VEVENT
BEGIN:VEVENT
DTSTART;TZID=America/Halifax:20260929T133000
DTEND;TZID=America/Halifax:20260929T143000
DTSTAMP:20260421T145545
CREATED:20260402T115345Z
LAST-MODIFIED:20260402T115346Z
UID:10006849-1790688600-1790692200@www.passamaquoddylodge.ca
SUMMARY:Easy Sew/Knitting
DESCRIPTION:
URL:https://www.passamaquoddylodge.ca/event/easy-sew-11-2/2026-09-29/
END:VEVENT
BEGIN:VEVENT
DTSTART;TZID=America/Halifax:20261006T133000
DTEND;TZID=America/Halifax:20261006T143000
DTSTAMP:20260421T145545
CREATED:20260402T115345Z
LAST-MODIFIED:20260402T115346Z
UID:10006850-1791293400-1791297000@www.passamaquoddylodge.ca
SUMMARY:Easy Sew/Knitting
DESCRIPTION:
URL:https://www.passamaquoddylodge.ca/event/easy-sew-11-2/2026-10-06/
END:VEVENT
BEGIN:VEVENT
DTSTART;TZID=America/Halifax:20261013T133000
DTEND;TZID=America/Halifax:20261013T143000
DTSTAMP:20260421T145545
CREATED:20260402T115345Z
LAST-MODIFIED:20260402T115346Z
UID:10006851-1791898200-1791901800@www.passamaquoddylodge.ca
SUMMARY:Easy Sew/Knitting
DESCRIPTION:
URL:https://www.passamaquoddylodge.ca/event/easy-sew-11-2/2026-10-13/
END:VEVENT
BEGIN:VEVENT
DTSTART;TZID=America/Halifax:20261020T133000
DTEND;TZID=America/Halifax:20261020T143000
DTSTAMP:20260421T145545
CREATED:20260402T115345Z
LAST-MODIFIED:20260402T115346Z
UID:10006852-1792503000-1792506600@www.passamaquoddylodge.ca
SUMMARY:Easy Sew/Knitting
DESCRIPTION:
URL:https://www.passamaquoddylodge.ca/event/easy-sew-11-2/2026-10-20/
END:VEVENT
BEGIN:VEVENT
DTSTART;TZID=America/Halifax:20261027T133000
DTEND;TZID=America/Halifax:20261027T143000
DTSTAMP:20260421T145545
CREATED:20260402T115345Z
LAST-MODIFIED:20260402T115346Z
UID:10006853-1793107800-1793111400@www.passamaquoddylodge.ca
SUMMARY:Easy Sew/Knitting
DESCRIPTION:
URL:https://www.passamaquoddylodge.ca/event/easy-sew-11-2/2026-10-27/
END:VEVENT
BEGIN:VEVENT
DTSTART;TZID=America/Halifax:20261103T133000
DTEND;TZID=America/Halifax:20261103T143000
DTSTAMP:20260421T145545
CREATED:20260402T115345Z
LAST-MODIFIED:20260402T115346Z
UID:10006854-1793712600-1793716200@www.passamaquoddylodge.ca
SUMMARY:Easy Sew/Knitting
DESCRIPTION:
URL:https://www.passamaquoddylodge.ca/event/easy-sew-11-2/2026-11-03/
END:VEVENT
BEGIN:VEVENT
DTSTART;TZID=America/Halifax:20261110T133000
DTEND;TZID=America/Halifax:20261110T143000
DTSTAMP:20260421T145545
CREATED:20260402T115345Z
LAST-MODIFIED:20260402T115346Z
UID:10006855-1794317400-1794321000@www.passamaquoddylodge.ca
SUMMARY:Easy Sew/Knitting
DESCRIPTION:
URL:https://www.passamaquoddylodge.ca/event/easy-sew-11-2/2026-11-10/
END:VEVENT
BEGIN:VEVENT
DTSTART;TZID=America/Halifax:20261117T133000
DTEND;TZID=America/Halifax:20261117T143000
DTSTAMP:20260421T145545
CREATED:20260402T115345Z
LAST-MODIFIED:20260402T115346Z
UID:10006856-1794922200-1794925800@www.passamaquoddylodge.ca
SUMMARY:Easy Sew/Knitting
DESCRIPTION:
URL:https://www.passamaquoddylodge.ca/event/easy-sew-11-2/2026-11-17/
END:VEVENT
BEGIN:VEVENT
DTSTART;TZID=America/Halifax:20261124T133000
DTEND;TZID=America/Halifax:20261124T143000
DTSTAMP:20260421T145545
CREATED:20260402T115345Z
LAST-MODIFIED:20260402T115346Z
UID:10006857-1795527000-1795530600@www.passamaquoddylodge.ca
SUMMARY:Easy Sew/Knitting
DESCRIPTION:
URL:https://www.passamaquoddylodge.ca/event/easy-sew-11-2/2026-11-24/
END:VEVENT
END:VCALENDAR