BEGIN:VCALENDAR
VERSION:2.0
PRODID:-//Passamaquoddy Lodge - ECPv6.15.17.1//NONSGML v1.0//EN
CALSCALE:GREGORIAN
METHOD:PUBLISH
X-WR-CALNAME:Passamaquoddy Lodge
X-ORIGINAL-URL:https://www.passamaquoddylodge.ca
X-WR-CALDESC:Events for Passamaquoddy Lodge
REFRESH-INTERVAL;VALUE=DURATION:PT1H
X-Robots-Tag:noindex
X-PUBLISHED-TTL:PT1H
BEGIN:VTIMEZONE
TZID:America/Halifax
BEGIN:DAYLIGHT
TZOFFSETFROM:-0400
TZOFFSETTO:-0300
TZNAME:ADT
DTSTART:20250309T060000
END:DAYLIGHT
BEGIN:STANDARD
TZOFFSETFROM:-0300
TZOFFSETTO:-0400
TZNAME:AST
DTSTART:20251102T050000
END:STANDARD
BEGIN:DAYLIGHT
TZOFFSETFROM:-0400
TZOFFSETTO:-0300
TZNAME:ADT
DTSTART:20260308T060000
END:DAYLIGHT
BEGIN:STANDARD
TZOFFSETFROM:-0300
TZOFFSETTO:-0400
TZNAME:AST
DTSTART:20261101T050000
END:STANDARD
BEGIN:DAYLIGHT
TZOFFSETFROM:-0400
TZOFFSETTO:-0300
TZNAME:ADT
DTSTART:20270314T060000
END:DAYLIGHT
BEGIN:STANDARD
TZOFFSETFROM:-0300
TZOFFSETTO:-0400
TZNAME:AST
DTSTART:20271107T050000
END:STANDARD
END:VTIMEZONE
BEGIN:VEVENT
DTSTART;TZID=America/Halifax:20260427T133000
DTEND;TZID=America/Halifax:20260427T143000
DTSTAMP:20260421T182002
CREATED:20260202T182719Z
LAST-MODIFIED:20260202T182946Z
UID:10006545-1777296600-1777300200@www.passamaquoddylodge.ca
SUMMARY:Crafts
DESCRIPTION:
URL:https://www.passamaquoddylodge.ca/event/crafts-9/2026-04-27/
END:VEVENT
BEGIN:VEVENT
DTSTART;TZID=America/Halifax:20260504T133000
DTEND;TZID=America/Halifax:20260504T143000
DTSTAMP:20260421T182002
CREATED:20260202T182719Z
LAST-MODIFIED:20260202T182946Z
UID:10006676-1777901400-1777905000@www.passamaquoddylodge.ca
SUMMARY:Crafts
DESCRIPTION:
URL:https://www.passamaquoddylodge.ca/event/crafts-9/2026-05-04/
END:VEVENT
BEGIN:VEVENT
DTSTART;TZID=America/Halifax:20260511T133000
DTEND;TZID=America/Halifax:20260511T143000
DTSTAMP:20260421T182002
CREATED:20260202T182719Z
LAST-MODIFIED:20260202T182946Z
UID:10006546-1778506200-1778509800@www.passamaquoddylodge.ca
SUMMARY:Crafts
DESCRIPTION:
URL:https://www.passamaquoddylodge.ca/event/crafts-9/2026-05-11/
END:VEVENT
BEGIN:VEVENT
DTSTART;TZID=America/Halifax:20260518T133000
DTEND;TZID=America/Halifax:20260518T143000
DTSTAMP:20260421T182002
CREATED:20260202T182719Z
LAST-MODIFIED:20260202T182946Z
UID:10006677-1779111000-1779114600@www.passamaquoddylodge.ca
SUMMARY:Crafts
DESCRIPTION:
URL:https://www.passamaquoddylodge.ca/event/crafts-9/2026-05-18/
END:VEVENT
BEGIN:VEVENT
DTSTART;TZID=America/Halifax:20260525T133000
DTEND;TZID=America/Halifax:20260525T143000
DTSTAMP:20260421T182002
CREATED:20260202T182719Z
LAST-MODIFIED:20260202T182946Z
UID:10006547-1779715800-1779719400@www.passamaquoddylodge.ca
SUMMARY:Crafts
DESCRIPTION:
URL:https://www.passamaquoddylodge.ca/event/crafts-9/2026-05-25/
END:VEVENT
BEGIN:VEVENT
DTSTART;TZID=America/Halifax:20260601T133000
DTEND;TZID=America/Halifax:20260601T143000
DTSTAMP:20260421T182002
CREATED:20260202T182719Z
LAST-MODIFIED:20260202T182946Z
UID:10006678-1780320600-1780324200@www.passamaquoddylodge.ca
SUMMARY:Crafts
DESCRIPTION:
URL:https://www.passamaquoddylodge.ca/event/crafts-9/2026-06-01/
END:VEVENT
BEGIN:VEVENT
DTSTART;TZID=America/Halifax:20260608T133000
DTEND;TZID=America/Halifax:20260608T143000
DTSTAMP:20260421T182002
CREATED:20260202T182719Z
LAST-MODIFIED:20260202T182946Z
UID:10006548-1780925400-1780929000@www.passamaquoddylodge.ca
SUMMARY:Crafts
DESCRIPTION:
URL:https://www.passamaquoddylodge.ca/event/crafts-9/2026-06-08/
END:VEVENT
BEGIN:VEVENT
DTSTART;TZID=America/Halifax:20260615T133000
DTEND;TZID=America/Halifax:20260615T143000
DTSTAMP:20260421T182002
CREATED:20260202T182719Z
LAST-MODIFIED:20260202T182946Z
UID:10006679-1781530200-1781533800@www.passamaquoddylodge.ca
SUMMARY:Crafts
DESCRIPTION:
URL:https://www.passamaquoddylodge.ca/event/crafts-9/2026-06-15/
END:VEVENT
BEGIN:VEVENT
DTSTART;TZID=America/Halifax:20260622T133000
DTEND;TZID=America/Halifax:20260622T143000
DTSTAMP:20260421T182002
CREATED:20260202T182719Z
LAST-MODIFIED:20260202T182946Z
UID:10006549-1782135000-1782138600@www.passamaquoddylodge.ca
SUMMARY:Crafts
DESCRIPTION:
URL:https://www.passamaquoddylodge.ca/event/crafts-9/2026-06-22/
END:VEVENT
BEGIN:VEVENT
DTSTART;TZID=America/Halifax:20260629T133000
DTEND;TZID=America/Halifax:20260629T143000
DTSTAMP:20260421T182002
CREATED:20260202T182719Z
LAST-MODIFIED:20260202T182946Z
UID:10006680-1782739800-1782743400@www.passamaquoddylodge.ca
SUMMARY:Crafts
DESCRIPTION:
URL:https://www.passamaquoddylodge.ca/event/crafts-9/2026-06-29/
END:VEVENT
BEGIN:VEVENT
DTSTART;TZID=America/Halifax:20260706T133000
DTEND;TZID=America/Halifax:20260706T143000
DTSTAMP:20260421T182002
CREATED:20260202T182719Z
LAST-MODIFIED:20260202T182946Z
UID:10006550-1783344600-1783348200@www.passamaquoddylodge.ca
SUMMARY:Crafts
DESCRIPTION:
URL:https://www.passamaquoddylodge.ca/event/crafts-9/2026-07-06/
END:VEVENT
BEGIN:VEVENT
DTSTART;TZID=America/Halifax:20260713T133000
DTEND;TZID=America/Halifax:20260713T143000
DTSTAMP:20260421T182002
CREATED:20260202T182719Z
LAST-MODIFIED:20260202T182946Z
UID:10006681-1783949400-1783953000@www.passamaquoddylodge.ca
SUMMARY:Crafts
DESCRIPTION:
URL:https://www.passamaquoddylodge.ca/event/crafts-9/2026-07-13/
END:VEVENT
BEGIN:VEVENT
DTSTART;TZID=America/Halifax:20260720T133000
DTEND;TZID=America/Halifax:20260720T143000
DTSTAMP:20260421T182002
CREATED:20260202T182719Z
LAST-MODIFIED:20260202T182946Z
UID:10006551-1784554200-1784557800@www.passamaquoddylodge.ca
SUMMARY:Crafts
DESCRIPTION:
URL:https://www.passamaquoddylodge.ca/event/crafts-9/2026-07-20/
END:VEVENT
BEGIN:VEVENT
DTSTART;TZID=America/Halifax:20260727T133000
DTEND;TZID=America/Halifax:20260727T143000
DTSTAMP:20260421T182002
CREATED:20260202T182719Z
LAST-MODIFIED:20260202T182946Z
UID:10006682-1785159000-1785162600@www.passamaquoddylodge.ca
SUMMARY:Crafts
DESCRIPTION:
URL:https://www.passamaquoddylodge.ca/event/crafts-9/2026-07-27/
END:VEVENT
BEGIN:VEVENT
DTSTART;TZID=America/Halifax:20260803T133000
DTEND;TZID=America/Halifax:20260803T143000
DTSTAMP:20260421T182002
CREATED:20260202T182719Z
LAST-MODIFIED:20260202T182946Z
UID:10006552-1785763800-1785767400@www.passamaquoddylodge.ca
SUMMARY:Crafts
DESCRIPTION:
URL:https://www.passamaquoddylodge.ca/event/crafts-9/2026-08-03/
END:VEVENT
BEGIN:VEVENT
DTSTART;TZID=America/Halifax:20260810T133000
DTEND;TZID=America/Halifax:20260810T143000
DTSTAMP:20260421T182002
CREATED:20260202T182719Z
LAST-MODIFIED:20260202T182946Z
UID:10006683-1786368600-1786372200@www.passamaquoddylodge.ca
SUMMARY:Crafts
DESCRIPTION:
URL:https://www.passamaquoddylodge.ca/event/crafts-9/2026-08-10/
END:VEVENT
BEGIN:VEVENT
DTSTART;TZID=America/Halifax:20260817T133000
DTEND;TZID=America/Halifax:20260817T143000
DTSTAMP:20260421T182002
CREATED:20260202T182719Z
LAST-MODIFIED:20260202T182946Z
UID:10006553-1786973400-1786977000@www.passamaquoddylodge.ca
SUMMARY:Crafts
DESCRIPTION:
URL:https://www.passamaquoddylodge.ca/event/crafts-9/2026-08-17/
END:VEVENT
BEGIN:VEVENT
DTSTART;TZID=America/Halifax:20260824T133000
DTEND;TZID=America/Halifax:20260824T143000
DTSTAMP:20260421T182002
CREATED:20260202T182719Z
LAST-MODIFIED:20260202T182946Z
UID:10006684-1787578200-1787581800@www.passamaquoddylodge.ca
SUMMARY:Crafts
DESCRIPTION:
URL:https://www.passamaquoddylodge.ca/event/crafts-9/2026-08-24/
END:VEVENT
BEGIN:VEVENT
DTSTART;TZID=America/Halifax:20260831T133000
DTEND;TZID=America/Halifax:20260831T143000
DTSTAMP:20260421T182002
CREATED:20260202T182719Z
LAST-MODIFIED:20260202T182946Z
UID:10006554-1788183000-1788186600@www.passamaquoddylodge.ca
SUMMARY:Crafts
DESCRIPTION:
URL:https://www.passamaquoddylodge.ca/event/crafts-9/2026-08-31/
END:VEVENT
BEGIN:VEVENT
DTSTART;TZID=America/Halifax:20260907T133000
DTEND;TZID=America/Halifax:20260907T143000
DTSTAMP:20260421T182002
CREATED:20260202T182719Z
LAST-MODIFIED:20260202T182946Z
UID:10006685-1788787800-1788791400@www.passamaquoddylodge.ca
SUMMARY:Crafts
DESCRIPTION:
URL:https://www.passamaquoddylodge.ca/event/crafts-9/2026-09-07/
END:VEVENT
BEGIN:VEVENT
DTSTART;TZID=America/Halifax:20260914T133000
DTEND;TZID=America/Halifax:20260914T143000
DTSTAMP:20260421T182002
CREATED:20260202T182719Z
LAST-MODIFIED:20260202T182946Z
UID:10006555-1789392600-1789396200@www.passamaquoddylodge.ca
SUMMARY:Crafts
DESCRIPTION:
URL:https://www.passamaquoddylodge.ca/event/crafts-9/2026-09-14/
END:VEVENT
BEGIN:VEVENT
DTSTART;TZID=America/Halifax:20260921T133000
DTEND;TZID=America/Halifax:20260921T143000
DTSTAMP:20260421T182002
CREATED:20260202T182719Z
LAST-MODIFIED:20260202T182946Z
UID:10006686-1789997400-1790001000@www.passamaquoddylodge.ca
SUMMARY:Crafts
DESCRIPTION:
URL:https://www.passamaquoddylodge.ca/event/crafts-9/2026-09-21/
END:VEVENT
BEGIN:VEVENT
DTSTART;TZID=America/Halifax:20260928T133000
DTEND;TZID=America/Halifax:20260928T143000
DTSTAMP:20260421T182002
CREATED:20260202T182719Z
LAST-MODIFIED:20260202T182946Z
UID:10006556-1790602200-1790605800@www.passamaquoddylodge.ca
SUMMARY:Crafts
DESCRIPTION:
URL:https://www.passamaquoddylodge.ca/event/crafts-9/2026-09-28/
END:VEVENT
BEGIN:VEVENT
DTSTART;TZID=America/Halifax:20261005T133000
DTEND;TZID=America/Halifax:20261005T143000
DTSTAMP:20260421T182002
CREATED:20260202T182719Z
LAST-MODIFIED:20260202T182946Z
UID:10006687-1791207000-1791210600@www.passamaquoddylodge.ca
SUMMARY:Crafts
DESCRIPTION:
URL:https://www.passamaquoddylodge.ca/event/crafts-9/2026-10-05/
END:VEVENT
BEGIN:VEVENT
DTSTART;TZID=America/Halifax:20261012T133000
DTEND;TZID=America/Halifax:20261012T143000
DTSTAMP:20260421T182002
CREATED:20260202T182719Z
LAST-MODIFIED:20260202T182946Z
UID:10006557-1791811800-1791815400@www.passamaquoddylodge.ca
SUMMARY:Crafts
DESCRIPTION:
URL:https://www.passamaquoddylodge.ca/event/crafts-9/2026-10-12/
END:VEVENT
BEGIN:VEVENT
DTSTART;TZID=America/Halifax:20261019T133000
DTEND;TZID=America/Halifax:20261019T143000
DTSTAMP:20260421T182002
CREATED:20260202T182719Z
LAST-MODIFIED:20260202T182946Z
UID:10006688-1792416600-1792420200@www.passamaquoddylodge.ca
SUMMARY:Crafts
DESCRIPTION:
URL:https://www.passamaquoddylodge.ca/event/crafts-9/2026-10-19/
END:VEVENT
BEGIN:VEVENT
DTSTART;TZID=America/Halifax:20261026T133000
DTEND;TZID=America/Halifax:20261026T143000
DTSTAMP:20260421T182002
CREATED:20260202T182719Z
LAST-MODIFIED:20260202T182946Z
UID:10006558-1793021400-1793025000@www.passamaquoddylodge.ca
SUMMARY:Crafts
DESCRIPTION:
URL:https://www.passamaquoddylodge.ca/event/crafts-9/2026-10-26/
END:VEVENT
BEGIN:VEVENT
DTSTART;TZID=America/Halifax:20261102T133000
DTEND;TZID=America/Halifax:20261102T143000
DTSTAMP:20260421T182002
CREATED:20260202T182719Z
LAST-MODIFIED:20260202T182946Z
UID:10006689-1793626200-1793629800@www.passamaquoddylodge.ca
SUMMARY:Crafts
DESCRIPTION:
URL:https://www.passamaquoddylodge.ca/event/crafts-9/2026-11-02/
END:VEVENT
BEGIN:VEVENT
DTSTART;TZID=America/Halifax:20261109T133000
DTEND;TZID=America/Halifax:20261109T143000
DTSTAMP:20260421T182002
CREATED:20260202T182719Z
LAST-MODIFIED:20260202T182946Z
UID:10006559-1794231000-1794234600@www.passamaquoddylodge.ca
SUMMARY:Crafts
DESCRIPTION:
URL:https://www.passamaquoddylodge.ca/event/crafts-9/2026-11-09/
END:VEVENT
BEGIN:VEVENT
DTSTART;TZID=America/Halifax:20261116T133000
DTEND;TZID=America/Halifax:20261116T143000
DTSTAMP:20260421T182002
CREATED:20260202T182719Z
LAST-MODIFIED:20260202T182946Z
UID:10006690-1794835800-1794839400@www.passamaquoddylodge.ca
SUMMARY:Crafts
DESCRIPTION:
URL:https://www.passamaquoddylodge.ca/event/crafts-9/2026-11-16/
END:VEVENT
END:VCALENDAR