BEGIN:VCALENDAR
VERSION:2.0
PRODID:-//Passamaquoddy Lodge - ECPv6.15.17.1//NONSGML v1.0//EN
CALSCALE:GREGORIAN
METHOD:PUBLISH
X-WR-CALNAME:Passamaquoddy Lodge
X-ORIGINAL-URL:https://www.passamaquoddylodge.ca
X-WR-CALDESC:Events for Passamaquoddy Lodge
REFRESH-INTERVAL;VALUE=DURATION:PT1H
X-Robots-Tag:noindex
X-PUBLISHED-TTL:PT1H
BEGIN:VTIMEZONE
TZID:America/Halifax
BEGIN:DAYLIGHT
TZOFFSETFROM:-0400
TZOFFSETTO:-0300
TZNAME:ADT
DTSTART:20250309T060000
END:DAYLIGHT
BEGIN:STANDARD
TZOFFSETFROM:-0300
TZOFFSETTO:-0400
TZNAME:AST
DTSTART:20251102T050000
END:STANDARD
BEGIN:DAYLIGHT
TZOFFSETFROM:-0400
TZOFFSETTO:-0300
TZNAME:ADT
DTSTART:20260308T060000
END:DAYLIGHT
BEGIN:STANDARD
TZOFFSETFROM:-0300
TZOFFSETTO:-0400
TZNAME:AST
DTSTART:20261101T050000
END:STANDARD
BEGIN:DAYLIGHT
TZOFFSETFROM:-0400
TZOFFSETTO:-0300
TZNAME:ADT
DTSTART:20270314T060000
END:DAYLIGHT
BEGIN:STANDARD
TZOFFSETFROM:-0300
TZOFFSETTO:-0400
TZNAME:AST
DTSTART:20271107T050000
END:STANDARD
BEGIN:DAYLIGHT
TZOFFSETFROM:-0400
TZOFFSETTO:-0300
TZNAME:ADT
DTSTART:20280312T060000
END:DAYLIGHT
BEGIN:STANDARD
TZOFFSETFROM:-0300
TZOFFSETTO:-0400
TZNAME:AST
DTSTART:20281105T050000
END:STANDARD
END:VTIMEZONE
BEGIN:VEVENT
DTSTART;TZID=America/Halifax:20260507T130000
DTEND;TZID=America/Halifax:20260507T134500
DTSTAMP:20260422T192017
CREATED:20260202T183905Z
LAST-MODIFIED:20260202T183905Z
UID:10007099-1778158800-1778161500@www.passamaquoddylodge.ca
SUMMARY:Reading Buddies
DESCRIPTION:
URL:https://www.passamaquoddylodge.ca/event/reading-buddies-12/2026-05-07/
END:VEVENT
BEGIN:VEVENT
DTSTART;TZID=America/Halifax:20260521T130000
DTEND;TZID=America/Halifax:20260521T134500
DTSTAMP:20260422T192017
CREATED:20260202T183905Z
LAST-MODIFIED:20260202T183905Z
UID:10007100-1779368400-1779371100@www.passamaquoddylodge.ca
SUMMARY:Reading Buddies
DESCRIPTION:
URL:https://www.passamaquoddylodge.ca/event/reading-buddies-12/2026-05-21/
END:VEVENT
BEGIN:VEVENT
DTSTART;TZID=America/Halifax:20260604T130000
DTEND;TZID=America/Halifax:20260604T134500
DTSTAMP:20260422T192017
CREATED:20260202T183905Z
LAST-MODIFIED:20260202T183905Z
UID:10007101-1780578000-1780580700@www.passamaquoddylodge.ca
SUMMARY:Reading Buddies
DESCRIPTION:
URL:https://www.passamaquoddylodge.ca/event/reading-buddies-12/2026-06-04/
END:VEVENT
BEGIN:VEVENT
DTSTART;TZID=America/Halifax:20260618T130000
DTEND;TZID=America/Halifax:20260618T134500
DTSTAMP:20260422T192017
CREATED:20260202T183905Z
LAST-MODIFIED:20260202T183905Z
UID:10007102-1781787600-1781790300@www.passamaquoddylodge.ca
SUMMARY:Reading Buddies
DESCRIPTION:
URL:https://www.passamaquoddylodge.ca/event/reading-buddies-12/2026-06-18/
END:VEVENT
BEGIN:VEVENT
DTSTART;TZID=America/Halifax:20260702T130000
DTEND;TZID=America/Halifax:20260702T134500
DTSTAMP:20260422T192017
CREATED:20260202T183905Z
LAST-MODIFIED:20260202T183905Z
UID:10007103-1782997200-1782999900@www.passamaquoddylodge.ca
SUMMARY:Reading Buddies
DESCRIPTION:
URL:https://www.passamaquoddylodge.ca/event/reading-buddies-12/2026-07-02/
END:VEVENT
BEGIN:VEVENT
DTSTART;TZID=America/Halifax:20260716T130000
DTEND;TZID=America/Halifax:20260716T134500
DTSTAMP:20260422T192017
CREATED:20260202T183905Z
LAST-MODIFIED:20260202T183905Z
UID:10007104-1784206800-1784209500@www.passamaquoddylodge.ca
SUMMARY:Reading Buddies
DESCRIPTION:
URL:https://www.passamaquoddylodge.ca/event/reading-buddies-12/2026-07-16/
END:VEVENT
BEGIN:VEVENT
DTSTART;TZID=America/Halifax:20260730T130000
DTEND;TZID=America/Halifax:20260730T134500
DTSTAMP:20260422T192017
CREATED:20260202T183905Z
LAST-MODIFIED:20260202T183905Z
UID:10007105-1785416400-1785419100@www.passamaquoddylodge.ca
SUMMARY:Reading Buddies
DESCRIPTION:
URL:https://www.passamaquoddylodge.ca/event/reading-buddies-12/2026-07-30/
END:VEVENT
BEGIN:VEVENT
DTSTART;TZID=America/Halifax:20260813T130000
DTEND;TZID=America/Halifax:20260813T134500
DTSTAMP:20260422T192017
CREATED:20260202T183905Z
LAST-MODIFIED:20260202T183905Z
UID:10007106-1786626000-1786628700@www.passamaquoddylodge.ca
SUMMARY:Reading Buddies
DESCRIPTION:
URL:https://www.passamaquoddylodge.ca/event/reading-buddies-12/2026-08-13/
END:VEVENT
BEGIN:VEVENT
DTSTART;TZID=America/Halifax:20260827T130000
DTEND;TZID=America/Halifax:20260827T134500
DTSTAMP:20260422T192017
CREATED:20260202T183905Z
LAST-MODIFIED:20260202T183905Z
UID:10007107-1787835600-1787838300@www.passamaquoddylodge.ca
SUMMARY:Reading Buddies
DESCRIPTION:
URL:https://www.passamaquoddylodge.ca/event/reading-buddies-12/2026-08-27/
END:VEVENT
BEGIN:VEVENT
DTSTART;TZID=America/Halifax:20260910T130000
DTEND;TZID=America/Halifax:20260910T134500
DTSTAMP:20260422T192017
CREATED:20260202T183905Z
LAST-MODIFIED:20260202T183905Z
UID:10007108-1789045200-1789047900@www.passamaquoddylodge.ca
SUMMARY:Reading Buddies
DESCRIPTION:
URL:https://www.passamaquoddylodge.ca/event/reading-buddies-12/2026-09-10/
END:VEVENT
BEGIN:VEVENT
DTSTART;TZID=America/Halifax:20260924T130000
DTEND;TZID=America/Halifax:20260924T134500
DTSTAMP:20260422T192017
CREATED:20260202T183905Z
LAST-MODIFIED:20260202T183905Z
UID:10007109-1790254800-1790257500@www.passamaquoddylodge.ca
SUMMARY:Reading Buddies
DESCRIPTION:
URL:https://www.passamaquoddylodge.ca/event/reading-buddies-12/2026-09-24/
END:VEVENT
BEGIN:VEVENT
DTSTART;TZID=America/Halifax:20261008T130000
DTEND;TZID=America/Halifax:20261008T134500
DTSTAMP:20260422T192017
CREATED:20260202T183905Z
LAST-MODIFIED:20260202T183905Z
UID:10007110-1791464400-1791467100@www.passamaquoddylodge.ca
SUMMARY:Reading Buddies
DESCRIPTION:
URL:https://www.passamaquoddylodge.ca/event/reading-buddies-12/2026-10-08/
END:VEVENT
BEGIN:VEVENT
DTSTART;TZID=America/Halifax:20261022T130000
DTEND;TZID=America/Halifax:20261022T134500
DTSTAMP:20260422T192017
CREATED:20260202T183905Z
LAST-MODIFIED:20260202T183905Z
UID:10007111-1792674000-1792676700@www.passamaquoddylodge.ca
SUMMARY:Reading Buddies
DESCRIPTION:
URL:https://www.passamaquoddylodge.ca/event/reading-buddies-12/2026-10-22/
END:VEVENT
BEGIN:VEVENT
DTSTART;TZID=America/Halifax:20261105T130000
DTEND;TZID=America/Halifax:20261105T134500
DTSTAMP:20260422T192017
CREATED:20260202T183905Z
LAST-MODIFIED:20260202T183905Z
UID:10007112-1793883600-1793886300@www.passamaquoddylodge.ca
SUMMARY:Reading Buddies
DESCRIPTION:
URL:https://www.passamaquoddylodge.ca/event/reading-buddies-12/2026-11-05/
END:VEVENT
BEGIN:VEVENT
DTSTART;TZID=America/Halifax:20261119T130000
DTEND;TZID=America/Halifax:20261119T134500
DTSTAMP:20260422T192017
CREATED:20260202T183905Z
LAST-MODIFIED:20260202T183905Z
UID:10007113-1795093200-1795095900@www.passamaquoddylodge.ca
SUMMARY:Reading Buddies
DESCRIPTION:
URL:https://www.passamaquoddylodge.ca/event/reading-buddies-12/2026-11-19/
END:VEVENT
BEGIN:VEVENT
DTSTART;TZID=America/Halifax:20261203T130000
DTEND;TZID=America/Halifax:20261203T134500
DTSTAMP:20260422T192017
CREATED:20260202T183905Z
LAST-MODIFIED:20260202T183905Z
UID:10007114-1796302800-1796305500@www.passamaquoddylodge.ca
SUMMARY:Reading Buddies
DESCRIPTION:
URL:https://www.passamaquoddylodge.ca/event/reading-buddies-12/2026-12-03/
END:VEVENT
BEGIN:VEVENT
DTSTART;TZID=America/Halifax:20261217T130000
DTEND;TZID=America/Halifax:20261217T134500
DTSTAMP:20260422T192017
CREATED:20260202T183905Z
LAST-MODIFIED:20260202T183905Z
UID:10007115-1797512400-1797515100@www.passamaquoddylodge.ca
SUMMARY:Reading Buddies
DESCRIPTION:
URL:https://www.passamaquoddylodge.ca/event/reading-buddies-12/2026-12-17/
END:VEVENT
BEGIN:VEVENT
DTSTART;TZID=America/Halifax:20261231T130000
DTEND;TZID=America/Halifax:20261231T134500
DTSTAMP:20260422T192017
CREATED:20260202T183905Z
LAST-MODIFIED:20260202T183905Z
UID:10007116-1798722000-1798724700@www.passamaquoddylodge.ca
SUMMARY:Reading Buddies
DESCRIPTION:
URL:https://www.passamaquoddylodge.ca/event/reading-buddies-12/2026-12-31/
END:VEVENT
BEGIN:VEVENT
DTSTART;TZID=America/Halifax:20270114T130000
DTEND;TZID=America/Halifax:20270114T134500
DTSTAMP:20260422T192017
CREATED:20260202T183905Z
LAST-MODIFIED:20260202T183905Z
UID:10007117-1799931600-1799934300@www.passamaquoddylodge.ca
SUMMARY:Reading Buddies
DESCRIPTION:
URL:https://www.passamaquoddylodge.ca/event/reading-buddies-12/2027-01-14/
END:VEVENT
BEGIN:VEVENT
DTSTART;TZID=America/Halifax:20270128T130000
DTEND;TZID=America/Halifax:20270128T134500
DTSTAMP:20260422T192017
CREATED:20260202T183905Z
LAST-MODIFIED:20260202T183905Z
UID:10007118-1801141200-1801143900@www.passamaquoddylodge.ca
SUMMARY:Reading Buddies
DESCRIPTION:
URL:https://www.passamaquoddylodge.ca/event/reading-buddies-12/2027-01-28/
END:VEVENT
BEGIN:VEVENT
DTSTART;TZID=America/Halifax:20270211T130000
DTEND;TZID=America/Halifax:20270211T134500
DTSTAMP:20260422T192017
CREATED:20260202T183905Z
LAST-MODIFIED:20260202T183905Z
UID:10007119-1802350800-1802353500@www.passamaquoddylodge.ca
SUMMARY:Reading Buddies
DESCRIPTION:
URL:https://www.passamaquoddylodge.ca/event/reading-buddies-12/2027-02-11/
END:VEVENT
BEGIN:VEVENT
DTSTART;TZID=America/Halifax:20270225T130000
DTEND;TZID=America/Halifax:20270225T134500
DTSTAMP:20260422T192017
CREATED:20260202T183905Z
LAST-MODIFIED:20260202T183905Z
UID:10007120-1803560400-1803563100@www.passamaquoddylodge.ca
SUMMARY:Reading Buddies
DESCRIPTION:
URL:https://www.passamaquoddylodge.ca/event/reading-buddies-12/2027-02-25/
END:VEVENT
BEGIN:VEVENT
DTSTART;TZID=America/Halifax:20270311T130000
DTEND;TZID=America/Halifax:20270311T134500
DTSTAMP:20260422T192017
CREATED:20260202T183905Z
LAST-MODIFIED:20260202T183905Z
UID:10007121-1804770000-1804772700@www.passamaquoddylodge.ca
SUMMARY:Reading Buddies
DESCRIPTION:
URL:https://www.passamaquoddylodge.ca/event/reading-buddies-12/2027-03-11/
END:VEVENT
BEGIN:VEVENT
DTSTART;TZID=America/Halifax:20270325T130000
DTEND;TZID=America/Halifax:20270325T134500
DTSTAMP:20260422T192017
CREATED:20260202T183905Z
LAST-MODIFIED:20260202T183905Z
UID:10007122-1805979600-1805982300@www.passamaquoddylodge.ca
SUMMARY:Reading Buddies
DESCRIPTION:
URL:https://www.passamaquoddylodge.ca/event/reading-buddies-12/2027-03-25/
END:VEVENT
BEGIN:VEVENT
DTSTART;TZID=America/Halifax:20270408T130000
DTEND;TZID=America/Halifax:20270408T134500
DTSTAMP:20260422T192017
CREATED:20260202T183905Z
LAST-MODIFIED:20260202T183905Z
UID:10007123-1807189200-1807191900@www.passamaquoddylodge.ca
SUMMARY:Reading Buddies
DESCRIPTION:
URL:https://www.passamaquoddylodge.ca/event/reading-buddies-12/2027-04-08/
END:VEVENT
BEGIN:VEVENT
DTSTART;TZID=America/Halifax:20270422T130000
DTEND;TZID=America/Halifax:20270422T134500
DTSTAMP:20260422T192017
CREATED:20260202T183905Z
LAST-MODIFIED:20260202T183905Z
UID:10007124-1808398800-1808401500@www.passamaquoddylodge.ca
SUMMARY:Reading Buddies
DESCRIPTION:
URL:https://www.passamaquoddylodge.ca/event/reading-buddies-12/2027-04-22/
END:VEVENT
BEGIN:VEVENT
DTSTART;TZID=America/Halifax:20270506T130000
DTEND;TZID=America/Halifax:20270506T134500
DTSTAMP:20260422T192017
CREATED:20260202T183905Z
LAST-MODIFIED:20260202T183905Z
UID:10007125-1809608400-1809611100@www.passamaquoddylodge.ca
SUMMARY:Reading Buddies
DESCRIPTION:
URL:https://www.passamaquoddylodge.ca/event/reading-buddies-12/2027-05-06/
END:VEVENT
BEGIN:VEVENT
DTSTART;TZID=America/Halifax:20270520T130000
DTEND;TZID=America/Halifax:20270520T134500
DTSTAMP:20260422T192017
CREATED:20260202T183905Z
LAST-MODIFIED:20260202T183905Z
UID:10007126-1810818000-1810820700@www.passamaquoddylodge.ca
SUMMARY:Reading Buddies
DESCRIPTION:
URL:https://www.passamaquoddylodge.ca/event/reading-buddies-12/2027-05-20/
END:VEVENT
BEGIN:VEVENT
DTSTART;TZID=America/Halifax:20270603T130000
DTEND;TZID=America/Halifax:20270603T134500
DTSTAMP:20260422T192017
CREATED:20260202T183905Z
LAST-MODIFIED:20260202T183905Z
UID:10007127-1812027600-1812030300@www.passamaquoddylodge.ca
SUMMARY:Reading Buddies
DESCRIPTION:
URL:https://www.passamaquoddylodge.ca/event/reading-buddies-12/2027-06-03/
END:VEVENT
BEGIN:VEVENT
DTSTART;TZID=America/Halifax:20270617T130000
DTEND;TZID=America/Halifax:20270617T134500
DTSTAMP:20260422T192017
CREATED:20260202T183905Z
LAST-MODIFIED:20260202T183905Z
UID:10007128-1813237200-1813239900@www.passamaquoddylodge.ca
SUMMARY:Reading Buddies
DESCRIPTION:
URL:https://www.passamaquoddylodge.ca/event/reading-buddies-12/2027-06-17/
END:VEVENT
END:VCALENDAR